BEGIN:VCALENDAR
VERSION:2.0
PRODID:-//Ehige - ECPv6.15.20//NONSGML v1.0//EN
CALSCALE:GREGORIAN
METHOD:PUBLISH
X-WR-CALNAME:Ehige
X-ORIGINAL-URL:https://www.ehige.eus/eu/
X-WR-CALDESC:Events for Ehige
REFRESH-INTERVAL;VALUE=DURATION:PT1H
X-Robots-Tag:noindex
X-PUBLISHED-TTL:PT1H
BEGIN:VTIMEZONE
TZID:Europe/Madrid
BEGIN:DAYLIGHT
TZOFFSETFROM:+0100
TZOFFSETTO:+0200
TZNAME:CEST
DTSTART:20240331T010000
END:DAYLIGHT
BEGIN:STANDARD
TZOFFSETFROM:+0200
TZOFFSETTO:+0100
TZNAME:CET
DTSTART:20241027T010000
END:STANDARD
BEGIN:DAYLIGHT
TZOFFSETFROM:+0100
TZOFFSETTO:+0200
TZNAME:CEST
DTSTART:20250330T010000
END:DAYLIGHT
BEGIN:STANDARD
TZOFFSETFROM:+0200
TZOFFSETTO:+0100
TZNAME:CET
DTSTART:20251026T010000
END:STANDARD
BEGIN:DAYLIGHT
TZOFFSETFROM:+0100
TZOFFSETTO:+0200
TZNAME:CEST
DTSTART:20260329T010000
END:DAYLIGHT
BEGIN:STANDARD
TZOFFSETFROM:+0200
TZOFFSETTO:+0100
TZNAME:CET
DTSTART:20261025T010000
END:STANDARD
END:VTIMEZONE
BEGIN:VEVENT
DTSTART;TZID=Europe/Madrid:20250206T164500
DTEND;TZID=Europe/Madrid:20250206T181500
DTSTAMP:20260420T161901
CREATED:20250204T100219Z
LAST-MODIFIED:20250204T100231Z
UID:36299-1738860300-1738865700@www.ehige.eus
SUMMARY:Guraso Eskola Bilbao: Indautxu eskola
DESCRIPTION:
URL:https://www.ehige.eus/eu/event/guraso-eskola-bilbao-indautxu-eskola-3/
CATEGORIES:Formación
ATTACH;FMTTYPE=image/jpeg:https://www.ehige.eus/wp-content/uploads/2025/02/Indautxu-otsailak-6.jpg
ORGANIZER;CN="BIGE":MAILTO:bige@bige.eus
END:VEVENT
BEGIN:VEVENT
DTSTART;TZID=Europe/Madrid:20250207T090000
DTEND;TZID=Europe/Madrid:20250207T200000
DTSTAMP:20260420T161901
CREATED:20250123T144731Z
LAST-MODIFIED:20250123T145656Z
UID:36181-1738918800-1738958400@www.ehige.eus
SUMMARY:KomunitateAGO: Euskal Eskola Publikoa elkarrekin eraikitzen
DESCRIPTION:Otsailaren  7an  “KomunitateAGO\,  Euskal  Eskola  Publikoa  elkarrekin  eraikitzen”  jardunaldia  egingo  dugu  Gasteizeko  Salburua  gizarte  etxean. \nPasa  den  abenduan  “Eskola-kontseilua  ebaluatzeko  eta  hobetzeko  tresna”  izeneko  dokumentua  osatu  genuen  EHIGE  eta  Heizek\,  gure  eskola  eta  institutuetako  parte-hartze  prozesuei  buruzko  hausnarketa  sustatzea  helburu  zuen  ekarpen  xumea. \nHainbat  konturi  buruz  gogoeta  eginarazi  nahi  genuen  dokumentu  horrekin:  hezkuntza-komunitatearen  parte-hartzea  sustatzea  eta  bereziki  egoera  ahulean  dauden  kideena\,  espazio  ez-formalen  garrantzia\,  hala  nola  lan-espazio  abegikorrak  eta  eraginkorrak  sortzea. \nEsperientzia  horretatik  abiatuta\,  hurrengo  pausu  bat  proposatzen  dizuegu:  elkarrekin  aurrez  aurre  hausnartzea  hezkuntza-komunitatearen  parte-hartzeak  dituen  zailtasunei  eta  indarguneei  buruz.  Behin  hori  eginda\,  ikastetxe  parte-hartzaileagoak  egiteko  tresnak  bilduko  ditugu \n-Deskargatu  triptikoa: \n-Eman  izena! \n 
URL:https://www.ehige.eus/eu/event/komunitateago-euskal-eskola-publikoa-elkarrekin-eraikitzen/
ATTACH;FMTTYPE=image/jpeg:https://www.ehige.eus/wp-content/uploads/2025/01/EHIGE.jpg
END:VEVENT
BEGIN:VEVENT
DTSTART;TZID=Europe/Madrid:20250210T164500
DTEND;TZID=Europe/Madrid:20250210T181500
DTSTAMP:20260420T161901
CREATED:20250204T101920Z
LAST-MODIFIED:20250204T101940Z
UID:36353-1739205900-1739211300@www.ehige.eus
SUMMARY:Guraso Eskola Bilbao: Iruarteta eskola
DESCRIPTION:
URL:https://www.ehige.eus/eu/event/guraso-eskola-bilbao-iruarteta-eskola-4/
CATEGORIES:Formación
ATTACH;FMTTYPE=image/jpeg:https://www.ehige.eus/wp-content/uploads/2025/02/Iruarteta-otsailak-10.jpg
ORGANIZER;CN="BIGE":MAILTO:bige@bige.eus
END:VEVENT
BEGIN:VEVENT
DTSTART;TZID=Europe/Madrid:20250212T164500
DTEND;TZID=Europe/Madrid:20250212T181500
DTSTAMP:20260420T161901
CREATED:20250204T100759Z
LAST-MODIFIED:20250204T100834Z
UID:36317-1739378700-1739384100@www.ehige.eus
SUMMARY:Guraso Eskola Bilbao: Luis Briñas eskola
DESCRIPTION:
URL:https://www.ehige.eus/eu/event/guraso-eskola-bilbao-luis-brinas-eskola-4/
CATEGORIES:Formación
ATTACH;FMTTYPE=image/jpeg:https://www.ehige.eus/wp-content/uploads/2025/02/Brinas-otsailak-12.jpg
ORGANIZER;CN="BIGE":MAILTO:bige@bige.eus
END:VEVENT
BEGIN:VEVENT
DTSTART;TZID=Europe/Madrid:20250213T164500
DTEND;TZID=Europe/Madrid:20250213T181500
DTSTAMP:20260420T161901
CREATED:20250204T101321Z
LAST-MODIFIED:20250204T101334Z
UID:36329-1739465100-1739470500@www.ehige.eus
SUMMARY:Guraso Eskola Bilbao: Basurto eskola
DESCRIPTION:
URL:https://www.ehige.eus/eu/event/guraso-eskola-bilbao-basurto-eskola-4/
CATEGORIES:Formación
ATTACH;FMTTYPE=image/jpeg:https://www.ehige.eus/wp-content/uploads/2025/02/Basurto-otsailak-13.jpg
ORGANIZER;CN="BIGE":MAILTO:bige@bige.eus
END:VEVENT
BEGIN:VEVENT
DTSTART;TZID=Europe/Madrid:20250214T150000
DTEND;TZID=Europe/Madrid:20250214T163000
DTSTAMP:20260420T161901
CREATED:20250204T102414Z
LAST-MODIFIED:20250204T102425Z
UID:36371-1739545200-1739550600@www.ehige.eus
SUMMARY:Guraso Eskola Bilbao: Arangoiti eskola
DESCRIPTION:
URL:https://www.ehige.eus/eu/event/guraso-eskola-bilbao-arangoiti-eskola/
CATEGORIES:Formación
ATTACH;FMTTYPE=image/jpeg:https://www.ehige.eus/wp-content/uploads/2025/02/Arangoiti-O-14.jpg
ORGANIZER;CN="BIGE":MAILTO:bige@bige.eus
END:VEVENT
BEGIN:VEVENT
DTSTART;TZID=Europe/Madrid:20250220T164500
DTEND;TZID=Europe/Madrid:20250220T181500
DTSTAMP:20260420T161901
CREATED:20250204T100438Z
LAST-MODIFIED:20250204T100501Z
UID:36305-1740069900-1740075300@www.ehige.eus
SUMMARY:Guraso Eskola Bilbao: Indautxu eskola
DESCRIPTION:
URL:https://www.ehige.eus/eu/event/guraso-eskola-bilbao-indautxu-eskola-4/
CATEGORIES:Formación
ATTACH;FMTTYPE=image/jpeg:https://www.ehige.eus/wp-content/uploads/2025/02/Indautxu-otsailak-20.jpg
ORGANIZER;CN="BIGE":MAILTO:bige@bige.eus
END:VEVENT
BEGIN:VEVENT
DTSTART;TZID=Europe/Madrid:20250224T164500
DTEND;TZID=Europe/Madrid:20250224T181500
DTSTAMP:20260420T161901
CREATED:20250204T101821Z
LAST-MODIFIED:20250204T101831Z
UID:36347-1740415500-1740420900@www.ehige.eus
SUMMARY:Guraso Eskola Bilbao: Iruarteta eskola
DESCRIPTION:
URL:https://www.ehige.eus/eu/event/guraso-eskola-bilbao-iruarteta-eskola-3/
CATEGORIES:Formación
ATTACH;FMTTYPE=image/jpeg:https://www.ehige.eus/wp-content/uploads/2025/02/Iruarteta-otsailak-24.jpg
ORGANIZER;CN="BIGE":MAILTO:bige@bige.eus
END:VEVENT
BEGIN:VEVENT
DTSTART;TZID=Europe/Madrid:20250227T164500
DTEND;TZID=Europe/Madrid:20250227T181500
DTSTAMP:20260420T161901
CREATED:20250204T101453Z
LAST-MODIFIED:20250204T101505Z
UID:36335-1740674700-1740680100@www.ehige.eus
SUMMARY:Guraso Eskola Bilbao: Basurto eskola
DESCRIPTION:
URL:https://www.ehige.eus/eu/event/guraso-eskola-bilbao-basurto-eskola-5/
CATEGORIES:Formación
ATTACH;FMTTYPE=image/jpeg:https://www.ehige.eus/wp-content/uploads/2025/02/Basurto-otsailak-27.jpg
ORGANIZER;CN="BIGE":MAILTO:bige@bige.eus
END:VEVENT
END:VCALENDAR