BEGIN:VCALENDAR
VERSION:2.0
PRODID:-//Ehige - ECPv6.15.20//NONSGML v1.0//EN
CALSCALE:GREGORIAN
METHOD:PUBLISH
X-WR-CALNAME:Ehige
X-ORIGINAL-URL:https://www.ehige.eus/eu/
X-WR-CALDESC:Events for Ehige
REFRESH-INTERVAL;VALUE=DURATION:PT1H
X-Robots-Tag:noindex
X-PUBLISHED-TTL:PT1H
BEGIN:VTIMEZONE
TZID:Europe/Madrid
BEGIN:DAYLIGHT
TZOFFSETFROM:+0100
TZOFFSETTO:+0200
TZNAME:CEST
DTSTART:20230326T010000
END:DAYLIGHT
BEGIN:STANDARD
TZOFFSETFROM:+0200
TZOFFSETTO:+0100
TZNAME:CET
DTSTART:20231029T010000
END:STANDARD
BEGIN:DAYLIGHT
TZOFFSETFROM:+0100
TZOFFSETTO:+0200
TZNAME:CEST
DTSTART:20240331T010000
END:DAYLIGHT
BEGIN:STANDARD
TZOFFSETFROM:+0200
TZOFFSETTO:+0100
TZNAME:CET
DTSTART:20241027T010000
END:STANDARD
BEGIN:DAYLIGHT
TZOFFSETFROM:+0100
TZOFFSETTO:+0200
TZNAME:CEST
DTSTART:20250330T010000
END:DAYLIGHT
BEGIN:STANDARD
TZOFFSETFROM:+0200
TZOFFSETTO:+0100
TZNAME:CET
DTSTART:20251026T010000
END:STANDARD
END:VTIMEZONE
BEGIN:VEVENT
DTSTART;TZID=Europe/Madrid:20241202T164500
DTEND;TZID=Europe/Madrid:20241202T181500
DTSTAMP:20260420T161858
CREATED:20241128T105924Z
LAST-MODIFIED:20241128T105933Z
UID:35207-1733157900-1733163300@www.ehige.eus
SUMMARY:Guraso Eskola Bilbao: Iruarteta eskola
DESCRIPTION:
URL:https://www.ehige.eus/eu/event/guraso-eskola-bilbao-iruarteta-eskola-2/
CATEGORIES:Formación
ATTACH;FMTTYPE=image/jpeg:https://www.ehige.eus/wp-content/uploads/2024/11/iruarteta-2-1.jpg
ORGANIZER;CN="BIGE":MAILTO:bige@bige.eus
END:VEVENT
BEGIN:VEVENT
DTSTART;TZID=Europe/Madrid:20241204T164500
DTEND;TZID=Europe/Madrid:20241204T181500
DTSTAMP:20260420T161858
CREATED:20241128T110152Z
LAST-MODIFIED:20241128T110202Z
UID:35213-1733330700-1733336100@www.ehige.eus
SUMMARY:Guraso Eskola Bilbao: Luis Briñas eskola
DESCRIPTION:
URL:https://www.ehige.eus/eu/event/guraso-eskola-bilbao-luis-brinas-eskola-2/
CATEGORIES:Formación
ATTACH;FMTTYPE=image/jpeg:https://www.ehige.eus/wp-content/uploads/2024/11/LUIS-BRINAS-a4.jpg
ORGANIZER;CN="BIGE":MAILTO:bige@bige.eus
END:VEVENT
BEGIN:VEVENT
DTSTART;TZID=Europe/Madrid:20241205T173000
DTEND;TZID=Europe/Madrid:20241205T190000
DTSTAMP:20260420T161858
CREATED:20241129T094729Z
LAST-MODIFIED:20241129T094738Z
UID:35257-1733419800-1733425200@www.ehige.eus
SUMMARY:Guraso Eskola Bilbao: IES San Inazio BHI
DESCRIPTION:
URL:https://www.ehige.eus/eu/event/guraso-eskola-bilbao-ies-san-inazio-bhi/
CATEGORIES:Formación
ATTACH;FMTTYPE=image/jpeg:https://www.ehige.eus/wp-content/uploads/2024/11/SAN-INAZIO-AB5.jpg
ORGANIZER;CN="BIGE":MAILTO:bige@bige.eus
END:VEVENT
BEGIN:VEVENT
DTSTART;TZID=Europe/Madrid:20241216T164500
DTEND;TZID=Europe/Madrid:20241216T184500
DTSTAMP:20260420T161858
CREATED:20241128T110452Z
LAST-MODIFIED:20241128T110524Z
UID:35226-1734367500-1734374700@www.ehige.eus
SUMMARY:Guraso Eskola Bilbao: Iruarteta eskola
DESCRIPTION:
URL:https://www.ehige.eus/eu/event/guraso-eskola-bilba-iruarteta-eskola/
CATEGORIES:Formación
ATTACH;FMTTYPE=image/jpeg:https://www.ehige.eus/wp-content/uploads/2024/11/iruarteta-AB16.jpg
ORGANIZER;CN="BIGE":MAILTO:bige@bige.eus
END:VEVENT
BEGIN:VEVENT
DTSTART;TZID=Europe/Madrid:20241218T164500
DTEND;TZID=Europe/Madrid:20241218T181500
DTSTAMP:20260420T161858
CREATED:20241128T110645Z
LAST-MODIFIED:20241128T110708Z
UID:35232-1734540300-1734545700@www.ehige.eus
SUMMARY:Guraso Eskola Bilbao: Luis Briñas eskola
DESCRIPTION:
URL:https://www.ehige.eus/eu/event/guraso-eskola-bilbao-luis-brinas-eskola-3/
CATEGORIES:Formación
ATTACH;FMTTYPE=image/jpeg:https://www.ehige.eus/wp-content/uploads/2024/11/brinas-ab18.jpg
ORGANIZER;CN="BIGE":MAILTO:bige@bige.eus
END:VEVENT
BEGIN:VEVENT
DTSTART;TZID=Europe/Madrid:20241219T164500
DTEND;TZID=Europe/Madrid:20241219T181500
DTSTAMP:20260420T161858
CREATED:20241128T110817Z
LAST-MODIFIED:20241128T110827Z
UID:35238-1734626700-1734632100@www.ehige.eus
SUMMARY:Guraso Eskola Bilbao: Indautxu eskola
DESCRIPTION:
URL:https://www.ehige.eus/eu/event/guraso-eskola-bilbao-indautxu-eskola-2/
CATEGORIES:Formación
ATTACH;FMTTYPE=image/jpeg:https://www.ehige.eus/wp-content/uploads/2024/11/INDAUTXU-AB19.jpg
ORGANIZER;CN="BIGE":MAILTO:bige@bige.eus
END:VEVENT
END:VCALENDAR