BEGIN:VCALENDAR
VERSION:2.0
PRODID:-//Ehige - ECPv6.15.20//NONSGML v1.0//EN
CALSCALE:GREGORIAN
METHOD:PUBLISH
X-WR-CALNAME:Ehige
X-ORIGINAL-URL:https://www.ehige.eus/eu/
X-WR-CALDESC:Events for Ehige
REFRESH-INTERVAL;VALUE=DURATION:PT1H
X-Robots-Tag:noindex
X-PUBLISHED-TTL:PT1H
BEGIN:VTIMEZONE
TZID:Europe/Madrid
BEGIN:DAYLIGHT
TZOFFSETFROM:+0100
TZOFFSETTO:+0200
TZNAME:CEST
DTSTART:20190331T010000
END:DAYLIGHT
BEGIN:STANDARD
TZOFFSETFROM:+0200
TZOFFSETTO:+0100
TZNAME:CET
DTSTART:20191027T010000
END:STANDARD
BEGIN:DAYLIGHT
TZOFFSETFROM:+0100
TZOFFSETTO:+0200
TZNAME:CEST
DTSTART:20200329T010000
END:DAYLIGHT
BEGIN:STANDARD
TZOFFSETFROM:+0200
TZOFFSETTO:+0100
TZNAME:CET
DTSTART:20201025T010000
END:STANDARD
BEGIN:DAYLIGHT
TZOFFSETFROM:+0100
TZOFFSETTO:+0200
TZNAME:CEST
DTSTART:20210328T010000
END:DAYLIGHT
BEGIN:STANDARD
TZOFFSETFROM:+0200
TZOFFSETTO:+0100
TZNAME:CET
DTSTART:20211031T010000
END:STANDARD
END:VTIMEZONE
BEGIN:VEVENT
DTSTART;TZID=Europe/Madrid:20201103T173000
DTEND;TZID=Europe/Madrid:20201103T190000
DTSTAMP:20260419T144923
CREATED:20201102T102200Z
LAST-MODIFIED:20201102T102200Z
UID:17433-1604424600-1604430000@www.ehige.eus
SUMMARY:BIGE formakuntza: Seme-alabei laguntzen ikasketetan eta hizkuntzak bereganatze
DESCRIPTION:Azaroaren  3an\,  online  saioa  bat  egingo  ditugu  familientzat\,  seme-alabei  ikasketetan  eta  euskararen  ikaskuntzan  laguntzeko.  Iñaki  Eizmendi  elebitasuna  sustatzen  eskarmentu  handia  duen  gizarte-hezitzaileak  lagunduko  digu  lan  garrantzitsu  horretan. \nSaioa  “Seme-alabei  laguntzen  ikasketetan  eta  hizkuntzak  bereganatzen”  deituko  da  eta  euskara  ezagutu  eta  erabiltzen  duten  familiei  zuzenduta  egongo  da.  Saioan\,  gure  seme-alabek  eguneroko  bizitzan  euskara  gehiago  erabil  dezaten  nola  lagundu  aztertuko  da. \nKasu  honetan hitzaldia  euskaraz  egingo  da.  Parte  hartu  nahi  baduzu\,  esteka  honetan  eman  behar  duzu  izena: https://forms.gle/kn1NmvS3tUiDgHXb6
URL:https://www.ehige.eus/eu/event/bige-formakuntza-seme-alabei-laguntzen-ikasketetan-eta-hizkuntzak-bereganatze/
ATTACH;FMTTYPE=image/jpeg:https://www.ehige.eus/wp-content/uploads/2020/10/Inaki-Eizmendi.jpg
END:VEVENT
BEGIN:VEVENT
DTSTART;TZID=Europe/Madrid:20201112T090000
DTEND;TZID=Europe/Madrid:20201113T183000
DTSTAMP:20260419T144923
CREATED:20201014T083808Z
LAST-MODIFIED:20201014T095648Z
UID:17119-1605171600-1605292200@www.ehige.eus
SUMMARY:Mahai-ingurua: Euskararen herria\, euskal hiztun
DESCRIPTION:Kontseiluak  antolatu  duen  “Euskararen  herria  euskal  hiztun”  jardunaldietan  parte  hartuko  dugu  azaroaren  12an\,  “Hezkuntzaren  oraina  eta  etorkizuna:  zer  eta  nola  egin  ikasleen  gaitasunetan  eragiteko  eta  belaunaldi  berri  euskaldun  (aktibo)  eleaniztunak  erdiesteko?”  mahai-inguruan. \nInformazio  gehiago  hemen. \nIkusi  gidaliburua  hemen.
URL:https://www.ehige.eus/eu/event/mahai-ingurua-euskararen-herria-euskal-hiztun/
LOCATION:Bilbo
ATTACH;FMTTYPE=image/jpeg:https://www.ehige.eus/wp-content/uploads/2020/10/euskararen-herria-euskal-hiztun.jpg
END:VEVENT
BEGIN:VEVENT
DTSTART;VALUE=DATE:20201125
DTEND;VALUE=DATE:20201127
DTSTAMP:20260419T144923
CREATED:20201023T080014Z
LAST-MODIFIED:20201023T105259Z
UID:13283-1606262400-1606435199@www.ehige.eus
SUMMARY:Eskola Digitalaren 6. Jardunaldiak
DESCRIPTION:Azaroaren  25  eta  26ean ospatuko  ditugu  pasa  den  martxoan  bertan  behera  geratu  ziren Eskola  Digitalaren 6.  Jardunaldiak.  Pandemiak  hezkuntza  sistemari  eta  ikaskuntza  prozesuei  eragindako  lurrikaratik  haratago\,  eskola-komunitateek\,  hezkuntzaren  hobekuntzan  inplikatutako  eragile  guztiekin  batera\,  ​etorkizuneko  eskola  irudikatu  nahi  dugu  6.  jardunaldi  hauetan\,  XXI.  mendeko  erronkei  aurre  egiteko  ikasleek  behar  dituzten  gaitasunak  garatzen  lagunduko  diena. \nBost ardatz  kontzeptual hauetan  oinarrituko  dira  jarduera  guztiak  (adituen  hitzaldiak\,  ikastetxeetako  esperientziak  eta  tailer  praktikoak): \n\nInklusio  digitala\nZer  ikasi  dugu  konfinamentuan?\nIkastetxeak\,  toki  seguruak.\nEuskara  ingurune  digitalean.\nIkerkuntza\,  hobekuntzaren  palanka  gisa.\n\nGorde  egunak  eta  joango  gara  informazioa  ematen!
URL:https://www.ehige.eus/eu/event/eskola-hezkuntza-digitalaren-6-topaketak/
ATTACH;FMTTYPE=image/jpeg:https://www.ehige.eus/wp-content/uploads/2020/10/Irudiak-2020-154.jpg
END:VEVENT
END:VCALENDAR