BEGIN:VCALENDAR
VERSION:2.0
PRODID:-//Ehige - ECPv6.15.20//NONSGML v1.0//EN
CALSCALE:GREGORIAN
METHOD:PUBLISH
X-WR-CALNAME:Ehige
X-ORIGINAL-URL:https://www.ehige.eus/eu/
X-WR-CALDESC:Events for Ehige
REFRESH-INTERVAL;VALUE=DURATION:PT1H
X-Robots-Tag:noindex
X-PUBLISHED-TTL:PT1H
BEGIN:VTIMEZONE
TZID:Europe/Madrid
BEGIN:DAYLIGHT
TZOFFSETFROM:+0100
TZOFFSETTO:+0200
TZNAME:CEST
DTSTART:20190331T010000
END:DAYLIGHT
BEGIN:STANDARD
TZOFFSETFROM:+0200
TZOFFSETTO:+0100
TZNAME:CET
DTSTART:20191027T010000
END:STANDARD
BEGIN:DAYLIGHT
TZOFFSETFROM:+0100
TZOFFSETTO:+0200
TZNAME:CEST
DTSTART:20200329T010000
END:DAYLIGHT
BEGIN:STANDARD
TZOFFSETFROM:+0200
TZOFFSETTO:+0100
TZNAME:CET
DTSTART:20201025T010000
END:STANDARD
BEGIN:DAYLIGHT
TZOFFSETFROM:+0100
TZOFFSETTO:+0200
TZNAME:CEST
DTSTART:20210328T010000
END:DAYLIGHT
BEGIN:STANDARD
TZOFFSETFROM:+0200
TZOFFSETTO:+0100
TZNAME:CET
DTSTART:20211031T010000
END:STANDARD
END:VTIMEZONE
BEGIN:VEVENT
DTSTART;TZID=Europe/Madrid:20200916T170000
DTEND;TZID=Europe/Madrid:20200916T190000
DTSTAMP:20260419T173608
CREATED:20200902T094031Z
LAST-MODIFIED:20200902T094031Z
UID:16394-1600275600-1600282800@www.ehige.eus
SUMMARY:BIGE formakuntza: Sortu zure facebook-profila
DESCRIPTION:BIGEk  doako  online  tailerrak  eskaintzen  dizkie  guraso-elkarteei  eta  familiei\,  gaitasun  digitala  eta  sare  sozialetako  presentzia  handitzeko. \nSortu  zure  facebook-profila:  facebook-eko  zure  profil  pertsonala  konfiguratzen  ikasiko  duzu\,  uneoro  zure  argitalpenen  kontrola  izan  dezazun  eta  zure  segurtasuna  zain  dezazun.  Irailaren  16an.  Tailerrak  2  orduko  iraupena  izango  du. \n 
URL:https://www.ehige.eus/eu/event/bige-formakuntza-sortu-zure-facebook-profila/
ATTACH;FMTTYPE=image/png:https://www.ehige.eus/wp-content/uploads/2020/07/1.png
END:VEVENT
BEGIN:VEVENT
DTSTART;TZID=Europe/Madrid:20200923T170000
DTEND;TZID=Europe/Madrid:20200923T190000
DTSTAMP:20260419T173608
CREATED:20200902T094716Z
LAST-MODIFIED:20200902T094727Z
UID:16403-1600880400-1600887600@www.ehige.eus
SUMMARY:BIGE formakuntza: Sortu guraso-elkartearen Facebook profila
DESCRIPTION:BIGEk  doako  online  tailerrak  eskaintzen  dizkie  guraso-elkarteei  eta  familiei\,  gaitasun  digitala  eta  sare  sozialetako  presentzia  handitzeko. \nSortu  guraso-elkartearen  Facebook  profila:  zure  guraso-elkartearen  Facebook  orria  modu  eraginkorrean  konfiguratzen  eta  kudeatzen  ikasiko  dugu.  Irailaren  23an\,  17:  00etatik  19:  00etara.
URL:https://www.ehige.eus/eu/event/bige-formakuntza-sortu-guraso-elkartearen-facebook-profila/
ATTACH;FMTTYPE=image/png:https://www.ehige.eus/wp-content/uploads/2020/07/1.png
END:VEVENT
BEGIN:VEVENT
DTSTART;TZID=Europe/Madrid:20200924T190000
DTEND;TZID=Europe/Madrid:20200924T220000
DTSTAMP:20260419T173608
CREATED:20200915T151036Z
LAST-MODIFIED:20200915T151139Z
UID:16629-1600974000-1600984800@www.ehige.eus
SUMMARY:Webinar: Larrialdi klimatikoa
DESCRIPTION:Irailaren  24an  “Ingurumen-hezkuntzaren  iragana  eta  oraina\,  argiak  eta  itzalak”  jardunaldia  ospatuko  da\,  CCOO  Irakaskuntzak  antolatuta. \nJabetzen  al  gara  planeta  uzten  ari  garen  egoeraz?  Zer  ekaroen  egin  dezakegu  Hezkuntzatik  birmoldaketa  hori  aldatzeko?  Gobernuak  larrialdi  klimatikoan  al  daude?  Norena  da  ingurumen-narriadura  geldiarazteko  neurri  irmoekin  jarduteko  erantzukizuna?  Garaiz  gaude?  Egin  al  dezakegu  ekarpenik  esparru  sindikaletik? \nParte  hartzeko  aldez  aurretik  izena  ematea  derrigorrezkoa  da.
URL:https://www.ehige.eus/eu/event/webinar-larrialdi-klimatikoa/
END:VEVENT
BEGIN:VEVENT
DTSTART;TZID=Europe/Madrid:20200926T100000
DTEND;TZID=Europe/Madrid:20200926T143000
DTSTAMP:20260419T173608
CREATED:20200911T074212Z
LAST-MODIFIED:20200915T065136Z
UID:16556-1601114400-1601130600@www.ehige.eus
SUMMARY:Jolastokia\, egin! Eraldaketa parte-hartzailerako gogoetak eta esperientziak
DESCRIPTION:Gasteizko  Odon  de  Apraiz  Ikastolak  “Jolastokia\,  egin!  Eraldaketa  parte-hartzailerako  gogoetak  eta  esperientziak”  jardunaldia  antolatu  du.  Egungo  egoera  medio\,  jardunaldia  irailaren  26an  egingo  da  online.  Izen-eman  ondoren\,  mezu  elektroniko  baten  bidez  helaraziko  zaizu  jardunaldian  sartzeko  esteka.  Hori  dela  eta\,  ziurtatu  helbide  elektronikoa  zuzen  idatzita  jaso  dela. \nIkusi  programa  hemen. \nGaldetegia  bete.  Hezkuntza-zentro  bakoitzeko  ordezkari  batek  bete  dezala  gomendatzen  da. \nIzena  emateko  bete  galdetegi  hau.
URL:https://www.ehige.eus/eu/event/jolastokia-egin-eraldaketa-parte-hartzailerako-gogoetak-eta-esperientziak/
END:VEVENT
BEGIN:VEVENT
DTSTART;TZID=Europe/Madrid:20200930T173000
DTEND;TZID=Europe/Madrid:20200930T190000
DTSTAMP:20260419T173608
CREATED:20200902T094939Z
LAST-MODIFIED:20200902T094939Z
UID:16405-1601487000-1601492400@www.ehige.eus
SUMMARY:BIGE formakuntza: Instagram tailerra
DESCRIPTION:BIGEk  doako  online  tailerrak  eskaintzen  dizkie  guraso-elkarteei  eta  familiei\,  gaitasun  digitala  eta  sare  sozialetako  presentzia  handitzeko. \nInstagram  tailerra:  zuen  kontua  profesionalki  konfiguratzen  ikasiko  dugu\,  bai  eta  kudeaketa  erraztuko  dizueten  hainbat  tresna  eta  aplikazio  erabiltzen  ere.  Tailerra  bi  egunetan  izango  da:  irailaren  30ean  eta  urriaren  7an.
URL:https://www.ehige.eus/eu/event/bige-formakuntza-instagram-tailerra/
ATTACH;FMTTYPE=image/png:https://www.ehige.eus/wp-content/uploads/2020/07/1.png
END:VEVENT
END:VCALENDAR