BEGIN:VCALENDAR
VERSION:2.0
PRODID:-//Ehige - ECPv6.15.20//NONSGML v1.0//EN
CALSCALE:GREGORIAN
METHOD:PUBLISH
X-WR-CALNAME:Ehige
X-ORIGINAL-URL:https://www.ehige.eus/eu/
X-WR-CALDESC:Events for Ehige
REFRESH-INTERVAL;VALUE=DURATION:PT1H
X-Robots-Tag:noindex
X-PUBLISHED-TTL:PT1H
BEGIN:VTIMEZONE
TZID:Europe/Madrid
BEGIN:DAYLIGHT
TZOFFSETFROM:+0100
TZOFFSETTO:+0200
TZNAME:CEST
DTSTART:20180325T010000
END:DAYLIGHT
BEGIN:STANDARD
TZOFFSETFROM:+0200
TZOFFSETTO:+0100
TZNAME:CET
DTSTART:20181028T010000
END:STANDARD
BEGIN:DAYLIGHT
TZOFFSETFROM:+0100
TZOFFSETTO:+0200
TZNAME:CEST
DTSTART:20190331T010000
END:DAYLIGHT
BEGIN:STANDARD
TZOFFSETFROM:+0200
TZOFFSETTO:+0100
TZNAME:CET
DTSTART:20191027T010000
END:STANDARD
BEGIN:DAYLIGHT
TZOFFSETFROM:+0100
TZOFFSETTO:+0200
TZNAME:CEST
DTSTART:20200329T010000
END:DAYLIGHT
BEGIN:STANDARD
TZOFFSETFROM:+0200
TZOFFSETTO:+0100
TZNAME:CET
DTSTART:20201025T010000
END:STANDARD
END:VTIMEZONE
BEGIN:VEVENT
DTSTART;TZID=Europe/Madrid:20191203T080000
DTEND;TZID=Europe/Madrid:20191203T170000
DTSTAMP:20260420T065336
CREATED:20191203T090514Z
LAST-MODIFIED:20191203T090514Z
UID:13652-1575360000-1575392400@www.ehige.eus
SUMMARY:Euskal Eskola Publikoaz Harro!
DESCRIPTION:Vitoria-Gasteizko  euskal  eskola  publikoaren  aldeko  plataformak  Euskal  Eskola  Publikoaz  Harro!  kanpaina  aurkeztu  du.  Haren  barruan  hainbat  ekimen  eta  mobilizazio  garatuko  dira  ikasturte  osoan  zehar  eta  haien  artean  EHIGEk  sinatu  duen  manifestua  nabarmendu  behar  da\,  ikastetxe  eta  Guraso  Elkarte  guztien  atxikimendua  bilatuko  duena  hain  zuzen  ere. \nInformazio  guztia  ondoko  estekan  aurkituko  duzue: \nhttp://www.plataformaeskolapublik
URL:https://www.ehige.eus/eu/event/euskal-eskola-publikoaz-harro/
ATTACH;FMTTYPE=image/jpeg:https://www.ehige.eus/wp-content/uploads/2019/12/20191202_105609-e1575365110834.jpg
END:VEVENT
BEGIN:VEVENT
DTSTART;TZID=Europe/Madrid:20191204T170000
DTEND;TZID=Europe/Madrid:20191204T200000
DTSTAMP:20260420T065336
CREATED:20191126T111703Z
LAST-MODIFIED:20191126T111703Z
UID:13598-1575478800-1575489600@www.ehige.eus
SUMMARY:Formakuntza: plastikorik gabe bizi
DESCRIPTION:Abenduaren  4an\,  17:00etan\,  Plastikorik  gabe  bizi  formakuntza  eskeiniko  da  Zallako  Mimetiz  HLHIn.
URL:https://www.ehige.eus/eu/event/formakuntza-plastikorik-gabe-bizi/
ATTACH;FMTTYPE=image/jpeg:https://www.ehige.eus/wp-content/uploads/2019/11/Mimetiz-banner-abenduak-4.jpg
END:VEVENT
BEGIN:VEVENT
DTSTART;TZID=Europe/Madrid:20191212T090000
DTEND;TZID=Europe/Madrid:20191212T190000
DTSTAMP:20260420T065336
CREATED:20191126T112752Z
LAST-MODIFIED:20191126T112752Z
UID:13601-1576141200-1576177200@www.ehige.eus
SUMMARY:HEIZEko VIII. Jardunaldi Pedagogikoak
DESCRIPTION:HEIZE Euskal  Eskola  Publikoaren  Zuzendaritza  Elkarteen  Federazioak  “EHU  hezkuntza  ikerketa  aplikatua  ikastetxeen  hobekuntzan”  izeneko VIII  Jardunaldi  Pedagogikoak ospatuko  ditu  abenduaren  12an  EHUko  Barriola  zentroa\,  Donostian.
URL:https://www.ehige.eus/eu/event/heizeko-viii-jardunaldi-pedagogikoak/
ATTACH;FMTTYPE=image/png:https://www.ehige.eus/wp-content/uploads/2018/10/heize.png
END:VEVENT
END:VCALENDAR