BEGIN:VCALENDAR
VERSION:2.0
PRODID:-//Ehige - ECPv6.15.20//NONSGML v1.0//EN
CALSCALE:GREGORIAN
METHOD:PUBLISH
X-WR-CALNAME:Ehige
X-ORIGINAL-URL:https://www.ehige.eus/eu/
X-WR-CALDESC:Events for Ehige
REFRESH-INTERVAL;VALUE=DURATION:PT1H
X-Robots-Tag:noindex
X-PUBLISHED-TTL:PT1H
BEGIN:VTIMEZONE
TZID:Europe/Madrid
BEGIN:DAYLIGHT
TZOFFSETFROM:+0100
TZOFFSETTO:+0200
TZNAME:CEST
DTSTART:20180325T010000
END:DAYLIGHT
BEGIN:STANDARD
TZOFFSETFROM:+0200
TZOFFSETTO:+0100
TZNAME:CET
DTSTART:20181028T010000
END:STANDARD
BEGIN:DAYLIGHT
TZOFFSETFROM:+0100
TZOFFSETTO:+0200
TZNAME:CEST
DTSTART:20190331T010000
END:DAYLIGHT
BEGIN:STANDARD
TZOFFSETFROM:+0200
TZOFFSETTO:+0100
TZNAME:CET
DTSTART:20191027T010000
END:STANDARD
BEGIN:DAYLIGHT
TZOFFSETFROM:+0100
TZOFFSETTO:+0200
TZNAME:CEST
DTSTART:20200329T010000
END:DAYLIGHT
BEGIN:STANDARD
TZOFFSETFROM:+0200
TZOFFSETTO:+0100
TZNAME:CET
DTSTART:20201025T010000
END:STANDARD
END:VTIMEZONE
BEGIN:VEVENT
DTSTART;TZID=Europe/Madrid:20190514T100000
DTEND;TZID=Europe/Madrid:20190514T120000
DTSTAMP:20260421T044621
CREATED:20190306T125744Z
LAST-MODIFIED:20190306T130424Z
UID:7961-1557828000-1557835200@www.ehige.eus
SUMMARY:MUXUA (BBK Hezkuntza antzerkiak)
DESCRIPTION:MUXUA  (Tanttaka)  DBH  Gaia:  sexu-identitatea\nLorenzok  15  urte  ditu\,  eta  umezurztegia  utzi  eta  abegi-familia  batekin  bizitzera  joan  da\, Italiako  hiri  txiki  batera.  Han\,  Antoniorekin  maiteminduko  da.  Antoniok  sentimenduak adierazteko  zailtasunak  ditu\,  eta  ez  daki  nola  erantzun  Lorenzok  erakutsitako  afektuari.\nElena\,  berari  falta  zaion  adorea  ikasleei  emateko  gogotsu  dagoen  irakaslea\,  horren testigu  izango  da. \nData:  Maiatzak  14  (asteartea)\nNon:  BBK  gelan  (Gran  Vía  19-21;  Bilbao)\nSaioak:  10:00etan  eta  12:00etan\nAdina:  12  urte \nEuskaraz \nApuntatzeko.
URL:https://www.ehige.eus/eu/event/muxua-bbk-hezkuntza-antzerkiak/
ATTACH;FMTTYPE=image/jpeg:https://www.ehige.eus/wp-content/uploads/2019/03/MUXUA.jpg
END:VEVENT
BEGIN:VEVENT
DTSTART;VALUE=DATE:20190404
DTEND;VALUE=DATE:20190415
DTSTAMP:20260421T044621
CREATED:20190326T153201Z
LAST-MODIFIED:20190326T153358Z
UID:8874-1554336000-1555286399@www.ehige.eus
SUMMARY:Korrika 21
DESCRIPTION:Del  4  al  14  de  abril  se  celebrará  la  21  edición  de  Korrika  bajo  el  lema  “Klika”.  Comenzará  en  Gares  y  acabará  en  Gasteiz.  Más  información:  www.korrika.eus
URL:https://www.ehige.eus/eu/event/korrika-21/
END:VEVENT
BEGIN:VEVENT
DTSTART;TZID=Europe/Madrid:20190313T170000
DTEND;TZID=Europe/Madrid:20190313T183000
DTSTAMP:20260421T044621
CREATED:20190306T131340Z
LAST-MODIFIED:20190306T131340Z
UID:7970-1552496400-1552501800@www.ehige.eus
SUMMARY:Cómo ayudarles con las tareas escolares... si no sabemos euskera. Berango-Merana ikastetxea.
DESCRIPTION:
URL:https://www.ehige.eus/eu/event/como-ayudarles-con-las-tareas-escolares-si-no-sabemos-euskera-berango-merana-ikastetxea/
LOCATION:CEIP  Berango  Merana  HLHI\, Berango
END:VEVENT
END:VCALENDAR