BEGIN:VCALENDAR
VERSION:2.0
PRODID:-//Ehige - ECPv6.15.20//NONSGML v1.0//EN
CALSCALE:GREGORIAN
METHOD:PUBLISH
X-ORIGINAL-URL:https://www.ehige.eus/eu/
X-WR-CALDESC:Events for Ehige
REFRESH-INTERVAL;VALUE=DURATION:PT1H
X-Robots-Tag:noindex
X-PUBLISHED-TTL:PT1H
BEGIN:VTIMEZONE
TZID:Europe/Madrid
BEGIN:DAYLIGHT
TZOFFSETFROM:+0100
TZOFFSETTO:+0200
TZNAME:CEST
DTSTART:20200329T010000
END:DAYLIGHT
BEGIN:STANDARD
TZOFFSETFROM:+0200
TZOFFSETTO:+0100
TZNAME:CET
DTSTART:20201025T010000
END:STANDARD
BEGIN:DAYLIGHT
TZOFFSETFROM:+0100
TZOFFSETTO:+0200
TZNAME:CEST
DTSTART:20210328T010000
END:DAYLIGHT
BEGIN:STANDARD
TZOFFSETFROM:+0200
TZOFFSETTO:+0100
TZNAME:CET
DTSTART:20211031T010000
END:STANDARD
BEGIN:DAYLIGHT
TZOFFSETFROM:+0100
TZOFFSETTO:+0200
TZNAME:CEST
DTSTART:20220327T010000
END:DAYLIGHT
BEGIN:STANDARD
TZOFFSETFROM:+0200
TZOFFSETTO:+0100
TZNAME:CET
DTSTART:20221030T010000
END:STANDARD
BEGIN:DAYLIGHT
TZOFFSETFROM:+0100
TZOFFSETTO:+0200
TZNAME:CEST
DTSTART:20230326T010000
END:DAYLIGHT
BEGIN:STANDARD
TZOFFSETFROM:+0200
TZOFFSETTO:+0100
TZNAME:CET
DTSTART:20231029T010000
END:STANDARD
BEGIN:DAYLIGHT
TZOFFSETFROM:+0100
TZOFFSETTO:+0200
TZNAME:CEST
DTSTART:20240331T010000
END:DAYLIGHT
BEGIN:STANDARD
TZOFFSETFROM:+0200
TZOFFSETTO:+0100
TZNAME:CET
DTSTART:20241027T010000
END:STANDARD
END:VTIMEZONE
BEGIN:VEVENT
DTSTART;TZID=Europe/Madrid:20230424T145000
DTEND;TZID=Europe/Madrid:20230424T162000
DTSTAMP:20260424T094720
CREATED:20230418T074626Z
LAST-MODIFIED:20230418T074755Z
UID:29140-1682347800-1682353200@www.ehige.eus
SUMMARY:BIGE: Guraso Eskola Tiboli eskolan
DESCRIPTION:
URL:https://www.ehige.eus/eu/event/bige-guraso-eskola-tiboli-eskolan/
CATEGORIES:Formación
ORGANIZER;CN="BIGE":MAILTO:bige@bige.eus
END:VEVENT
BEGIN:VEVENT
DTSTART;TZID=Europe/Madrid:20230421T150000
DTEND;TZID=Europe/Madrid:20230421T163000
DTSTAMP:20260424T094720
CREATED:20230418T072901Z
LAST-MODIFIED:20230418T073710Z
UID:29132-1682089200-1682094600@www.ehige.eus
SUMMARY:BIGE: Guraso Eskola Intxixu ikastolan
DESCRIPTION:
URL:https://www.ehige.eus/eu/event/bige-guraso-eskola-intxixu-ikastolan/
CATEGORIES:Formación
ORGANIZER;CN="BIGE":MAILTO:bige@bige.eus
END:VEVENT
BEGIN:VEVENT
DTSTART;TZID=Europe/Madrid:20230419T180000
DTEND;TZID=Europe/Madrid:20230419T193000
DTSTAMP:20260424T094720
CREATED:20230418T081048Z
LAST-MODIFIED:20230418T081323Z
UID:29164-1681927200-1681932600@www.ehige.eus
SUMMARY:BIGE: Guraso Eskola Ibarrekolanda institutuan
DESCRIPTION:
URL:https://www.ehige.eus/eu/event/bige-guraso-eskola-ibarrekolanda-institutuan/
CATEGORIES:Formación
ORGANIZER;CN="BIGE":MAILTO:bige@bige.eus
END:VEVENT
BEGIN:VEVENT
DTSTART;TZID=Europe/Madrid:20230327T170000
DTEND;TZID=Europe/Madrid:20230327T183000
DTSTAMP:20260424T094720
CREATED:20230321T100537Z
LAST-MODIFIED:20230321T100659Z
UID:28821-1679936400-1679941800@www.ehige.eus
SUMMARY:BIGE formakuntza: OOG familien ordezkariak
DESCRIPTION:
URL:https://www.ehige.eus/eu/event/formacion-bige-omr-representantes-de-las-familias/
CATEGORIES:Formación
END:VEVENT
BEGIN:VEVENT
DTSTART;TZID=Europe/Madrid:20230215T180000
DTEND;TZID=Europe/Madrid:20230215T193000
DTSTAMP:20260424T094720
CREATED:20230202T114255Z
LAST-MODIFIED:20230202T114314Z
UID:27758-1676484000-1676489400@www.ehige.eus
SUMMARY:BIGE: Guraso Eskola San Adrian institutuan
DESCRIPTION:
URL:https://www.ehige.eus/eu/event/bige-guraso-eskola-san-adrian-institutuan/
CATEGORIES:Formación
END:VEVENT
BEGIN:VEVENT
DTSTART;TZID=Europe/Madrid:20230214T173000
DTEND;TZID=Europe/Madrid:20230214T190000
DTSTAMP:20260424T094720
CREATED:20230202T114109Z
LAST-MODIFIED:20230202T114134Z
UID:27754-1676395800-1676401200@www.ehige.eus
SUMMARY:BIGE: Guraso Eskola Unamuno institutuan
DESCRIPTION:
URL:https://www.ehige.eus/eu/event/bige-guraso-eskola-unamuno-institutuan/
CATEGORIES:Formación
END:VEVENT
BEGIN:VEVENT
DTSTART;TZID=Europe/Madrid:20230208T150000
DTEND;TZID=Europe/Madrid:20230208T163000
DTSTAMP:20260424T094720
CREATED:20230202T113204Z
LAST-MODIFIED:20230202T113257Z
UID:27738-1675868400-1675873800@www.ehige.eus
SUMMARY:BIGE: Guraso Eskola Deustuko eskolan
DESCRIPTION:
URL:https://www.ehige.eus/eu/event/bige-guraso-eskola-deustuko-eskolan/
CATEGORIES:Formación
END:VEVENT
BEGIN:VEVENT
DTSTART;TZID=Europe/Madrid:20230208T091500
DTEND;TZID=Europe/Madrid:20230208T104500
DTSTAMP:20260424T094720
CREATED:20230202T113757Z
LAST-MODIFIED:20230202T114601Z
UID:27750-1675847700-1675853100@www.ehige.eus
SUMMARY:BIGE: Guraso Eskola Zamakola eskolan
DESCRIPTION:
URL:https://www.ehige.eus/eu/event/bige-guraso-eskola-zamakola-eskolan/
CATEGORIES:Formación
END:VEVENT
BEGIN:VEVENT
DTSTART;TZID=Europe/Madrid:20230207T150000
DTEND;TZID=Europe/Madrid:20230207T163000
DTSTAMP:20260424T094720
CREATED:20230202T113437Z
LAST-MODIFIED:20230202T113457Z
UID:27742-1675782000-1675787400@www.ehige.eus
SUMMARY:BIGE: Guraso Eskola Iruarteta eskolan
DESCRIPTION:
URL:https://www.ehige.eus/eu/event/bige-guraso-eskola-iruarteta-eskolan/
CATEGORIES:Formación
END:VEVENT
BEGIN:VEVENT
DTSTART;TZID=Europe/Madrid:20230206T150000
DTEND;TZID=Europe/Madrid:20230206T163000
DTSTAMP:20260424T094720
CREATED:20230202T113622Z
LAST-MODIFIED:20230202T114417Z
UID:27746-1675695600-1675701000@www.ehige.eus
SUMMARY:BIGE: Guraso Eskola Pagasarribide ikastetxean
DESCRIPTION:
URL:https://www.ehige.eus/eu/event/bige-guraso-eskola-pagasarribide-ikastetxean/
CATEGORIES:Formación
END:VEVENT
BEGIN:VEVENT
DTSTART;TZID=Europe/Madrid:20230119T180000
DTEND;TZID=Europe/Madrid:20230119T190000
DTSTAMP:20260424T094720
CREATED:20230112T111616Z
LAST-MODIFIED:20230112T111733Z
UID:27442-1674151200-1674154800@www.ehige.eus
SUMMARY:BIGE: Bilboko Udalaren dirulaguntzen prestakuntza
DESCRIPTION:
URL:https://www.ehige.eus/eu/event/bige-formacion-subvenciones-ayto-bilbao/
CATEGORIES:Formación
ORGANIZER;CN="BIGE":MAILTO:bige@bige.eus
END:VEVENT
BEGIN:VEVENT
DTSTART;TZID=Europe/Madrid:20221212T150000
DTEND;TZID=Europe/Madrid:20221212T163000
DTSTAMP:20260424T094720
CREATED:20221110T091021Z
LAST-MODIFIED:20221110T105642Z
UID:25915-1670857200-1670862600@www.ehige.eus
SUMMARY:BIGE: Cervantes guraso eskola. Nola pentsatzen eta sentitzen dute umeek.
DESCRIPTION:NOLA  PENTSATZEN  ETA  SENTITZEN  DUTE  UMEEK \n\n\n\nGure  seme-alaben  eboluzio  etapak.  Zer  espero  dezakegu?  zer  behar  dute?\nNola  erantzun  bere  erronkei\n\n\n  \n\n\nHEZKUNTZA  EMOZIONALA  FAMILIAN \n\nZer  dakigu  emozioei  buruz?  Zer  emozio  transmititzen  dizkiegu  gure  seme-alabei?  Sentimenduak:  entzun  eta  transmititu \n\n—  CERVANTES  ESKOLA  —
URL:https://www.ehige.eus/eu/event/bige-formacion-como-piensan-y-sienten-los-ninos-y-ninas-educacion-emocional-en-familia-2/
CATEGORIES:Formación
ATTACH;FMTTYPE=image/jpeg:https://www.ehige.eus/wp-content/uploads/2022/11/CERVANTES-guraso-eskola_CAS.jpg
ORGANIZER;CN="BIGE":MAILTO:bige@bige.eus
END:VEVENT
BEGIN:VEVENT
DTSTART;TZID=Europe/Madrid:20221205T150000
DTEND;TZID=Europe/Madrid:20221205T163000
DTSTAMP:20260424T094720
CREATED:20221110T090411Z
LAST-MODIFIED:20221110T110037Z
UID:25909-1670252400-1670257800@www.ehige.eus
SUMMARY:BIGE: Cervantes guraso eskola. Hezkuntza emozionala familian.
DESCRIPTION:NOLA  PENTSATZEN  ETA  SENTITZEN  DUTE  UMEEK \n\n\n\nGure  seme-alaben  eboluzio  etapak.  Zer  espero  dezakegu?  zer  behar  dute?\nNola  erantzun  bere  erronkei\n\n\n  \n\n\nHEZKUNTZA  EMOZIONALA  FAMILIAN \n\nZer  dakigu  emozioei  buruz?  Zer  emozio  transmititzen  dizkiegu  gure  seme-alabei?  Sentimenduak:  entzun  eta  transmititu \n\n—  CERVANTES  ESKOLA  —
URL:https://www.ehige.eus/eu/event/bige-formacion-como-piensan-y-sienten-los-ninos-y-ninas-educacion-emocional-en-familia/
CATEGORIES:Formación
ATTACH;FMTTYPE=image/jpeg:https://www.ehige.eus/wp-content/uploads/2022/11/CERVANTES-guraso-eskola_CAS.jpg
ORGANIZER;CN="BIGE":MAILTO:bige@bige.eus
END:VEVENT
BEGIN:VEVENT
DTSTART;TZID=Europe/Madrid:20221124T173000
DTEND;TZID=Europe/Madrid:20221124T193000
DTSTAMP:20260424T094720
CREATED:20221007T103249Z
LAST-MODIFIED:20221110T110121Z
UID:25496-1669311000-1669318200@www.ehige.eus
SUMMARY:BIGE: IGEentzako CANVA tailerra II
DESCRIPTION:Irudi  batek  mila  hitzek  baino  gehiago  balio  duelako…  tailer  honetan  irudi  deigarriak  sortzen  ikasiko  duzue\,  gero  zuen  sare  sozialetan  partekatzeko. \nBi  eguneko  tailerra  izango  da:  azaroaren  22an  eta  24an. \nAnima  zaitezte!!
URL:https://www.ehige.eus/eu/event/igeentzako-canva-tailerra-ii/
CATEGORIES:Formación
ORGANIZER;CN="BIGE":MAILTO:bige@bige.eus
END:VEVENT
BEGIN:VEVENT
DTSTART;TZID=Europe/Madrid:20221122T173000
DTEND;TZID=Europe/Madrid:20221122T193000
DTSTAMP:20260424T094720
CREATED:20221007T103037Z
LAST-MODIFIED:20221110T110304Z
UID:25494-1669138200-1669145400@www.ehige.eus
SUMMARY:BIGE: IGEentzako CANVA tailerra I
DESCRIPTION:Irudi  batek  mila  hitzek  baino  gehiago  balio  duelako…  tailer  honetan  irudi  deigarriak  sortzen  ikasiko  duzue\,  gero  zuen  sare  sozialetan  partekatzeko. \nBi  eguneko  tailerra  izango  da:  azaroaren  22an  eta  24an \nAnima  zaitezte!!
URL:https://www.ehige.eus/eu/event/taller-de-canva-para-las-ampa-i/
CATEGORIES:Formación
ORGANIZER;CN="BIGE":MAILTO:bige@bige.eus
END:VEVENT
BEGIN:VEVENT
DTSTART;TZID=Europe/Madrid:20221121T150000
DTEND;TZID=Europe/Madrid:20221121T163000
DTSTAMP:20260424T094720
CREATED:20221110T093754Z
LAST-MODIFIED:20221110T110441Z
UID:25928-1669042800-1669048200@www.ehige.eus
SUMMARY:BIGE: Cervantes guraso eskola. Hezkuntza emozionala familian.
DESCRIPTION:NOLA  PENTSATZEN  ETA  SENTITZEN  DUTE  UMEEK \n\n\n\nGure  seme-alaben  eboluzio  etapak.  Zer  espero  dezakegu?  zer  behar  dute?\nNola  erantzun  bere  erronkei\n\n\n  \n\n\nHEZKUNTZA  EMOZIONALA  FAMILIAN \n\nZer  dakigu  emozioei  buruz?  Zer  emozio  transmititzen  dizkiegu  gure  seme-alabei?  Sentimenduak:  entzun  eta  transmititu \n\n—  CERVANTES  ESKOLA  —
URL:https://www.ehige.eus/eu/event/bige-formacion-como-piensan-y-sienten-los-ninos-y-ninas-educacion-emocional-en-familia-3/
CATEGORIES:Formación
ATTACH;FMTTYPE=image/jpeg:https://www.ehige.eus/wp-content/uploads/2022/11/CERVANTES-guraso-eskola_CAS.jpg
ORGANIZER;CN="BIGE":MAILTO:bige@bige.eus
END:VEVENT
BEGIN:VEVENT
DTSTART;TZID=Europe/Madrid:20221027T173000
DTEND;TZID=Europe/Madrid:20221027T193000
DTSTAMP:20260424T094720
CREATED:20221007T085259Z
LAST-MODIFIED:20221007T085429Z
UID:25489-1666891800-1666899000@www.ehige.eus
SUMMARY:INSTAGRAM tailerra IGEentzako II
DESCRIPTION:Zure  IGEak  sare  sozialetan  ikusgarritasuna  izatea  nahi  duzu  eta  ez  dakizu  nola  egin? \nTailer  honetan  Instagram  nola  kudeatu  erakutsiko  dizugu! \nTailerrak  bi  eguneko  iraupena  du:  urriak  20  eta  27
URL:https://www.ehige.eus/eu/event/taller-de-instagram-para-las-ampa-ii/
CATEGORIES:Formación
ORGANIZER;CN="BIGE":MAILTO:bige@bige.eus
END:VEVENT
BEGIN:VEVENT
DTSTART;TZID=Europe/Madrid:20221020T173000
DTEND;TZID=Europe/Madrid:20221020T193000
DTSTAMP:20260424T094720
CREATED:20221007T084723Z
LAST-MODIFIED:20221007T103819Z
UID:25484-1666287000-1666294200@www.ehige.eus
SUMMARY:IGEentzako INSTAGRAM tailerra I
DESCRIPTION:Zure  IGEak  sare  sozialetan  ikusgarritasuna  izatea  nahi  duzu  eta  ez  dakizu  nola  egin? \nTailer  honetan  irakatsiko  dizugu  nola  erabili  Instagram! \nBi  eguneko  tailerra  da.
URL:https://www.ehige.eus/eu/event/taller-de-instagram-para-las-ampa/
CATEGORIES:Formación
ORGANIZER;CN="BIGE":MAILTO:bige@bige.eus
END:VEVENT
BEGIN:VEVENT
DTSTART;TZID=Europe/Madrid:20220929T173000
DTEND;TZID=Europe/Madrid:20220929T193000
DTSTAMP:20260424T094721
CREATED:20220927T085952Z
LAST-MODIFIED:20220927T090436Z
UID:25414-1664472600-1664479800@www.ehige.eus
SUMMARY:Taller de Facebook para las AMPA
DESCRIPTION:
URL:https://www.ehige.eus/eu/event/taller-de-facebook-para-las-ampa/
CATEGORIES:Formación
ORGANIZER;CN="BIGE":MAILTO:bige@bige.eus
END:VEVENT
BEGIN:VEVENT
DTSTART;TZID=Europe/Madrid:20220530T173000
DTEND;TZID=Europe/Madrid:20220530T190000
DTSTAMP:20260424T094721
CREATED:20220524T102651Z
LAST-MODIFIED:20220524T102723Z
UID:24437-1653931800-1653937200@www.ehige.eus
SUMMARY:Formación: Convivencia saludable de nuestros hijos e hijas con sus iguales
DESCRIPTION:Detectar\,  observar\,  actuar \nVacilar  Vs  Vacilarse \nAsunción  y  resolución  de  problemas
URL:https://www.ehige.eus/eu/event/formacion-convivencia-saludable-de-nuestros-hijos-e-hijas-con-sus-iguales/
CATEGORIES:Formación
ATTACH;FMTTYPE=image/jpeg:https://www.ehige.eus/wp-content/uploads/2022/05/Ellacuria-Zurbaran.jpg
END:VEVENT
BEGIN:VEVENT
DTSTART;TZID=Europe/Madrid:20220119T173000
DTEND;TZID=Europe/Madrid:20220119T190000
DTSTAMP:20260424T094721
CREATED:20220103T114756Z
LAST-MODIFIED:20220103T122409Z
UID:22482-1642613400-1642618800@www.ehige.eus
SUMMARY:BIGE formakuntza: IGEentzako fiskalitatea (gazteleraz)
DESCRIPTION:Fiskalitateari  buruzko  doako  bi  prestakuntza  saio  prestatu  ditugu  BIGEn\,  federatuta  dauden  IGEentzat\,  erabilgarriak  izango  direlakoan.  Formazioak  online  egingo  dira  arratsaldeko  5:30etan  urtarrilaren  19an\,  gazteleraz\,  eta  urtarrilaren  20an\,  euskaraz.  Prestakuntzen  edukiak  ezagutu  nahi  badituzu\,  sartu  albistean  eta  eman  izena. \nHauek  dira  prestatu  ditugun  prestakuntza  saioetan  landuko  ditugun  edukiak: \nKudeaketa  ekonomikoa: \n–  IGE  baten  liburuak  eta   kontuak \n–  Fakturazioa \n  \nFiskalitatea  IGEetan: \n–  Errolda-betebeharrak  (IFZ  eta  036  eredua)  eta  EJZ \n–  PFEZ  (atxikipen  profesionalak\,  110  eta  190  ereduak) \n–  347  eredua \n–  BEZ \n–  Sozietateen  gaineko  zerga \n  \nParte  hartzeko\,  inskripzio  formularioa  bete: \nhttps://docs.google.com/forms/d/e/1FAIpQLScFcucGFTOI-EaXk6o_1jOd47mfEls6WIwAJ-oNEHBsjY-oCw/viewform \n  \nIGE  bakoitzeko  gehienez  bi  pertsona.
URL:https://www.ehige.eus/eu/event/formacion-bige-fiscalidad-para-las-ampa/
LOCATION:Online
CATEGORIES:Formación
ORGANIZER;CN="BIGE":MAILTO:bige@bige.eus
END:VEVENT
BEGIN:VEVENT
DTSTART;TZID=Europe/Madrid:20210617T173000
DTEND;TZID=Europe/Madrid:20210617T183000
DTSTAMP:20260424T094721
CREATED:20210607T102916Z
LAST-MODIFIED:20210607T104540Z
UID:20413-1623951000-1623954600@www.ehige.eus
SUMMARY:BIGE formakuntza: Eusko Jaurlaritzaren dirulaguntzak
DESCRIPTION:Urtero  bezala\,  BIGEk  Eusko  Jaurlaritzaren  dirulaguntzari  buruzko  prestakuntza  eskainiko  du.  Aurtengo  nobedadeak  azalduko  dira\,  baita  eskaera  egiteko  eta  justifikatzeko  egin  beharreko  urratsak  ere. \nGaztelaniazko  prestakuntza:  ekainak  15\,  asteartea\,  17:  30etan \nEuskarazko  prestakuntza:  ekainak  17\,  osteguna\,  17:  30etan \nGehienez  bi  lagunek  eman  ahal  izango  dute  izena  elkarte  bakoitzeko.
URL:https://www.ehige.eus/eu/event/formacion-bige-gobierno-vasco-copy/
CATEGORIES:Formación
ATTACH;FMTTYPE=image/jpeg:https://www.ehige.eus/wp-content/uploads/2021/06/subvencionesGV2021.jpg
ORGANIZER;CN="BIGE":MAILTO:bige@bige.eus
END:VEVENT
BEGIN:VEVENT
DTSTART;TZID=Europe/Madrid:20210615T173000
DTEND;TZID=Europe/Madrid:20210615T183000
DTSTAMP:20260424T094721
CREATED:20210607T103543Z
LAST-MODIFIED:20210607T104400Z
UID:20408-1623778200-1623781800@www.ehige.eus
SUMMARY:BIGE formakuntza: Eusko Jaurlaritzaren dirulaguntzak
DESCRIPTION:Urtero  bezala\,  BIGEk  Eusko  Jaurlaritzaren  dirulaguntzari  buruzko  prestakuntza  eskainiko  du.  Aurtengo  nobedadeak  azalduko  dira\,  baita  eskaera  egiteko  eta  justifikatzeko  egin  beharreko  urratsak  ere. \nGaztelaniazko  prestakuntza:  ekainak  15\,  asteartea\,  17:  30etan \nEuskarazko  prestakuntza:  ekainak  17\,  osteguna\,  17:  30etan \nGehienez  bi  lagunek  eman  ahal  izango  dute  izena  elkarte  bakoitzeko. \n 
URL:https://www.ehige.eus/eu/event/formacion-bige-gobierno-vasco/
CATEGORIES:Formación
ATTACH;FMTTYPE=image/jpeg:https://www.ehige.eus/wp-content/uploads/2021/06/subvencionesGV2021.jpg
ORGANIZER;CN="BIGE":MAILTO:bige@bige.eus
END:VEVENT
END:VCALENDAR