BEGIN:VCALENDAR
VERSION:2.0
PRODID:-//Ehige - ECPv6.15.20//NONSGML v1.0//EN
CALSCALE:GREGORIAN
METHOD:PUBLISH
X-ORIGINAL-URL:https://www.ehige.eus/eu/
X-WR-CALDESC:Events for Ehige
REFRESH-INTERVAL;VALUE=DURATION:PT1H
X-Robots-Tag:noindex
X-PUBLISHED-TTL:PT1H
BEGIN:VTIMEZONE
TZID:Europe/Madrid
BEGIN:DAYLIGHT
TZOFFSETFROM:+0100
TZOFFSETTO:+0200
TZNAME:CEST
DTSTART:20220327T010000
END:DAYLIGHT
BEGIN:STANDARD
TZOFFSETFROM:+0200
TZOFFSETTO:+0100
TZNAME:CET
DTSTART:20221030T010000
END:STANDARD
BEGIN:DAYLIGHT
TZOFFSETFROM:+0100
TZOFFSETTO:+0200
TZNAME:CEST
DTSTART:20230326T010000
END:DAYLIGHT
BEGIN:STANDARD
TZOFFSETFROM:+0200
TZOFFSETTO:+0100
TZNAME:CET
DTSTART:20231029T010000
END:STANDARD
BEGIN:DAYLIGHT
TZOFFSETFROM:+0100
TZOFFSETTO:+0200
TZNAME:CEST
DTSTART:20240331T010000
END:DAYLIGHT
BEGIN:STANDARD
TZOFFSETFROM:+0200
TZOFFSETTO:+0100
TZNAME:CET
DTSTART:20241027T010000
END:STANDARD
BEGIN:DAYLIGHT
TZOFFSETFROM:+0100
TZOFFSETTO:+0200
TZNAME:CEST
DTSTART:20250330T010000
END:DAYLIGHT
BEGIN:STANDARD
TZOFFSETFROM:+0200
TZOFFSETTO:+0100
TZNAME:CET
DTSTART:20251026T010000
END:STANDARD
END:VTIMEZONE
BEGIN:VEVENT
DTSTART;TZID=Europe/Madrid:20240522T170000
DTEND;TZID=Europe/Madrid:20240522T190000
DTSTAMP:20260424T054614
CREATED:20240520T103127Z
LAST-MODIFIED:20240520T103138Z
UID:33222-1716397200-1716404400@www.ehige.eus
SUMMARY:BIGE guraso eskola: LUIS BRIÑAS eskolan
DESCRIPTION:
URL:https://www.ehige.eus/eu/event/bige-guraso-eskola-luis-brinas-eskolan/
CATEGORIES:Formación
ATTACH;FMTTYPE=image/jpeg:https://www.ehige.eus/wp-content/uploads/2024/05/Brinas-22.jpg
ORGANIZER;CN="BIGE":MAILTO:bige@bige.eus
END:VEVENT
BEGIN:VEVENT
DTSTART;TZID=Europe/Madrid:20240522T163000
DTEND;TZID=Europe/Madrid:20240522T183000
DTSTAMP:20260424T054614
CREATED:20240520T080818Z
LAST-MODIFIED:20240520T080839Z
UID:33210-1716395400-1716402600@www.ehige.eus
SUMMARY:BIGE guraso eskola: Zurbaran eskola
DESCRIPTION:
URL:https://www.ehige.eus/eu/event/bige-guraso-eskola-zurbaran-eskola/
CATEGORIES:Formación
ATTACH;FMTTYPE=image/jpeg:https://www.ehige.eus/wp-content/uploads/2024/05/zurbaran-qr.jpg
END:VEVENT
BEGIN:VEVENT
DTSTART;TZID=Europe/Madrid:20240516T164500
DTEND;TZID=Europe/Madrid:20240516T184500
DTSTAMP:20260424T054614
CREATED:20240506T085233Z
LAST-MODIFIED:20240506T085247Z
UID:33017-1715877900-1715885100@www.ehige.eus
SUMMARY:BIGE Guraso eskola: Basurto eskola
DESCRIPTION:
URL:https://www.ehige.eus/eu/event/bige-guraso-eskola-basurto-eskola/
CATEGORIES:Formación
ATTACH;FMTTYPE=image/jpeg:https://www.ehige.eus/wp-content/uploads/2024/05/BASURTO-3.jpg
ORGANIZER;CN="BIGE":MAILTO:bige@bige.eus
END:VEVENT
BEGIN:VEVENT
DTSTART;TZID=Europe/Madrid:20240514T150000
DTEND;TZID=Europe/Madrid:20240514T170000
DTSTAMP:20260424T054614
CREATED:20240506T085914Z
LAST-MODIFIED:20240506T085922Z
UID:33030-1715698800-1715706000@www.ehige.eus
SUMMARY:BIGE Guraso eskola: Iruarteta eskola
DESCRIPTION:
URL:https://www.ehige.eus/eu/event/bige-guraso-eskola-iruarteta-eskola/
CATEGORIES:Formación
ATTACH;FMTTYPE=image/jpeg:https://www.ehige.eus/wp-content/uploads/2024/05/IRUARTETA-2.jpg
ORGANIZER;CN="BIGE":MAILTO:bige@bige.eus
END:VEVENT
BEGIN:VEVENT
DTSTART;TZID=Europe/Madrid:20240513T150000
DTEND;TZID=Europe/Madrid:20240513T170000
DTSTAMP:20260424T054614
CREATED:20240503T071527Z
LAST-MODIFIED:20240507T084504Z
UID:32993-1715612400-1715619600@www.ehige.eus
SUMMARY:BIGE Guraso Eskola: Indautxu eskola
DESCRIPTION:
URL:https://www.ehige.eus/eu/event/bige-guraso-eskola-indautxu-eskola-2/
CATEGORIES:Formación
ATTACH;FMTTYPE=image/jpeg:https://www.ehige.eus/wp-content/uploads/2024/05/INDAUTXU-2.jpg
ORGANIZER;CN="BIGE":MAILTO:bige@bige.eus
END:VEVENT
BEGIN:VEVENT
DTSTART;TZID=Europe/Madrid:20240510T150000
DTEND;TZID=Europe/Madrid:20240510T170000
DTSTAMP:20260424T054614
CREATED:20240503T071720Z
LAST-MODIFIED:20240503T071751Z
UID:32997-1715353200-1715360400@www.ehige.eus
SUMMARY:BIGE Guraso eskola: Intxixu eskola
DESCRIPTION:
URL:https://www.ehige.eus/eu/event/bige-guraso-eskola-intxixu-eskola/
CATEGORIES:Formación
ATTACH;FMTTYPE=image/jpeg:https://www.ehige.eus/wp-content/uploads/2024/05/INTXIXU-1.jpg
ORGANIZER;CN="BIGE":MAILTO:bige@bige.eus
END:VEVENT
BEGIN:VEVENT
DTSTART;TZID=Europe/Madrid:20240508T170000
DTEND;TZID=Europe/Madrid:20240508T190000
DTSTAMP:20260424T054614
CREATED:20240506T085603Z
LAST-MODIFIED:20240506T085636Z
UID:33024-1715187600-1715194800@www.ehige.eus
SUMMARY:BIGE Guraso eskola: Luis Briñas eskola
DESCRIPTION:
URL:https://www.ehige.eus/eu/event/bige-guraso-eskola-luis-brinas/
CATEGORIES:Formación
ATTACH;FMTTYPE=image/jpeg:https://www.ehige.eus/wp-content/uploads/2024/05/brinas-2.jpg
ORGANIZER;CN="BIGE":MAILTO:bige@bige.eus
END:VEVENT
BEGIN:VEVENT
DTSTART;TZID=Europe/Madrid:20240508T163000
DTEND;TZID=Europe/Madrid:20240508T183000
DTSTAMP:20260424T054614
CREATED:20240503T072044Z
LAST-MODIFIED:20240503T072102Z
UID:33005-1715185800-1715193000@www.ehige.eus
SUMMARY:BIGE Guraso eskola: Zurbarango eskola
DESCRIPTION:
URL:https://www.ehige.eus/eu/event/bige-guraso-eskola-zurbarango-eskola/
CATEGORIES:Formación
ATTACH;FMTTYPE=image/jpeg:https://www.ehige.eus/wp-content/uploads/2024/05/ZURBARAN.jpg
ORGANIZER;CN="BIGE":MAILTO:bige@bige.eus
END:VEVENT
BEGIN:VEVENT
DTSTART;TZID=Europe/Madrid:20240507T170000
DTEND;TZID=Europe/Madrid:20240507T190000
DTSTAMP:20260424T054614
CREATED:20240430T092954Z
LAST-MODIFIED:20240430T093003Z
UID:32947-1715101200-1715108400@www.ehige.eus
SUMMARY:BIGE Guraso Eskola: Zorrotza institutua
DESCRIPTION:
URL:https://www.ehige.eus/eu/event/bige-guraso-eskola-zorrotza-institutua/
CATEGORIES:Formación
ATTACH;FMTTYPE=image/jpeg:https://www.ehige.eus/wp-content/uploads/2024/04/ZORROTZA-BHI.jpg
ORGANIZER;CN="BIGE":MAILTO:bige@bige.eus
END:VEVENT
BEGIN:VEVENT
DTSTART;TZID=Europe/Madrid:20240502T150000
DTEND;TZID=Europe/Madrid:20240502T170000
DTSTAMP:20260424T054614
CREATED:20240430T093142Z
LAST-MODIFIED:20240430T093154Z
UID:32953-1714662000-1714669200@www.ehige.eus
SUMMARY:BIGE Guraso eskola: Gallego Gorria eskola
DESCRIPTION:
URL:https://www.ehige.eus/eu/event/bige-guraso-eskola-gallego-gorria-eskola-2/
CATEGORIES:Formación
ATTACH;FMTTYPE=image/jpeg:https://www.ehige.eus/wp-content/uploads/2024/04/gallego-gorria-1.jpg
ORGANIZER;CN="BIGE":MAILTO:bige@bige.eus
END:VEVENT
BEGIN:VEVENT
DTSTART;TZID=Europe/Madrid:20240118T173000
DTEND;TZID=Europe/Madrid:20240118T190000
DTSTAMP:20260424T054614
CREATED:20231226T100133Z
LAST-MODIFIED:20231229T110644Z
UID:31624-1705599000-1705604400@www.ehige.eus
SUMMARY:BASAURIKO FAMILIENTZAKO ELIKADURA ESKOLA
DESCRIPTION:
URL:https://www.ehige.eus/eu/event/basauriko-familientzako-elikadura-eskola/
CATEGORIES:Formación
END:VEVENT
BEGIN:VEVENT
DTSTART;TZID=Europe/Madrid:20231129T170000
DTEND;TZID=Europe/Madrid:20231129T183000
DTSTAMP:20260424T054614
CREATED:20231115T084156Z
LAST-MODIFIED:20231115T084343Z
UID:31183-1701277200-1701282600@www.ehige.eus
SUMMARY:Guraso Eskola Bilbao. AMPA Luis Briñas eskola IGE
DESCRIPTION:Positiboan  heztea. \nHezitzailea:  Sandra  Martín  (Edúcame  en  positivo)
URL:https://www.ehige.eus/eu/event/guraso-eskola-bilbao-ampa-luis-brinas-eskola-ige/
CATEGORIES:Formación
ORGANIZER;CN="BIGE":MAILTO:bige@bige.eus
END:VEVENT
BEGIN:VEVENT
DTSTART;TZID=Europe/Madrid:20231123T173000
DTEND;TZID=Europe/Madrid:20231123T190000
DTSTAMP:20260424T054614
CREATED:20231115T090219Z
LAST-MODIFIED:20231115T090248Z
UID:31199-1700760600-1700766000@www.ehige.eus
SUMMARY:BIGE: Bilboko Guraso Eskola. AMPA Karmelo IKastola IGE
DESCRIPTION:
URL:https://www.ehige.eus/eu/event/bige-bilboko-guraso-eskola-ampa-karmelo-ikastola-ige/
CATEGORIES:Formación
ORGANIZER;CN="BIGE":MAILTO:bige@bige.eus
END:VEVENT
BEGIN:VEVENT
DTSTART;TZID=Europe/Madrid:20231121T161500
DTEND;TZID=Europe/Madrid:20231121T174500
DTSTAMP:20260424T054614
CREATED:20231115T084815Z
LAST-MODIFIED:20231115T084849Z
UID:31193-1700583300-1700588700@www.ehige.eus
SUMMARY:BIGE: Guraso Eskola AMPA Alonsotegi IGE
DESCRIPTION:
URL:https://www.ehige.eus/eu/event/bige-guraso-eskola-ampa-alonsotegi-ige/
CATEGORIES:Formación
ORGANIZER;CN="BIGE":MAILTO:bige@bige.eus
END:VEVENT
BEGIN:VEVENT
DTSTART;TZID=Europe/Madrid:20231120T163000
DTEND;TZID=Europe/Madrid:20231120T180000
DTSTAMP:20260424T054614
CREATED:20231115T090840Z
LAST-MODIFIED:20231115T090858Z
UID:31207-1700497800-1700503200@www.ehige.eus
SUMMARY:BIGE: Guraso Eskola AMPA Artatza Pinueta IGE
DESCRIPTION:
URL:https://www.ehige.eus/eu/event/bige-guraso-eskola-ampa-artatza-pinueta-ige/
CATEGORIES:Formación
ORGANIZER;CN="BIGE":MAILTO:bige@bige.eus
END:VEVENT
BEGIN:VEVENT
DTSTART;TZID=Europe/Madrid:20231110T150000
DTEND;TZID=Europe/Madrid:20231110T163000
DTSTAMP:20260424T054614
CREATED:20231031T091533Z
LAST-MODIFIED:20231031T091641Z
UID:30942-1699628400-1699633800@www.ehige.eus
SUMMARY:Guraso Eskola Bilbao. Intxixu eskola IGE
DESCRIPTION:Hezkuntza  afektibo  sexuala \nHezitzailea:  Jorge  Madariaga  (ADOS)
URL:https://www.ehige.eus/eu/event/guraso-eskola-bilbao-ampa-intxixu-eskola/
CATEGORIES:Formación
END:VEVENT
BEGIN:VEVENT
DTSTART;TZID=Europe/Madrid:20231109T180000
DTEND;TZID=Europe/Madrid:20231109T193000
DTSTAMP:20260424T054614
CREATED:20231031T090118Z
LAST-MODIFIED:20231031T091218Z
UID:30925-1699552800-1699558200@www.ehige.eus
SUMMARY:Guraso Eskola Bilbao. Deustuko ikastola IGE
DESCRIPTION:Haurren  kasketetatik  nerabeen  frustraziora \nHezitzailea:  Jorge  Madariaga  (ADOS)
URL:https://www.ehige.eus/eu/event/guraso-eskola-bilbao-ampa-deustuko-ikastola/
CATEGORIES:Formación
END:VEVENT
BEGIN:VEVENT
DTSTART;TZID=Europe/Madrid:20231109T173000
DTEND;TZID=Europe/Madrid:20231109T190000
DTSTAMP:20260424T054614
CREATED:20231031T090708Z
LAST-MODIFIED:20231031T090737Z
UID:30934-1699551000-1699556400@www.ehige.eus
SUMMARY:Guraso Eskola Bilbao. Karmelo ikastola IGE
DESCRIPTION:Teknologia  digitalekin  elkarbizitzeko  hezkuntza-irizpideak \nHezitzailea:  Ainhoa  Arruabarrena  (BITARGI)
URL:https://www.ehige.eus/eu/event/guraso-eskola-bilbao-ampa-karmelo-ikastola/
CATEGORIES:Formación
END:VEVENT
BEGIN:VEVENT
DTSTART;TZID=Europe/Madrid:20231026T173000
DTEND;TZID=Europe/Madrid:20231026T190000
DTSTAMP:20260424T054614
CREATED:20231016T085138Z
LAST-MODIFIED:20231016T091344Z
UID:30625-1698341400-1698346800@www.ehige.eus
SUMMARY:Guraso Eskola Bilbao. AMPA San Inazio BHI
DESCRIPTION:
URL:https://www.ehige.eus/eu/event/guraso-eskola-bilbao-ampa-san-inazio-bhi/
CATEGORIES:Formación
END:VEVENT
BEGIN:VEVENT
DTSTART;TZID=Europe/Madrid:20231023T180000
DTEND;TZID=Europe/Madrid:20231023T193000
DTSTAMP:20260424T054614
CREATED:20231016T085650Z
LAST-MODIFIED:20231016T091143Z
UID:30631-1698084000-1698089400@www.ehige.eus
SUMMARY:Guraso Eskola AMPA Ibarrekolanda BHI
DESCRIPTION:
URL:https://www.ehige.eus/eu/event/guraso-eskola-ampa-ibarrekolanda-bhi/
CATEGORIES:Formación
END:VEVENT
BEGIN:VEVENT
DTSTART;TZID=Europe/Madrid:20231019T150000
DTEND;TZID=Europe/Madrid:20231019T163000
DTSTAMP:20260424T054614
CREATED:20231016T104524Z
LAST-MODIFIED:20231016T104552Z
UID:30669-1697727600-1697733000@www.ehige.eus
SUMMARY:Guraso Eskola AMPA Gallego Gorria Eskolan
DESCRIPTION:
URL:https://www.ehige.eus/eu/event/guraso-eskola-ampa-gallego-gorria-eskolan/
CATEGORIES:Formación
END:VEVENT
BEGIN:VEVENT
DTSTART;TZID=Europe/Madrid:20231017T173000
DTEND;TZID=Europe/Madrid:20231017T190000
DTSTAMP:20260424T054614
CREATED:20231016T090147Z
LAST-MODIFIED:20231016T090950Z
UID:30637-1697563800-1697569200@www.ehige.eus
SUMMARY:Guraso Eskola AMPA M. Unamuno BHI
DESCRIPTION:
URL:https://www.ehige.eus/eu/event/guraso-eskola-ampa-m-unamuno-bhi/
CATEGORIES:Formación
END:VEVENT
BEGIN:VEVENT
DTSTART;TZID=Europe/Madrid:20230914T170000
DTEND;TZID=Europe/Madrid:20230914T183000
DTSTAMP:20260424T054614
CREATED:20230908T113811Z
LAST-MODIFIED:20230908T113926Z
UID:30148-1694710800-1694716200@www.ehige.eus
SUMMARY:BIGE formazioa: Eusko Jaurlaritzako dirulaguntzak 2023
DESCRIPTION:
URL:https://www.ehige.eus/eu/event/formacion-bige-subvenciones-gobierno-vasco-2023/
CATEGORIES:Formación
ATTACH;FMTTYPE=image/jpeg:https://www.ehige.eus/wp-content/uploads/2023/09/Formacion-2023-2.jpg
END:VEVENT
BEGIN:VEVENT
DTSTART;TZID=Europe/Madrid:20230913T170000
DTEND;TZID=Europe/Madrid:20230913T183000
DTSTAMP:20260424T054614
CREATED:20230908T113636Z
LAST-MODIFIED:20230908T114059Z
UID:30150-1694624400-1694629800@www.ehige.eus
SUMMARY:BIGE formazioa: Eusko Jaurlaritzako dirulaguntzak 2023 (erdaraz)
DESCRIPTION:
URL:https://www.ehige.eus/eu/event/fomacion-bige-subvenciones-gobierno-vasco-2023-castellano/
CATEGORIES:Formación
ATTACH;FMTTYPE=image/jpeg:https://www.ehige.eus/wp-content/uploads/2023/09/Formacion-2023-2.jpg
END:VEVENT
BEGIN:VEVENT
DTSTART;TZID=Europe/Madrid:20230517T150000
DTEND;TZID=Europe/Madrid:20230517T163000
DTSTAMP:20260424T054614
CREATED:20230418T080116Z
LAST-MODIFIED:20230418T080259Z
UID:29152-1684335600-1684341000@www.ehige.eus
SUMMARY:BIGE: Guraso Eskola Deustuko eskolan
DESCRIPTION:
URL:https://www.ehige.eus/eu/event/bige-guraso-eskola-deustuko-eskolan-2/
CATEGORIES:Formación
ORGANIZER;CN="BIGE":MAILTO:bige@bige.eus
END:VEVENT
BEGIN:VEVENT
DTSTART;TZID=Europe/Madrid:20230508T145000
DTEND;TZID=Europe/Madrid:20230508T162000
DTSTAMP:20260424T054614
CREATED:20230418T075030Z
LAST-MODIFIED:20230418T075331Z
UID:29144-1683557400-1683562800@www.ehige.eus
SUMMARY:BIGE: Guraso Eskola Tiboli eskolan
DESCRIPTION:
URL:https://www.ehige.eus/eu/event/bige-guraso-eskola-tiboli-eskolan-2/
CATEGORIES:Formación
ORGANIZER;CN="BIGE":MAILTO:bige@bige.eus
END:VEVENT
BEGIN:VEVENT
DTSTART;TZID=Europe/Madrid:20230428T150000
DTEND;TZID=Europe/Madrid:20230428T163000
DTSTAMP:20260424T054614
CREATED:20230418T074217Z
LAST-MODIFIED:20230418T074405Z
UID:29136-1682694000-1682699400@www.ehige.eus
SUMMARY:BIGE: Guraso Eskola Intxixu ikastolan
DESCRIPTION:
URL:https://www.ehige.eus/eu/event/bige-guraso-eskola-intxixu-ikastolan-2/
CATEGORIES:Formación
ORGANIZER;CN="BIGE":MAILTO:bige@bige.eus
END:VEVENT
BEGIN:VEVENT
DTSTART;TZID=Europe/Madrid:20230427T170000
DTEND;TZID=Europe/Madrid:20230427T183000
DTSTAMP:20260424T054614
CREATED:20230418T080439Z
LAST-MODIFIED:20230418T080629Z
UID:29156-1682614800-1682620200@www.ehige.eus
SUMMARY:BIGE: Guraso Eskola Zorrotza institutuan
DESCRIPTION:
URL:https://www.ehige.eus/eu/event/bige-guraso-eskola-zorrotza-institutuan/
CATEGORIES:Formación
ORGANIZER;CN="BIGE":MAILTO:bige@bige.eus
END:VEVENT
BEGIN:VEVENT
DTSTART;TZID=Europe/Madrid:20230427T170000
DTEND;TZID=Europe/Madrid:20230427T183000
DTSTAMP:20260424T054614
CREATED:20230418T075626Z
LAST-MODIFIED:20230418T075939Z
UID:29148-1682614800-1682620200@www.ehige.eus
SUMMARY:BIGE: Guraso Eskola Karmelo ikastolan
DESCRIPTION:
URL:https://www.ehige.eus/eu/event/bige-guraso-eskola-karmelo-ikastolan/
CATEGORIES:Formación
ORGANIZER;CN="BIGE":MAILTO:bige@bige.eus
END:VEVENT
BEGIN:VEVENT
DTSTART;TZID=Europe/Madrid:20230425T150000
DTEND;TZID=Europe/Madrid:20230425T163000
DTSTAMP:20260424T054614
CREATED:20230418T080812Z
LAST-MODIFIED:20230418T080929Z
UID:29160-1682434800-1682440200@www.ehige.eus
SUMMARY:BIGE: Guraso Eskola Cervantes eskolan
DESCRIPTION:
URL:https://www.ehige.eus/eu/event/bige-guraso-eskola-cervantes-eskolan/
CATEGORIES:Formación
ORGANIZER;CN="BIGE":MAILTO:bige@bige.eus
END:VEVENT
END:VCALENDAR