BEGIN:VCALENDAR
VERSION:2.0
PRODID:-//Ehige - ECPv6.15.20//NONSGML v1.0//EN
CALSCALE:GREGORIAN
METHOD:PUBLISH
X-WR-CALNAME:Ehige
X-ORIGINAL-URL:https://www.ehige.eus/eu/
X-WR-CALDESC:Events for Ehige
REFRESH-INTERVAL;VALUE=DURATION:PT1H
X-Robots-Tag:noindex
X-PUBLISHED-TTL:PT1H
BEGIN:VTIMEZONE
TZID:Europe/Madrid
BEGIN:DAYLIGHT
TZOFFSETFROM:+0100
TZOFFSETTO:+0200
TZNAME:CEST
DTSTART:20240331T010000
END:DAYLIGHT
BEGIN:STANDARD
TZOFFSETFROM:+0200
TZOFFSETTO:+0100
TZNAME:CET
DTSTART:20241027T010000
END:STANDARD
BEGIN:DAYLIGHT
TZOFFSETFROM:+0100
TZOFFSETTO:+0200
TZNAME:CEST
DTSTART:20250330T010000
END:DAYLIGHT
BEGIN:STANDARD
TZOFFSETFROM:+0200
TZOFFSETTO:+0100
TZNAME:CET
DTSTART:20251026T010000
END:STANDARD
BEGIN:DAYLIGHT
TZOFFSETFROM:+0100
TZOFFSETTO:+0200
TZNAME:CEST
DTSTART:20260329T010000
END:DAYLIGHT
BEGIN:STANDARD
TZOFFSETFROM:+0200
TZOFFSETTO:+0100
TZNAME:CET
DTSTART:20261025T010000
END:STANDARD
END:VTIMEZONE
BEGIN:VEVENT
DTSTART;TZID=Europe/Madrid:20250318T164500
DTEND;TZID=Europe/Madrid:20250318T181500
DTSTAMP:20260420T162525
CREATED:20250307T111018Z
LAST-MODIFIED:20250307T111029Z
UID:36659-1742316300-1742321700@www.ehige.eus
SUMMARY:Guraso Eskola Bilbao: Cervantes eskola
DESCRIPTION:
URL:https://www.ehige.eus/eu/event/guraso-eskola-bilbao-cervantes-eskola-2/
CATEGORIES:Formación
ATTACH;FMTTYPE=image/jpeg:https://www.ehige.eus/wp-content/uploads/2025/03/cevantes-martxoak-18.jpg
ORGANIZER;CN="BIGE":MAILTO:bige@bige.eus
END:VEVENT
BEGIN:VEVENT
DTSTART;TZID=Europe/Madrid:20250318T180000
DTEND;TZID=Europe/Madrid:20250318T193000
DTSTAMP:20260420T162525
CREATED:20250307T111603Z
LAST-MODIFIED:20250307T111613Z
UID:36677-1742320800-1742326200@www.ehige.eus
SUMMARY:Guraso Eskola Basauri: Uribarri institutua
DESCRIPTION:
URL:https://www.ehige.eus/eu/event/guraso-eskola-basauri-uribarri-institutua/
CATEGORIES:Formación
ATTACH;FMTTYPE=image/jpeg:https://www.ehige.eus/wp-content/uploads/2025/03/URIBARRI-martxoaK-18.jpg
ORGANIZER;CN="BIGE":MAILTO:bige@bige.eus
END:VEVENT
BEGIN:VEVENT
DTSTART;TZID=Europe/Madrid:20250318T180000
DTEND;TZID=Europe/Madrid:20250318T200000
DTSTAMP:20260420T162525
CREATED:20250307T110610Z
LAST-MODIFIED:20250307T110620Z
UID:36645-1742320800-1742328000@www.ehige.eus
SUMMARY:Guraso Eskola Bilbao: Ibarrekolanda institutua
DESCRIPTION:
URL:https://www.ehige.eus/eu/event/guraso-eskola-bilbao-ibarrekolanda-institutua/
CATEGORIES:Formación
ATTACH;FMTTYPE=image/jpeg:https://www.ehige.eus/wp-content/uploads/2025/03/IBARREKOLANDA-martxoak-18.jpg
ORGANIZER;CN="BIGE":MAILTO:bige@bige.eus
END:VEVENT
END:VCALENDAR