BEGIN:VCALENDAR
VERSION:2.0
PRODID:-//Ehige - ECPv6.15.20//NONSGML v1.0//EN
CALSCALE:GREGORIAN
METHOD:PUBLISH
X-WR-CALNAME:Ehige
X-ORIGINAL-URL:https://www.ehige.eus/eu/
X-WR-CALDESC:Events for Ehige
REFRESH-INTERVAL;VALUE=DURATION:PT1H
X-Robots-Tag:noindex
X-PUBLISHED-TTL:PT1H
BEGIN:VTIMEZONE
TZID:Europe/Madrid
BEGIN:DAYLIGHT
TZOFFSETFROM:+0100
TZOFFSETTO:+0200
TZNAME:CEST
DTSTART:20240331T010000
END:DAYLIGHT
BEGIN:STANDARD
TZOFFSETFROM:+0200
TZOFFSETTO:+0100
TZNAME:CET
DTSTART:20241027T010000
END:STANDARD
BEGIN:DAYLIGHT
TZOFFSETFROM:+0100
TZOFFSETTO:+0200
TZNAME:CEST
DTSTART:20250330T010000
END:DAYLIGHT
BEGIN:STANDARD
TZOFFSETFROM:+0200
TZOFFSETTO:+0100
TZNAME:CET
DTSTART:20251026T010000
END:STANDARD
BEGIN:DAYLIGHT
TZOFFSETFROM:+0100
TZOFFSETTO:+0200
TZNAME:CEST
DTSTART:20260329T010000
END:DAYLIGHT
BEGIN:STANDARD
TZOFFSETFROM:+0200
TZOFFSETTO:+0100
TZNAME:CET
DTSTART:20261025T010000
END:STANDARD
END:VTIMEZONE
BEGIN:VEVENT
DTSTART;TZID=Europe/Madrid:20250207T090000
DTEND;TZID=Europe/Madrid:20250207T200000
DTSTAMP:20260420T150736
CREATED:20250123T144731Z
LAST-MODIFIED:20250123T145656Z
UID:36181-1738918800-1738958400@www.ehige.eus
SUMMARY:KomunitateAGO: Euskal Eskola Publikoa elkarrekin eraikitzen
DESCRIPTION:Otsailaren  7an  “KomunitateAGO\,  Euskal  Eskola  Publikoa  elkarrekin  eraikitzen”  jardunaldia  egingo  dugu  Gasteizeko  Salburua  gizarte  etxean. \nPasa  den  abenduan  “Eskola-kontseilua  ebaluatzeko  eta  hobetzeko  tresna”  izeneko  dokumentua  osatu  genuen  EHIGE  eta  Heizek\,  gure  eskola  eta  institutuetako  parte-hartze  prozesuei  buruzko  hausnarketa  sustatzea  helburu  zuen  ekarpen  xumea. \nHainbat  konturi  buruz  gogoeta  eginarazi  nahi  genuen  dokumentu  horrekin:  hezkuntza-komunitatearen  parte-hartzea  sustatzea  eta  bereziki  egoera  ahulean  dauden  kideena\,  espazio  ez-formalen  garrantzia\,  hala  nola  lan-espazio  abegikorrak  eta  eraginkorrak  sortzea. \nEsperientzia  horretatik  abiatuta\,  hurrengo  pausu  bat  proposatzen  dizuegu:  elkarrekin  aurrez  aurre  hausnartzea  hezkuntza-komunitatearen  parte-hartzeak  dituen  zailtasunei  eta  indarguneei  buruz.  Behin  hori  eginda\,  ikastetxe  parte-hartzaileagoak  egiteko  tresnak  bilduko  ditugu \n-Deskargatu  triptikoa: \n-Eman  izena! \n 
URL:https://www.ehige.eus/eu/event/komunitateago-euskal-eskola-publikoa-elkarrekin-eraikitzen/
ATTACH;FMTTYPE=image/jpeg:https://www.ehige.eus/wp-content/uploads/2025/01/EHIGE.jpg
END:VEVENT
END:VCALENDAR