BEGIN:VCALENDAR
VERSION:2.0
PRODID:-//Ehige - ECPv6.15.20//NONSGML v1.0//EN
CALSCALE:GREGORIAN
METHOD:PUBLISH
X-WR-CALNAME:Ehige
X-ORIGINAL-URL:https://www.ehige.eus/eu/
X-WR-CALDESC:Events for Ehige
REFRESH-INTERVAL;VALUE=DURATION:PT1H
X-Robots-Tag:noindex
X-PUBLISHED-TTL:PT1H
BEGIN:VTIMEZONE
TZID:Europe/Madrid
BEGIN:DAYLIGHT
TZOFFSETFROM:+0100
TZOFFSETTO:+0200
TZNAME:CEST
DTSTART:20190331T010000
END:DAYLIGHT
BEGIN:STANDARD
TZOFFSETFROM:+0200
TZOFFSETTO:+0100
TZNAME:CET
DTSTART:20191027T010000
END:STANDARD
BEGIN:DAYLIGHT
TZOFFSETFROM:+0100
TZOFFSETTO:+0200
TZNAME:CEST
DTSTART:20200329T010000
END:DAYLIGHT
BEGIN:STANDARD
TZOFFSETFROM:+0200
TZOFFSETTO:+0100
TZNAME:CET
DTSTART:20201025T010000
END:STANDARD
BEGIN:DAYLIGHT
TZOFFSETFROM:+0100
TZOFFSETTO:+0200
TZNAME:CEST
DTSTART:20210328T010000
END:DAYLIGHT
BEGIN:STANDARD
TZOFFSETFROM:+0200
TZOFFSETTO:+0100
TZNAME:CET
DTSTART:20211031T010000
END:STANDARD
END:VTIMEZONE
BEGIN:VEVENT
DTSTART;TZID=Europe/Madrid:20200924T190000
DTEND;TZID=Europe/Madrid:20200924T220000
DTSTAMP:20260419T190349
CREATED:20200915T151036Z
LAST-MODIFIED:20200915T151139Z
UID:16629-1600974000-1600984800@www.ehige.eus
SUMMARY:Webinar: Larrialdi klimatikoa
DESCRIPTION:Irailaren  24an  “Ingurumen-hezkuntzaren  iragana  eta  oraina\,  argiak  eta  itzalak”  jardunaldia  ospatuko  da\,  CCOO  Irakaskuntzak  antolatuta. \nJabetzen  al  gara  planeta  uzten  ari  garen  egoeraz?  Zer  ekaroen  egin  dezakegu  Hezkuntzatik  birmoldaketa  hori  aldatzeko?  Gobernuak  larrialdi  klimatikoan  al  daude?  Norena  da  ingurumen-narriadura  geldiarazteko  neurri  irmoekin  jarduteko  erantzukizuna?  Garaiz  gaude?  Egin  al  dezakegu  ekarpenik  esparru  sindikaletik? \nParte  hartzeko  aldez  aurretik  izena  ematea  derrigorrezkoa  da.
URL:https://www.ehige.eus/eu/event/webinar-larrialdi-klimatikoa/
END:VEVENT
END:VCALENDAR