BEGIN:VCALENDAR
VERSION:2.0
PRODID:-//Ehige - ECPv6.15.20//NONSGML v1.0//EN
CALSCALE:GREGORIAN
METHOD:PUBLISH
X-ORIGINAL-URL:https://www.ehige.eus/eu/
X-WR-CALDESC:Events for Ehige
REFRESH-INTERVAL;VALUE=DURATION:PT1H
X-Robots-Tag:noindex
X-PUBLISHED-TTL:PT1H
BEGIN:VTIMEZONE
TZID:Europe/Madrid
BEGIN:DAYLIGHT
TZOFFSETFROM:+0100
TZOFFSETTO:+0200
TZNAME:CEST
DTSTART:20190331T010000
END:DAYLIGHT
BEGIN:STANDARD
TZOFFSETFROM:+0200
TZOFFSETTO:+0100
TZNAME:CET
DTSTART:20191027T010000
END:STANDARD
BEGIN:DAYLIGHT
TZOFFSETFROM:+0100
TZOFFSETTO:+0200
TZNAME:CEST
DTSTART:20200329T010000
END:DAYLIGHT
BEGIN:STANDARD
TZOFFSETFROM:+0200
TZOFFSETTO:+0100
TZNAME:CET
DTSTART:20201025T010000
END:STANDARD
BEGIN:DAYLIGHT
TZOFFSETFROM:+0100
TZOFFSETTO:+0200
TZNAME:CEST
DTSTART:20210328T010000
END:DAYLIGHT
BEGIN:STANDARD
TZOFFSETFROM:+0200
TZOFFSETTO:+0100
TZNAME:CET
DTSTART:20211031T010000
END:STANDARD
END:VTIMEZONE
BEGIN:VEVENT
DTSTART;TZID=Europe/Madrid:20200923T170000
DTEND;TZID=Europe/Madrid:20200923T190000
DTSTAMP:20260419T190447
CREATED:20200902T094716Z
LAST-MODIFIED:20200902T094727Z
UID:16403-1600880400-1600887600@www.ehige.eus
SUMMARY:BIGE formakuntza: Sortu guraso-elkartearen Facebook profila
DESCRIPTION:BIGEk  doako  online  tailerrak  eskaintzen  dizkie  guraso-elkarteei  eta  familiei\,  gaitasun  digitala  eta  sare  sozialetako  presentzia  handitzeko. \nSortu  guraso-elkartearen  Facebook  profila:  zure  guraso-elkartearen  Facebook  orria  modu  eraginkorrean  konfiguratzen  eta  kudeatzen  ikasiko  dugu.  Irailaren  23an\,  17:  00etatik  19:  00etara.
URL:https://www.ehige.eus/eu/event/bige-formakuntza-sortu-guraso-elkartearen-facebook-profila/
ATTACH;FMTTYPE=image/png:https://www.ehige.eus/wp-content/uploads/2020/07/1.png
END:VEVENT
END:VCALENDAR