BEGIN:VCALENDAR
VERSION:2.0
PRODID:-//Ehige - ECPv6.15.20//NONSGML v1.0//EN
CALSCALE:GREGORIAN
METHOD:PUBLISH
X-ORIGINAL-URL:https://www.ehige.eus/eu/
X-WR-CALDESC:Events for Ehige
REFRESH-INTERVAL;VALUE=DURATION:PT1H
X-Robots-Tag:noindex
X-PUBLISHED-TTL:PT1H
BEGIN:VTIMEZONE
TZID:Europe/Madrid
BEGIN:DAYLIGHT
TZOFFSETFROM:+0100
TZOFFSETTO:+0200
TZNAME:CEST
DTSTART:20190331T010000
END:DAYLIGHT
BEGIN:STANDARD
TZOFFSETFROM:+0200
TZOFFSETTO:+0100
TZNAME:CET
DTSTART:20191027T010000
END:STANDARD
BEGIN:DAYLIGHT
TZOFFSETFROM:+0100
TZOFFSETTO:+0200
TZNAME:CEST
DTSTART:20200329T010000
END:DAYLIGHT
BEGIN:STANDARD
TZOFFSETFROM:+0200
TZOFFSETTO:+0100
TZNAME:CET
DTSTART:20201025T010000
END:STANDARD
BEGIN:DAYLIGHT
TZOFFSETFROM:+0100
TZOFFSETTO:+0200
TZNAME:CEST
DTSTART:20210328T010000
END:DAYLIGHT
BEGIN:STANDARD
TZOFFSETFROM:+0200
TZOFFSETTO:+0100
TZNAME:CET
DTSTART:20211031T010000
END:STANDARD
END:VTIMEZONE
BEGIN:VEVENT
DTSTART;TZID=Europe/Madrid:20200505T100000
DTEND;TZID=Europe/Madrid:20200529T140000
DTSTAMP:20260420T005059
CREATED:20200504T144404Z
LAST-MODIFIED:20200504T144404Z
UID:15540-1588672800-1590760800@www.ehige.eus
SUMMARY:Bilboko on line guraso-eskolak\, BIGE
DESCRIPTION:Guraso-eskola  BIGE  Gurasoen  Elkarteak  hiriko  ikastetxe  publikoetako  guraso-elkarteetako  familiei\,  Bilboko  Udalaren  laguntzarekin\,  eskaintzen  dien  prestakuntza-programa  bat  da. \nMaiatzean  honako  eskola  eta  institutuekin  saioak  egingo  ditugu: \n\nAstelehenetan:  Pagasarribide  eskola  eta  Luis  Briñas  Santutxu  BHI\nAstearteetan:  Tiboli  eskola\,  Iruarteta  eskola  eta  Unamuno  Institutua\nAsteazkenetan:  Zamakola  eskola\,  Cervantes  eskola  eta  San  Adrián  Institutua\nOstegunetan:  Kontxa  eskola\,  Luis  Briñas  eskola  eta  Basurto  eskola\nOstiraletan:  Intxizu  eskola\,  Arangoiti  eskola  eta  Cervantes/Indautxu  eskola
URL:https://www.ehige.eus/eu/event/bilboko-on-line-guraso-eskolak-bige/
ATTACH;FMTTYPE=image/png:https://www.ehige.eus/wp-content/uploads/2020/04/93303590_2878202238966325_109132705219739648_n.png
END:VEVENT
END:VCALENDAR