BEGIN:VCALENDAR
VERSION:2.0
PRODID:-//Ehige - ECPv6.15.20//NONSGML v1.0//EN
CALSCALE:GREGORIAN
METHOD:PUBLISH
X-ORIGINAL-URL:https://www.ehige.eus/eu/
X-WR-CALDESC:Events for Ehige
REFRESH-INTERVAL;VALUE=DURATION:PT1H
X-Robots-Tag:noindex
X-PUBLISHED-TTL:PT1H
BEGIN:VTIMEZONE
TZID:Europe/Madrid
BEGIN:DAYLIGHT
TZOFFSETFROM:+0100
TZOFFSETTO:+0200
TZNAME:CEST
DTSTART:20190331T010000
END:DAYLIGHT
BEGIN:STANDARD
TZOFFSETFROM:+0200
TZOFFSETTO:+0100
TZNAME:CET
DTSTART:20191027T010000
END:STANDARD
BEGIN:DAYLIGHT
TZOFFSETFROM:+0100
TZOFFSETTO:+0200
TZNAME:CEST
DTSTART:20200329T010000
END:DAYLIGHT
BEGIN:STANDARD
TZOFFSETFROM:+0200
TZOFFSETTO:+0100
TZNAME:CET
DTSTART:20201025T010000
END:STANDARD
BEGIN:DAYLIGHT
TZOFFSETFROM:+0100
TZOFFSETTO:+0200
TZNAME:CEST
DTSTART:20210328T010000
END:DAYLIGHT
BEGIN:STANDARD
TZOFFSETFROM:+0200
TZOFFSETTO:+0100
TZNAME:CET
DTSTART:20211031T010000
END:STANDARD
END:VTIMEZONE
BEGIN:VEVENT
DTSTART;TZID=Europe/Madrid:20200303T180000
DTEND;TZID=Europe/Madrid:20200303T203000
DTSTAMP:20260420T035219
CREATED:20200207T132831Z
LAST-MODIFIED:20200207T133006Z
UID:14453-1583258400-1583267400@www.ehige.eus
SUMMARY:"Hezkuntzan Familien Ahotsa" jardunaldia Donostian
DESCRIPTION:Familiek  hezkuntzan  duten  parte-hartzeari  buruzko  sentsibilizazio-jardunaldiak  ospatuko  da  Donostian  martxoaren  3an\,  Hezkuntza\,  Filosofia  eta  Antropologia  Fakultateko\,  II  eraikinean.
URL:https://www.ehige.eus/eu/event/hezkuntzan-familien-ahotsa-jardunaldia-bilbon-copy-2/
LOCATION:Donostia
ATTACH;FMTTYPE=image/jpeg:https://www.ehige.eus/wp-content/uploads/2020/01/Familien-Ahotsa.jpg
END:VEVENT
END:VCALENDAR