BEGIN:VCALENDAR
VERSION:2.0
PRODID:-//Ehige - ECPv6.15.20//NONSGML v1.0//EN
CALSCALE:GREGORIAN
METHOD:PUBLISH
X-ORIGINAL-URL:https://www.ehige.eus/eu/
X-WR-CALDESC:Events for Ehige
REFRESH-INTERVAL;VALUE=DURATION:PT1H
X-Robots-Tag:noindex
X-PUBLISHED-TTL:PT1H
BEGIN:VTIMEZONE
TZID:Europe/Madrid
BEGIN:DAYLIGHT
TZOFFSETFROM:+0100
TZOFFSETTO:+0200
TZNAME:CEST
DTSTART:20180325T010000
END:DAYLIGHT
BEGIN:STANDARD
TZOFFSETFROM:+0200
TZOFFSETTO:+0100
TZNAME:CET
DTSTART:20181028T010000
END:STANDARD
BEGIN:DAYLIGHT
TZOFFSETFROM:+0100
TZOFFSETTO:+0200
TZNAME:CEST
DTSTART:20190331T010000
END:DAYLIGHT
BEGIN:STANDARD
TZOFFSETFROM:+0200
TZOFFSETTO:+0100
TZNAME:CET
DTSTART:20191027T010000
END:STANDARD
BEGIN:DAYLIGHT
TZOFFSETFROM:+0100
TZOFFSETTO:+0200
TZNAME:CEST
DTSTART:20200329T010000
END:DAYLIGHT
BEGIN:STANDARD
TZOFFSETFROM:+0200
TZOFFSETTO:+0100
TZNAME:CET
DTSTART:20201025T010000
END:STANDARD
END:VTIMEZONE
BEGIN:VEVENT
DTSTART;TZID=Europe/Madrid:20191204T170000
DTEND;TZID=Europe/Madrid:20191204T200000
DTSTAMP:20260420T081428
CREATED:20191126T111703Z
LAST-MODIFIED:20191126T111703Z
UID:13598-1575478800-1575489600@www.ehige.eus
SUMMARY:Formakuntza: plastikorik gabe bizi
DESCRIPTION:Abenduaren  4an\,  17:00etan\,  Plastikorik  gabe  bizi  formakuntza  eskeiniko  da  Zallako  Mimetiz  HLHIn.
URL:https://www.ehige.eus/eu/event/formakuntza-plastikorik-gabe-bizi/
ATTACH;FMTTYPE=image/jpeg:https://www.ehige.eus/wp-content/uploads/2019/11/Mimetiz-banner-abenduak-4.jpg
END:VEVENT
END:VCALENDAR