BEGIN:VCALENDAR
VERSION:2.0
PRODID:-//Ehige - ECPv6.15.20//NONSGML v1.0//EN
CALSCALE:GREGORIAN
METHOD:PUBLISH
X-ORIGINAL-URL:https://www.ehige.eus/eu/
X-WR-CALDESC:Events for Ehige
REFRESH-INTERVAL;VALUE=DURATION:PT1H
X-Robots-Tag:noindex
X-PUBLISHED-TTL:PT1H
BEGIN:VTIMEZONE
TZID:Europe/Madrid
BEGIN:DAYLIGHT
TZOFFSETFROM:+0100
TZOFFSETTO:+0200
TZNAME:CEST
DTSTART:20180325T010000
END:DAYLIGHT
BEGIN:STANDARD
TZOFFSETFROM:+0200
TZOFFSETTO:+0100
TZNAME:CET
DTSTART:20181028T010000
END:STANDARD
BEGIN:DAYLIGHT
TZOFFSETFROM:+0100
TZOFFSETTO:+0200
TZNAME:CEST
DTSTART:20190331T010000
END:DAYLIGHT
BEGIN:STANDARD
TZOFFSETFROM:+0200
TZOFFSETTO:+0100
TZNAME:CET
DTSTART:20191027T010000
END:STANDARD
BEGIN:DAYLIGHT
TZOFFSETFROM:+0100
TZOFFSETTO:+0200
TZNAME:CEST
DTSTART:20200329T010000
END:DAYLIGHT
BEGIN:STANDARD
TZOFFSETFROM:+0200
TZOFFSETTO:+0100
TZNAME:CET
DTSTART:20201025T010000
END:STANDARD
END:VTIMEZONE
BEGIN:VEVENT
DTSTART;TZID=Europe/Madrid:20191113T110000
DTEND;TZID=Europe/Madrid:20191113T120000
DTSTAMP:20260420T094340
CREATED:20191028T111138Z
LAST-MODIFIED:20191028T111138Z
UID:13024-1573642800-1573646400@www.ehige.eus
SUMMARY:2020ko Euskal Eskola Publikoaren Jaiaren aurkezpena
DESCRIPTION:Arazoaren  13an  2020ko  Euskal  Eskola  Publikoaren  Jaia  aurzketuko  dugu  Bastidan.
URL:https://www.ehige.eus/eu/event/2020ko-euskal-eskola-publikoaren-jaiaren-aurkezpena/
LOCATION:Labastida
END:VEVENT
BEGIN:VEVENT
DTSTART;TZID=Europe/Madrid:20191113T173000
DTEND;TZID=Europe/Madrid:20191113T193000
DTSTAMP:20260420T094340
CREATED:20191007T084204Z
LAST-MODIFIED:20191111T095724Z
UID:12560-1573666200-1573673400@www.ehige.eus
SUMMARY:Formakuntza: drogak\, zergatik ematen digute hainbeste beldur?
DESCRIPTION:Azaroaren  13an  familientzako  hitzaldia  egongo  da  Barakaldoko  Minas  institutuan.  Drogak:  zergatik  ematen  digute  hainbeste  beldur?  Animatu  zaitezte!
URL:https://www.ehige.eus/eu/event/drogak-zergatik-ematen-digute-hainbeste-beldur/
LOCATION:Minas  Institutua\, La Bondad 28\, Barakaldo
ATTACH;FMTTYPE=image/jpeg:https://www.ehige.eus/wp-content/uploads/2019/10/banner-DROGAS-BARAKALDO-2-1.jpg
END:VEVENT
END:VCALENDAR