BEGIN:VCALENDAR
VERSION:2.0
PRODID:-//Ehige - ECPv6.15.20//NONSGML v1.0//EN
CALSCALE:GREGORIAN
METHOD:PUBLISH
X-ORIGINAL-URL:https://www.ehige.eus/eu/
X-WR-CALDESC:Events for Ehige
REFRESH-INTERVAL;VALUE=DURATION:PT1H
X-Robots-Tag:noindex
X-PUBLISHED-TTL:PT1H
BEGIN:VTIMEZONE
TZID:Europe/Madrid
BEGIN:DAYLIGHT
TZOFFSETFROM:+0100
TZOFFSETTO:+0200
TZNAME:CEST
DTSTART:20180325T010000
END:DAYLIGHT
BEGIN:STANDARD
TZOFFSETFROM:+0200
TZOFFSETTO:+0100
TZNAME:CET
DTSTART:20181028T010000
END:STANDARD
BEGIN:DAYLIGHT
TZOFFSETFROM:+0100
TZOFFSETTO:+0200
TZNAME:CEST
DTSTART:20190331T010000
END:DAYLIGHT
BEGIN:STANDARD
TZOFFSETFROM:+0200
TZOFFSETTO:+0100
TZNAME:CET
DTSTART:20191027T010000
END:STANDARD
BEGIN:DAYLIGHT
TZOFFSETFROM:+0100
TZOFFSETTO:+0200
TZNAME:CEST
DTSTART:20200329T010000
END:DAYLIGHT
BEGIN:STANDARD
TZOFFSETFROM:+0200
TZOFFSETTO:+0100
TZNAME:CET
DTSTART:20201025T010000
END:STANDARD
END:VTIMEZONE
BEGIN:VEVENT
DTSTART;TZID=Europe/Madrid:20191019T080000
DTEND;TZID=Europe/Madrid:20191021T170000
DTSTAMP:20260420T111449
CREATED:20191010T072206Z
LAST-MODIFIED:20191010T072207Z
UID:12708-1571472000-1571677200@www.ehige.eus
SUMMARY:Irakaskuntza Publikoko Eskualdeetako Hizkuntzen Federazioaren solasaldia
DESCRIPTION:Irakaskuntza  Publikoko  Eskualdeetako  Hizkuntzen  Federazioak  (FLAREP)  “Eskualdeetako  eta  itsasoz  haraindiko  hizkuntzak\,  hezkuntza  nazional  berriaren  ahaztutakoak”  izeneko  33.  solasaldiak  ospatuko  ditu  Donibane  Lohitzunen  urriaren  19tik  21era.  EHIGEko  kide  den Ikas-bi FLAREPen  barruan  dago  eta  urtero  kongresuak  egiten  dituzte\,  oraingoan  Euskal  Herrian.
URL:https://www.ehige.eus/eu/event/irakaskuntza-publikoko-eskualdeetako-hizkuntzen-federazioaren-solasaldia/
LOCATION:Donibane  Lohitzune
ATTACH;FMTTYPE=image/jpeg:https://www.ehige.eus/wp-content/uploads/2019/10/flarep.jpg
END:VEVENT
END:VCALENDAR