BEGIN:VCALENDAR
VERSION:2.0
PRODID:-//Ehige - ECPv6.15.20//NONSGML v1.0//EN
CALSCALE:GREGORIAN
METHOD:PUBLISH
X-WR-CALNAME:Ehige
X-ORIGINAL-URL:https://www.ehige.eus/eu/
X-WR-CALDESC:Events for Ehige
REFRESH-INTERVAL;VALUE=DURATION:PT1H
X-Robots-Tag:noindex
X-PUBLISHED-TTL:PT1H
BEGIN:VTIMEZONE
TZID:Europe/Madrid
BEGIN:DAYLIGHT
TZOFFSETFROM:+0100
TZOFFSETTO:+0200
TZNAME:CEST
DTSTART:20180325T010000
END:DAYLIGHT
BEGIN:STANDARD
TZOFFSETFROM:+0200
TZOFFSETTO:+0100
TZNAME:CET
DTSTART:20181028T010000
END:STANDARD
BEGIN:DAYLIGHT
TZOFFSETFROM:+0100
TZOFFSETTO:+0200
TZNAME:CEST
DTSTART:20190331T010000
END:DAYLIGHT
BEGIN:STANDARD
TZOFFSETFROM:+0200
TZOFFSETTO:+0100
TZNAME:CET
DTSTART:20191027T010000
END:STANDARD
BEGIN:DAYLIGHT
TZOFFSETFROM:+0100
TZOFFSETTO:+0200
TZNAME:CEST
DTSTART:20200329T010000
END:DAYLIGHT
BEGIN:STANDARD
TZOFFSETFROM:+0200
TZOFFSETTO:+0100
TZNAME:CET
DTSTART:20201025T010000
END:STANDARD
END:VTIMEZONE
BEGIN:VEVENT
DTSTART;TZID=Europe/Madrid:20191010T151500
DTEND;TZID=Europe/Madrid:20191010T170000
DTSTAMP:20260420T111535
CREATED:20191007T081139Z
LAST-MODIFIED:20191008T085115Z
UID:12551-1570720500-1570726800@www.ehige.eus
SUMMARY:Formakuntza: nola lagundu gure seme-alabei etxeko lanekin euskera ez badakigu?
DESCRIPTION:Euskaraz  ez  dakiten  gurasoentzat  kezka  handia  izaten  da  eskolako  lanen  gaia  seme-alabei  ikasketa  prozesuan  ezin  izango  dietela  behar  bezala  lagundu  beldur  baitira.  Hori  dela  eta\,  hitzaldi  bat  antolatu  dugu  urriaren  10rean  15:15etan  Bilboko  Kontxa  Eskolan.
URL:https://www.ehige.eus/eu/event/nola-lagundu-gure-seme-alabei-etxeko-lanekin-euskera-ez-badakigu/
LOCATION:Kontxa  Eskola\, Calle General Concha\, 18\, Bilbao
ATTACH;FMTTYPE=image/png:https://www.ehige.eus/wp-content/uploads/2019/10/¿CÓMO-AYUDAR-A-NUESTROS-HIJOS-E-HIJAS-EN-LAS-TAREAS-ESCOLARES-SI-NO-SABEMOS-EUSKERA_.png
END:VEVENT
END:VCALENDAR