BEGIN:VCALENDAR
VERSION:2.0
PRODID:-//Ehige - ECPv6.15.20//NONSGML v1.0//EN
CALSCALE:GREGORIAN
METHOD:PUBLISH
X-WR-CALNAME:Ehige
X-ORIGINAL-URL:https://www.ehige.eus/eu/
X-WR-CALDESC:Events for Ehige
REFRESH-INTERVAL;VALUE=DURATION:PT1H
X-Robots-Tag:noindex
X-PUBLISHED-TTL:PT1H
BEGIN:VTIMEZONE
TZID:Europe/Madrid
BEGIN:DAYLIGHT
TZOFFSETFROM:+0100
TZOFFSETTO:+0200
TZNAME:CEST
DTSTART:20180325T010000
END:DAYLIGHT
BEGIN:STANDARD
TZOFFSETFROM:+0200
TZOFFSETTO:+0100
TZNAME:CET
DTSTART:20181028T010000
END:STANDARD
BEGIN:DAYLIGHT
TZOFFSETFROM:+0100
TZOFFSETTO:+0200
TZNAME:CEST
DTSTART:20190331T010000
END:DAYLIGHT
BEGIN:STANDARD
TZOFFSETFROM:+0200
TZOFFSETTO:+0100
TZNAME:CET
DTSTART:20191027T010000
END:STANDARD
BEGIN:DAYLIGHT
TZOFFSETFROM:+0100
TZOFFSETTO:+0200
TZNAME:CEST
DTSTART:20200329T010000
END:DAYLIGHT
BEGIN:STANDARD
TZOFFSETFROM:+0200
TZOFFSETTO:+0100
TZNAME:CET
DTSTART:20201025T010000
END:STANDARD
END:VTIMEZONE
BEGIN:VEVENT
DTSTART;VALUE=DATE:20191002
DTEND;VALUE=DATE:20191005
DTSTAMP:20260420T111456
CREATED:20190903T091624Z
LAST-MODIFIED:20190903T095530Z
UID:11402-1569974400-1570233599@www.ehige.eus
SUMMARY:GOZO I. Nazioarteko Jardunaldiak
DESCRIPTION:GOZO  I.  Nazioarteko  Jardunaldiak  ospatuko  ditugu  Bilbon\,  munduko  hainbat  izkinetan  martxan  dauden  praktika  onei  buruz  eztabaidatu  eta  hausnartzeko  espazioa.  Urriaren  2\,  3  eta  4ean  eskola  elikadura  osasuntsuagoa  eta  jasangarriagoa  sustatzen  duten  politika  publikoak\,  eragile  eraldatzaileak  eta  esperientzia  pedagogikoak  ezagutuko  ditugu.
URL:https://www.ehige.eus/eu/event/gozo-i-nazioarteko-jardunaldiak/
LOCATION:Itsasmuseum  Bilbao​​\, Ramón de la Sota Kaia\, 1\, Bilbao\, 48011\, España
ATTACH;FMTTYPE=image/jpeg:https://www.ehige.eus/wp-content/uploads/2019/07/gozo-kartela-eus.jpg
END:VEVENT
END:VCALENDAR