BEGIN:VCALENDAR
VERSION:2.0
PRODID:-//Ehige - ECPv6.15.20//NONSGML v1.0//EN
CALSCALE:GREGORIAN
METHOD:PUBLISH
X-WR-CALNAME:Ehige
X-ORIGINAL-URL:https://www.ehige.eus/es/
X-WR-CALDESC:Eventos para Ehige
REFRESH-INTERVAL;VALUE=DURATION:PT1H
X-Robots-Tag:noindex
X-PUBLISHED-TTL:PT1H
BEGIN:VTIMEZONE
TZID:Europe/Madrid
BEGIN:DAYLIGHT
TZOFFSETFROM:+0100
TZOFFSETTO:+0200
TZNAME:CEST
DTSTART:20240331T010000
END:DAYLIGHT
BEGIN:STANDARD
TZOFFSETFROM:+0200
TZOFFSETTO:+0100
TZNAME:CET
DTSTART:20241027T010000
END:STANDARD
BEGIN:DAYLIGHT
TZOFFSETFROM:+0100
TZOFFSETTO:+0200
TZNAME:CEST
DTSTART:20250330T010000
END:DAYLIGHT
BEGIN:STANDARD
TZOFFSETFROM:+0200
TZOFFSETTO:+0100
TZNAME:CET
DTSTART:20251026T010000
END:STANDARD
BEGIN:DAYLIGHT
TZOFFSETFROM:+0100
TZOFFSETTO:+0200
TZNAME:CEST
DTSTART:20260329T010000
END:DAYLIGHT
BEGIN:STANDARD
TZOFFSETFROM:+0200
TZOFFSETTO:+0100
TZNAME:CET
DTSTART:20261025T010000
END:STANDARD
END:VTIMEZONE
BEGIN:VEVENT
DTSTART;TZID=Europe/Madrid:20250402T164500
DTEND;TZID=Europe/Madrid:20250402T184500
DTSTAMP:20260420T150816
CREATED:20250401T102231Z
LAST-MODIFIED:20250401T102247Z
UID:37033-1743612300-1743619500@www.ehige.eus
SUMMARY:Basauriko guraso eskolak: Sofia Taramona eskola
DESCRIPTION:
URL:https://www.ehige.eus/es/event/basauriko-guraso-eskolak-sofia-taramona-eskola/
CATEGORIES:Formación
ATTACH;FMTTYPE=image/jpeg:https://www.ehige.eus/wp-content/uploads/2025/04/SOFIA-TARAMONA-apirilak-2.jpg
ORGANIZER;CN="BIGE":MAILTO:bige@bige.eus
END:VEVENT
BEGIN:VEVENT
DTSTART;TZID=Europe/Madrid:20250403T164500
DTEND;TZID=Europe/Madrid:20250403T184500
DTSTAMP:20260420T150816
CREATED:20250401T101459Z
LAST-MODIFIED:20250401T101523Z
UID:37019-1743698700-1743705900@www.ehige.eus
SUMMARY:Guraso eskola Bilbao: Indautxu eskola
DESCRIPTION:
URL:https://www.ehige.eus/es/event/guraso-eskola-bilbao-indautxu-eskola-6/
CATEGORIES:Formación
ATTACH;FMTTYPE=image/jpeg:https://www.ehige.eus/wp-content/uploads/2025/04/IRUARTETA-apirilak-7-2.jpg
ORGANIZER;CN="BIGE":MAILTO:bige@bige.eus
END:VEVENT
BEGIN:VEVENT
DTSTART;TZID=Europe/Madrid:20250407T164500
DTEND;TZID=Europe/Madrid:20250407T184500
DTSTAMP:20260420T150816
CREATED:20250401T100920Z
LAST-MODIFIED:20250401T100939Z
UID:37013-1744044300-1744051500@www.ehige.eus
SUMMARY:Guraso eskola Bilbao: Iruarteta eskola
DESCRIPTION:
URL:https://www.ehige.eus/es/event/guraso-eskola-bilbao-iruarteta-eskola-7/
CATEGORIES:Formación
ATTACH;FMTTYPE=image/jpeg:https://www.ehige.eus/wp-content/uploads/2025/04/IRUARTETA-apirilak-7.jpg
ORGANIZER;CN="BIGE":MAILTO:bige@bige.eus
END:VEVENT
BEGIN:VEVENT
DTSTART;TZID=Europe/Madrid:20250408T164500
DTEND;TZID=Europe/Madrid:20250408T184500
DTSTAMP:20260420T150816
CREATED:20250401T101903Z
LAST-MODIFIED:20250401T101916Z
UID:37029-1744130700-1744137900@www.ehige.eus
SUMMARY:Basauriko guraso eskolak: Jose Etxegarai eskola
DESCRIPTION:
URL:https://www.ehige.eus/es/event/basauriko-guraso-eskolak-jose-etxegarai-eskola/
CATEGORIES:Formación
ATTACH;FMTTYPE=image/jpeg:https://www.ehige.eus/wp-content/uploads/2025/04/ETXEGARAI-apirilak-8.jpg
ORGANIZER;CN="BIGE":MAILTO:bige@bige.eus
END:VEVENT
BEGIN:VEVENT
DTSTART;TZID=Europe/Madrid:20250409T164500
DTEND;TZID=Europe/Madrid:20250409T184500
DTSTAMP:20260420T150816
CREATED:20250401T100228Z
LAST-MODIFIED:20250401T100243Z
UID:36998-1744217100-1744224300@www.ehige.eus
SUMMARY:Guraso eskola Bilbao: Luis Briñas eskola
DESCRIPTION:
URL:https://www.ehige.eus/es/event/guraso-eskola-bilbao-luis-brinas-eskola-8/
CATEGORIES:Formación
ATTACH;FMTTYPE=image/jpeg:https://www.ehige.eus/wp-content/uploads/2025/04/BRINAS-apirilak-9.jpg
ORGANIZER;CN="BIGE":MAILTO:bige@bige.eus
END:VEVENT
BEGIN:VEVENT
DTSTART;TZID=Europe/Madrid:20250409T173000
DTEND;TZID=Europe/Madrid:20250409T193000
DTSTAMP:20260420T150816
CREATED:20250401T100457Z
LAST-MODIFIED:20250401T100514Z
UID:37006-1744219800-1744227000@www.ehige.eus
SUMMARY:BIGE dormazioa: Dislexia
DESCRIPTION:
URL:https://www.ehige.eus/es/event/bige-dormazioa-dislexia/
CATEGORIES:Formación
ATTACH;FMTTYPE=image/jpeg:https://www.ehige.eus/wp-content/uploads/2025/04/DISLEXIA-Bilbao-9-abril-2.jpg
ORGANIZER;CN="BIGE":MAILTO:bige@bige.eus
END:VEVENT
BEGIN:VEVENT
DTSTART;TZID=Europe/Madrid:20250410T164500
DTEND;TZID=Europe/Madrid:20250410T184500
DTSTAMP:20260420T150816
CREATED:20250401T095706Z
LAST-MODIFIED:20250401T095731Z
UID:36987-1744303500-1744310700@www.ehige.eus
SUMMARY:Guraso eskola Bilbao: Basurto eskola
DESCRIPTION:
URL:https://www.ehige.eus/es/event/guraso-eskola-bilbao-basurto-eskola-9/
CATEGORIES:Formación
ATTACH;FMTTYPE=image/jpeg:https://www.ehige.eus/wp-content/uploads/2025/04/BASURTO-apirilak-10-1.jpg
ORGANIZER;CN="BIGE":MAILTO:bige@bige.eus
END:VEVENT
END:VCALENDAR