BEGIN:VCALENDAR
VERSION:2.0
PRODID:-//Ehige - ECPv6.15.20//NONSGML v1.0//EN
CALSCALE:GREGORIAN
METHOD:PUBLISH
X-ORIGINAL-URL:https://www.ehige.eus/es/
X-WR-CALDESC:Eventos para Ehige
REFRESH-INTERVAL;VALUE=DURATION:PT1H
X-Robots-Tag:noindex
X-PUBLISHED-TTL:PT1H
BEGIN:VTIMEZONE
TZID:Europe/Madrid
BEGIN:DAYLIGHT
TZOFFSETFROM:+0100
TZOFFSETTO:+0200
TZNAME:CEST
DTSTART:20230326T010000
END:DAYLIGHT
BEGIN:STANDARD
TZOFFSETFROM:+0200
TZOFFSETTO:+0100
TZNAME:CET
DTSTART:20231029T010000
END:STANDARD
BEGIN:DAYLIGHT
TZOFFSETFROM:+0100
TZOFFSETTO:+0200
TZNAME:CEST
DTSTART:20240331T010000
END:DAYLIGHT
BEGIN:STANDARD
TZOFFSETFROM:+0200
TZOFFSETTO:+0100
TZNAME:CET
DTSTART:20241027T010000
END:STANDARD
BEGIN:DAYLIGHT
TZOFFSETFROM:+0100
TZOFFSETTO:+0200
TZNAME:CEST
DTSTART:20250330T010000
END:DAYLIGHT
BEGIN:STANDARD
TZOFFSETFROM:+0200
TZOFFSETTO:+0100
TZNAME:CET
DTSTART:20251026T010000
END:STANDARD
END:VTIMEZONE
BEGIN:VEVENT
DTSTART;TZID=Europe/Madrid:20241105T180000
DTEND;TZID=Europe/Madrid:20241105T193000
DTSTAMP:20260420T150959
CREATED:20241023T115606Z
LAST-MODIFIED:20241023T115614Z
UID:34669-1730829600-1730835000@www.ehige.eus
SUMMARY:Guraso Eskola Bilbao: Deustuko ikastola
DESCRIPTION:
URL:https://www.ehige.eus/es/event/guraso-eskola-bilbao-deustuko-ikastola-2/
CATEGORIES:Formación
ATTACH;FMTTYPE=image/jpeg:https://www.ehige.eus/wp-content/uploads/2024/10/DEUSTUKO-IKAS-AZAROA.jpg
ORGANIZER;CN="BIGE":MAILTO:bige@bige.eus
END:VEVENT
BEGIN:VEVENT
DTSTART;TZID=Europe/Madrid:20241112T164500
DTEND;TZID=Europe/Madrid:20241112T181500
DTSTAMP:20260420T150959
CREATED:20241128T110319Z
LAST-MODIFIED:20241128T110319Z
UID:35215-1731429900-1731435300@www.ehige.eus
SUMMARY:Guraso Eskola Bilbao: Basurto Eskola
DESCRIPTION:
URL:https://www.ehige.eus/es/event/guraso-eskola-bilbao-basurto-eskola-3/
CATEGORIES:Formación
ATTACH;FMTTYPE=image/jpeg:https://www.ehige.eus/wp-content/uploads/2024/11/BASURTO-AB12.jpg
ORGANIZER;CN="BIGE":MAILTO:bige@bige.eus
END:VEVENT
BEGIN:VEVENT
DTSTART;TZID=Europe/Madrid:20241114T091500
DTEND;TZID=Europe/Madrid:20241114T104500
DTSTAMP:20260420T150959
CREATED:20241111T110731Z
LAST-MODIFIED:20241111T110753Z
UID:34986-1731575700-1731581100@www.ehige.eus
SUMMARY:Guraso Eskola Bilbao: Zorrotza-Fray Juan
DESCRIPTION:
URL:https://www.ehige.eus/es/event/guraso-eskola-bilbao-zorrotza-fray-juan/
CATEGORIES:Formación
ATTACH;FMTTYPE=image/jpeg:https://www.ehige.eus/wp-content/uploads/2024/11/Zorrotza-AZAROAK-14.jpg
ORGANIZER;CN="BIGE":MAILTO:bige@bige.eus
END:VEVENT
BEGIN:VEVENT
DTSTART;TZID=Europe/Madrid:20241114T164500
DTEND;TZID=Europe/Madrid:20241114T181500
DTSTAMP:20260420T150959
CREATED:20241111T110920Z
LAST-MODIFIED:20241111T110935Z
UID:34992-1731602700-1731608100@www.ehige.eus
SUMMARY:Guraso Eskola Bilbao: Basurto eskola
DESCRIPTION:
URL:https://www.ehige.eus/es/event/guraso-eskola-bilbao-basurto-eskola-2/
CATEGORIES:Formación
ATTACH;FMTTYPE=image/jpeg:https://www.ehige.eus/wp-content/uploads/2024/11/bASURTO-AZAROAK-14.jpg
ORGANIZER;CN="BIGE":MAILTO:bige@bige.eus
END:VEVENT
BEGIN:VEVENT
DTSTART;TZID=Europe/Madrid:20241114T180000
DTEND;TZID=Europe/Madrid:20241114T193000
DTSTAMP:20260420T150959
CREATED:20241111T110547Z
LAST-MODIFIED:20241111T110556Z
UID:34980-1731607200-1731612600@www.ehige.eus
SUMMARY:Guraso Eskola Bilbao: IES Ibarrekolanda BHI
DESCRIPTION:
URL:https://www.ehige.eus/es/event/guraso-eskola-bilbao-ies-ibarrekolanda-bhi-2/
CATEGORIES:Formación
ATTACH;FMTTYPE=image/jpeg:https://www.ehige.eus/wp-content/uploads/2024/11/Ibarrekolanda-AZAROAK-14.jpg
ORGANIZER;CN="BIGE":MAILTO:bige@bige.eus
END:VEVENT
BEGIN:VEVENT
DTSTART;TZID=Europe/Madrid:20241118T164500
DTEND;TZID=Europe/Madrid:20241118T181500
DTSTAMP:20260420T150959
CREATED:20241111T110324Z
LAST-MODIFIED:20241111T110336Z
UID:34974-1731948300-1731953700@www.ehige.eus
SUMMARY:Guraso Eskola Bilbao: Iruarteta eskola
DESCRIPTION:
URL:https://www.ehige.eus/es/event/guraso-eskola-bilbao-iruarteta-eskola/
CATEGORIES:Formación
ATTACH;FMTTYPE=image/jpeg:https://www.ehige.eus/wp-content/uploads/2024/11/iRUARTETA-AZAROAK-18.jpg
ORGANIZER;CN="BIGE":MAILTO:bige@bige.eus
END:VEVENT
BEGIN:VEVENT
DTSTART;TZID=Europe/Madrid:20241120T164500
DTEND;TZID=Europe/Madrid:20241120T181500
DTSTAMP:20260420T150959
CREATED:20241111T110037Z
LAST-MODIFIED:20241111T110138Z
UID:34968-1732121100-1732126500@www.ehige.eus
SUMMARY:Guraso Eskola Bilbao: Luis Briñas
DESCRIPTION:
URL:https://www.ehige.eus/es/event/guraso-eskola-bilbao-luis-brinas/
CATEGORIES:Formación
ATTACH;FMTTYPE=image/jpeg:https://www.ehige.eus/wp-content/uploads/2024/11/lUIS-Brinas-azaroa.jpg
ORGANIZER;CN="BIGE":MAILTO:bige@bige.eus
END:VEVENT
BEGIN:VEVENT
DTSTART;TZID=Europe/Madrid:20241121T164500
DTEND;TZID=Europe/Madrid:20241121T181500
DTSTAMP:20260420T150959
CREATED:20241111T105602Z
LAST-MODIFIED:20241111T105707Z
UID:34955-1732207500-1732212900@www.ehige.eus
SUMMARY:Guraso Eskola Bilbao: Indautxu eskola
DESCRIPTION:
URL:https://www.ehige.eus/es/event/guraso-eskola-bilbao-indautxu-eskola/
CATEGORIES:Formación
ATTACH;FMTTYPE=image/jpeg:https://www.ehige.eus/wp-content/uploads/2024/11/Indautxu-azaroa.jpg
ORGANIZER;CN="BIGE":MAILTO:bige@bige.eus
END:VEVENT
BEGIN:VEVENT
DTSTART;TZID=Europe/Madrid:20241121T164500
DTEND;TZID=Europe/Madrid:20241121T181500
DTSTAMP:20260420T150959
CREATED:20241111T105831Z
LAST-MODIFIED:20241111T105842Z
UID:34962-1732207500-1732212900@www.ehige.eus
SUMMARY:Guraso Eskola Bilbao: Cervantes eskola
DESCRIPTION:
URL:https://www.ehige.eus/es/event/guraso-eskola-bilbao-cervantes-eskola/
CATEGORIES:Formación
ATTACH;FMTTYPE=image/jpeg:https://www.ehige.eus/wp-content/uploads/2024/11/Cervantes-azaroa.jpg
ORGANIZER;CN="BIGE":MAILTO:bige@bige.eus
END:VEVENT
BEGIN:VEVENT
DTSTART;TZID=Europe/Madrid:20241128T164500
DTEND;TZID=Europe/Madrid:20241128T181500
DTSTAMP:20260420T150959
CREATED:20241126T112455Z
LAST-MODIFIED:20241128T104919Z
UID:35180-1732812300-1732817700@www.ehige.eus
SUMMARY:Guraso Eskola Bilbao: Zamakola eskola
DESCRIPTION:
URL:https://www.ehige.eus/es/event/guraso-eskola-bilbao-zamakola-eskola/
CATEGORIES:Formación
ATTACH;FMTTYPE=image/jpeg:https://www.ehige.eus/wp-content/uploads/2024/11/ZAMAKOLA-A28.jpg
ORGANIZER;CN="BIGE":MAILTO:bige@bige.eus
END:VEVENT
BEGIN:VEVENT
DTSTART;TZID=Europe/Madrid:20241128T164500
DTEND;TZID=Europe/Madrid:20241128T181500
DTSTAMP:20260420T150959
CREATED:20241126T112841Z
LAST-MODIFIED:20241128T104602Z
UID:35188-1732812300-1732817700@www.ehige.eus
SUMMARY:Guraso Eskola Bilbao: Basurtuko eskola
DESCRIPTION:
URL:https://www.ehige.eus/es/event/guraso-eskola-bilbao-basurtuko-eskola/
CATEGORIES:Formación
ATTACH;FMTTYPE=image/jpeg:https://www.ehige.eus/wp-content/uploads/2024/11/BASURTO-A28.jpg
ORGANIZER;CN="BIGE":MAILTO:bige@bige.eus
END:VEVENT
BEGIN:VEVENT
DTSTART;TZID=Europe/Madrid:20241128T173000
DTEND;TZID=Europe/Madrid:20241128T190000
DTSTAMP:20260420T150959
CREATED:20241126T112722Z
LAST-MODIFIED:20241128T104535Z
UID:35184-1732815000-1732820400@www.ehige.eus
SUMMARY:Guraso Eskola: Unkina eskola (Usansolo)
DESCRIPTION:
URL:https://www.ehige.eus/es/event/guraso-eskola-unkina-eskola-usansolo/
CATEGORIES:Formación
ATTACH;FMTTYPE=image/jpeg:https://www.ehige.eus/wp-content/uploads/2024/11/UNKINA-A28.jpg
ORGANIZER;CN="BIGE":MAILTO:bige@bige.eus
END:VEVENT
END:VCALENDAR