BEGIN:VCALENDAR
VERSION:2.0
PRODID:-//Ehige - ECPv6.15.20//NONSGML v1.0//EN
CALSCALE:GREGORIAN
METHOD:PUBLISH
X-WR-CALNAME:Ehige
X-ORIGINAL-URL:https://www.ehige.eus/es/
X-WR-CALDESC:Eventos para Ehige
REFRESH-INTERVAL;VALUE=DURATION:PT1H
X-Robots-Tag:noindex
X-PUBLISHED-TTL:PT1H
BEGIN:VTIMEZONE
TZID:Europe/Madrid
BEGIN:DAYLIGHT
TZOFFSETFROM:+0100
TZOFFSETTO:+0200
TZNAME:CEST
DTSTART:20230326T010000
END:DAYLIGHT
BEGIN:STANDARD
TZOFFSETFROM:+0200
TZOFFSETTO:+0100
TZNAME:CET
DTSTART:20231029T010000
END:STANDARD
BEGIN:DAYLIGHT
TZOFFSETFROM:+0100
TZOFFSETTO:+0200
TZNAME:CEST
DTSTART:20240331T010000
END:DAYLIGHT
BEGIN:STANDARD
TZOFFSETFROM:+0200
TZOFFSETTO:+0100
TZNAME:CET
DTSTART:20241027T010000
END:STANDARD
BEGIN:DAYLIGHT
TZOFFSETFROM:+0100
TZOFFSETTO:+0200
TZNAME:CEST
DTSTART:20250330T010000
END:DAYLIGHT
BEGIN:STANDARD
TZOFFSETFROM:+0200
TZOFFSETTO:+0100
TZNAME:CET
DTSTART:20251026T010000
END:STANDARD
END:VTIMEZONE
BEGIN:VEVENT
DTSTART;TZID=Europe/Madrid:20240502T150000
DTEND;TZID=Europe/Madrid:20240502T170000
DTSTAMP:20260420T150808
CREATED:20240430T093142Z
LAST-MODIFIED:20240430T093154Z
UID:32949-1714662000-1714669200@www.ehige.eus
SUMMARY:BIGE Guraso eskola: Gallego Gorria eskola
DESCRIPTION:
URL:https://www.ehige.eus/es/event/bige-guraso-eskola-gallego-gorria-eskola-2/
CATEGORIES:Formación
ATTACH;FMTTYPE=image/jpeg:https://www.ehige.eus/wp-content/uploads/2024/04/gallego-gorria-1.jpg
ORGANIZER;CN="BIGE":MAILTO:bige@bige.eus
END:VEVENT
BEGIN:VEVENT
DTSTART;TZID=Europe/Madrid:20240507T170000
DTEND;TZID=Europe/Madrid:20240507T190000
DTSTAMP:20260420T150808
CREATED:20240430T092954Z
LAST-MODIFIED:20240430T093003Z
UID:32943-1715101200-1715108400@www.ehige.eus
SUMMARY:BIGE Guraso Eskola: Zorrotza institutua
DESCRIPTION:
URL:https://www.ehige.eus/es/event/bige-guraso-eskola-zorrotza-institutua/
CATEGORIES:Formación
ATTACH;FMTTYPE=image/jpeg:https://www.ehige.eus/wp-content/uploads/2024/04/ZORROTZA-BHI.jpg
ORGANIZER;CN="BIGE":MAILTO:bige@bige.eus
END:VEVENT
BEGIN:VEVENT
DTSTART;TZID=Europe/Madrid:20240508T163000
DTEND;TZID=Europe/Madrid:20240508T183000
DTSTAMP:20260420T150808
CREATED:20240503T072044Z
LAST-MODIFIED:20240503T072102Z
UID:33001-1715185800-1715193000@www.ehige.eus
SUMMARY:BIGE Guraso eskola: Zurbarango eskola
DESCRIPTION:
URL:https://www.ehige.eus/es/event/bige-guraso-eskola-zurbarango-eskola/
CATEGORIES:Formación
ATTACH;FMTTYPE=image/jpeg:https://www.ehige.eus/wp-content/uploads/2024/05/ZURBARAN.jpg
ORGANIZER;CN="BIGE":MAILTO:bige@bige.eus
END:VEVENT
BEGIN:VEVENT
DTSTART;TZID=Europe/Madrid:20240508T170000
DTEND;TZID=Europe/Madrid:20240508T190000
DTSTAMP:20260420T150808
CREATED:20240506T085603Z
LAST-MODIFIED:20240506T085636Z
UID:33019-1715187600-1715194800@www.ehige.eus
SUMMARY:BIGE Guraso eskola: Luis Briñas eskola
DESCRIPTION:
URL:https://www.ehige.eus/es/event/bige-guraso-eskola-luis-brinas/
CATEGORIES:Formación
ATTACH;FMTTYPE=image/jpeg:https://www.ehige.eus/wp-content/uploads/2024/05/brinas-2.jpg
ORGANIZER;CN="BIGE":MAILTO:bige@bige.eus
END:VEVENT
BEGIN:VEVENT
DTSTART;TZID=Europe/Madrid:20240510T150000
DTEND;TZID=Europe/Madrid:20240510T170000
DTSTAMP:20260420T150808
CREATED:20240503T071720Z
LAST-MODIFIED:20240503T071751Z
UID:32995-1715353200-1715360400@www.ehige.eus
SUMMARY:BIGE Guraso eskola: Intxixu eskola
DESCRIPTION:
URL:https://www.ehige.eus/es/event/bige-guraso-eskola-intxixu-eskola/
CATEGORIES:Formación
ATTACH;FMTTYPE=image/jpeg:https://www.ehige.eus/wp-content/uploads/2024/05/INTXIXU-1.jpg
ORGANIZER;CN="BIGE":MAILTO:bige@bige.eus
END:VEVENT
BEGIN:VEVENT
DTSTART;TZID=Europe/Madrid:20240513T150000
DTEND;TZID=Europe/Madrid:20240513T170000
DTSTAMP:20260420T150808
CREATED:20240506T090118Z
LAST-MODIFIED:20240506T090118Z
UID:33032-1715612400-1715619600@www.ehige.eus
SUMMARY:BIGE Guraso eskola: Indautxu eskola
DESCRIPTION:
URL:https://www.ehige.eus/es/event/bige-guraso-eskola-indautxu-eskola-3/
CATEGORIES:Formación
ATTACH;FMTTYPE=image/jpeg:https://www.ehige.eus/wp-content/uploads/2024/05/INDAUTXU-3.jpg
ORGANIZER;CN="BIGE":MAILTO:bige@bige.eus
END:VEVENT
BEGIN:VEVENT
DTSTART;TZID=Europe/Madrid:20240514T150000
DTEND;TZID=Europe/Madrid:20240514T170000
DTSTAMP:20260420T150808
CREATED:20240506T085914Z
LAST-MODIFIED:20240506T085922Z
UID:33026-1715698800-1715706000@www.ehige.eus
SUMMARY:BIGE Guraso eskola: Iruarteta eskola
DESCRIPTION:
URL:https://www.ehige.eus/es/event/bige-guraso-eskola-iruarteta-eskola/
CATEGORIES:Formación
ATTACH;FMTTYPE=image/jpeg:https://www.ehige.eus/wp-content/uploads/2024/05/IRUARTETA-2.jpg
ORGANIZER;CN="BIGE":MAILTO:bige@bige.eus
END:VEVENT
BEGIN:VEVENT
DTSTART;TZID=Europe/Madrid:20240516T164500
DTEND;TZID=Europe/Madrid:20240516T184500
DTSTAMP:20260420T150808
CREATED:20240506T085233Z
LAST-MODIFIED:20240506T085233Z
UID:33013-1715877900-1715885100@www.ehige.eus
SUMMARY:BIGE Guraso eskola: Basurto eskola
DESCRIPTION:
URL:https://www.ehige.eus/es/event/bige-guraso-eskola-basurto-eskola/
CATEGORIES:Formación
ATTACH;FMTTYPE=image/jpeg:https://www.ehige.eus/wp-content/uploads/2024/05/BASURTO-3.jpg
ORGANIZER;CN="BIGE":MAILTO:bige@bige.eus
END:VEVENT
BEGIN:VEVENT
DTSTART;TZID=Europe/Madrid:20240521T090000
DTEND;TZID=Europe/Madrid:20240521T143000
DTSTAMP:20260420T150808
CREATED:20240430T091556Z
LAST-MODIFIED:20240430T091908Z
UID:32930-1716282000-1716301800@www.ehige.eus
SUMMARY:XIII Jornadas sobre salud: adolescentes\, sexualidad y pornografía
DESCRIPTION:
URL:https://www.ehige.eus/es/event/xiii-jonada-de-la-salud-adolescentes-sexualidad-y-pornografia/
END:VEVENT
BEGIN:VEVENT
DTSTART;TZID=Europe/Madrid:20240522T163000
DTEND;TZID=Europe/Madrid:20240522T183000
DTSTAMP:20260420T150808
CREATED:20240520T080818Z
LAST-MODIFIED:20240520T080839Z
UID:33206-1716395400-1716402600@www.ehige.eus
SUMMARY:BIGE guraso eskola: Zurbaran eskola
DESCRIPTION:
URL:https://www.ehige.eus/es/event/bige-guraso-eskola-zurbaran-eskola/
CATEGORIES:Formación
ATTACH;FMTTYPE=image/jpeg:https://www.ehige.eus/wp-content/uploads/2024/05/zurbaran-qr.jpg
END:VEVENT
BEGIN:VEVENT
DTSTART;TZID=Europe/Madrid:20240522T170000
DTEND;TZID=Europe/Madrid:20240522T190000
DTSTAMP:20260420T150808
CREATED:20240520T103127Z
LAST-MODIFIED:20240520T103138Z
UID:33218-1716397200-1716404400@www.ehige.eus
SUMMARY:BIGE guraso eskola: LUIS BRIÑAS eskolan
DESCRIPTION:
URL:https://www.ehige.eus/es/event/bige-guraso-eskola-luis-brinas-eskolan/
CATEGORIES:Formación
ATTACH;FMTTYPE=image/jpeg:https://www.ehige.eus/wp-content/uploads/2024/05/Brinas-22.jpg
ORGANIZER;CN="BIGE":MAILTO:bige@bige.eus
END:VEVENT
BEGIN:VEVENT
DTSTART;TZID=Europe/Madrid:20240523T150000
DTEND;TZID=Europe/Madrid:20240523T170000
DTSTAMP:20260420T150808
CREATED:20240520T081207Z
LAST-MODIFIED:20240520T103003Z
UID:33212-1716476400-1716483600@www.ehige.eus
SUMMARY:BIGE guraso eskola: Gallego Gorria eskola
DESCRIPTION:
URL:https://www.ehige.eus/es/event/bige-guraso-eskola-gallego-gorria-eskola-3/
CATEGORIES:Formación
ATTACH;FMTTYPE=image/jpeg:https://www.ehige.eus/wp-content/uploads/2024/05/gallego-gorria-23.jpg
ORGANIZER;CN="BIGE":MAILTO:bige@bige.eus
END:VEVENT
BEGIN:VEVENT
DTSTART;TZID=Europe/Madrid:20240527T150000
DTEND;TZID=Europe/Madrid:20240527T170000
DTSTAMP:20260420T150808
CREATED:20240520T103506Z
LAST-MODIFIED:20240520T103542Z
UID:33230-1716822000-1716829200@www.ehige.eus
SUMMARY:BIGE guraso eskola: INDAUTXU eskolan
DESCRIPTION:
URL:https://www.ehige.eus/es/event/bige-guraso-eskola-indautxu-eskolan/
CATEGORIES:Formación
ATTACH;FMTTYPE=image/jpeg:https://www.ehige.eus/wp-content/uploads/2024/05/indautxu-27.jpg
ORGANIZER;CN="BIGE":MAILTO:bige@bige.eus
END:VEVENT
BEGIN:VEVENT
DTSTART;TZID=Europe/Madrid:20240528T150000
DTEND;TZID=Europe/Madrid:20240528T170000
DTSTAMP:20260420T150808
CREATED:20240520T103253Z
LAST-MODIFIED:20240520T103303Z
UID:33224-1716908400-1716915600@www.ehige.eus
SUMMARY:BIGE guraso eskola: IRUARTETA eskolan
DESCRIPTION:
URL:https://www.ehige.eus/es/event/bige-guraso-eskola-iruarteta-eskolan-2/
CATEGORIES:Formación
ATTACH;FMTTYPE=image/jpeg:https://www.ehige.eus/wp-content/uploads/2024/05/IRUARTETA-28.jpg
ORGANIZER;CN="BIGE":MAILTO:bige@bige.eus
END:VEVENT
BEGIN:VEVENT
DTSTART;TZID=Europe/Madrid:20240530T150000
DTEND;TZID=Europe/Madrid:20240530T170000
DTSTAMP:20260420T150808
CREATED:20240527T105948Z
LAST-MODIFIED:20240527T110002Z
UID:33377-1717081200-1717088400@www.ehige.eus
SUMMARY:BIGE guraso eskola: Gallego Gorria eskola
DESCRIPTION:
URL:https://www.ehige.eus/es/event/bige-guraso-eskola-gallego-gorria-eskola-4/
CATEGORIES:Formación
ATTACH;FMTTYPE=image/jpeg:https://www.ehige.eus/wp-content/uploads/2024/05/GALLEGO-30.jpg
ORGANIZER;CN="BIGE":MAILTO:bige@bige.eus
END:VEVENT
BEGIN:VEVENT
DTSTART;TZID=Europe/Madrid:20240530T180000
DTEND;TZID=Europe/Madrid:20240530T200000
DTSTAMP:20260420T150808
CREATED:20240520T103713Z
LAST-MODIFIED:20240520T103728Z
UID:33236-1717092000-1717099200@www.ehige.eus
SUMMARY:BIGE guraso eskola: DEUSTUKO ikastolan
DESCRIPTION:
URL:https://www.ehige.eus/es/event/bige-guraso-eskola-deustuko-ikastolan/
CATEGORIES:Formación
ATTACH;FMTTYPE=image/jpeg:https://www.ehige.eus/wp-content/uploads/2024/05/DEUSTUKO-IKASTOLA-30.jpg
ORGANIZER;CN="BIGE":MAILTO:bige@bige.eus
END:VEVENT
END:VCALENDAR