BEGIN:VCALENDAR
VERSION:2.0
PRODID:-//Ehige - ECPv6.15.20//NONSGML v1.0//EN
CALSCALE:GREGORIAN
METHOD:PUBLISH
X-WR-CALNAME:Ehige
X-ORIGINAL-URL:https://www.ehige.eus/es/
X-WR-CALDESC:Eventos para Ehige
REFRESH-INTERVAL;VALUE=DURATION:PT1H
X-Robots-Tag:noindex
X-PUBLISHED-TTL:PT1H
BEGIN:VTIMEZONE
TZID:Europe/Madrid
BEGIN:DAYLIGHT
TZOFFSETFROM:+0100
TZOFFSETTO:+0200
TZNAME:CEST
DTSTART:20200329T010000
END:DAYLIGHT
BEGIN:STANDARD
TZOFFSETFROM:+0200
TZOFFSETTO:+0100
TZNAME:CET
DTSTART:20201025T010000
END:STANDARD
BEGIN:DAYLIGHT
TZOFFSETFROM:+0100
TZOFFSETTO:+0200
TZNAME:CEST
DTSTART:20210328T010000
END:DAYLIGHT
BEGIN:STANDARD
TZOFFSETFROM:+0200
TZOFFSETTO:+0100
TZNAME:CET
DTSTART:20211031T010000
END:STANDARD
BEGIN:DAYLIGHT
TZOFFSETFROM:+0100
TZOFFSETTO:+0200
TZNAME:CEST
DTSTART:20220327T010000
END:DAYLIGHT
BEGIN:STANDARD
TZOFFSETFROM:+0200
TZOFFSETTO:+0100
TZNAME:CET
DTSTART:20221030T010000
END:STANDARD
END:VTIMEZONE
BEGIN:VEVENT
DTSTART;TZID=Europe/Madrid:20210603T183000
DTEND;TZID=Europe/Madrid:20210603T203000
DTSTAMP:20260425T045142
CREATED:20210518T111005Z
LAST-MODIFIED:20210527T073431Z
UID:20018-1622745000-1622752200@www.ehige.eus
SUMMARY:Formación Denon Eskola: “La gestión emocional en familia I”
DESCRIPTION:El curso estará dinamizado por EDIREN y constará de dos sesiones de hora y media (grupos máx. 12 personas por orden de inscripción): \n\nEn euskara el 1 y 8 de junio en la sede de Denon eskola a las 18:30\nEn castellano el 3 y 10 de junio en la sede de Denon eskola a las 18:30\n\nMás información aquí.
URL:https://www.ehige.eus/es/event/denon-eskola-la-gestion-emocional-en-familia-copy-copy/
END:VEVENT
BEGIN:VEVENT
DTSTART;TZID=Europe/Madrid:20210610T170000
DTEND;TZID=Europe/Madrid:20210610T183000
DTSTAMP:20260425T045142
CREATED:20210610T081309Z
LAST-MODIFIED:20210610T081309Z
UID:20461-1623344400-1623349800@www.ehige.eus
SUMMARY:Baikara: "Teknologia berriak eta sare sozialak"
DESCRIPTION:La responsable de formación de Baikara\, Nekane Jacinto\, impartirá una sesión en Berrobi hoy\, a las 17.00 sobre «Nuevas tecnologías y redes sociales»
URL:https://www.ehige.eus/es/event/baikara-teknologia-berriak-eta-sare-sozialak/
END:VEVENT
BEGIN:VEVENT
DTSTART;TZID=Europe/Madrid:20210610T183000
DTEND;TZID=Europe/Madrid:20210610T203000
DTSTAMP:20260425T045142
CREATED:20210518T110020Z
LAST-MODIFIED:20210527T073354Z
UID:20014-1623349800-1623357000@www.ehige.eus
SUMMARY:Formación Denon Eskola: “La gestión emocional en familia II”
DESCRIPTION:El curso estará dinamizado por EDIREN y constará de dos sesiones de hora y media (grupos máx. 12 personas por orden de inscripción): \n\nEn euskara el 1 y 8 de junio en la sede de Denon eskola a las 18:30\nEn castellano el 3 y 10 de junio en la sede de Denon eskola a las 18:30\n\nMás información aquí.
URL:https://www.ehige.eus/es/event/denon-eskola-la-gestion-emocional-en-familia-copy/
END:VEVENT
BEGIN:VEVENT
DTSTART;TZID=Europe/Madrid:20210615T173000
DTEND;TZID=Europe/Madrid:20210615T183000
DTSTAMP:20260425T045142
CREATED:20210607T102651Z
LAST-MODIFIED:20210607T104328Z
UID:20398-1623778200-1623781800@www.ehige.eus
SUMMARY:Formación BIGE: subvenciones Gobierno Vasco
DESCRIPTION:Como cada año\, desde BIGE se va a ofrecer formación acerca de la subvención de Gobierno Vasco. Se explicarán las novedades para este año y los pasos que habrá que seguir a la hora de realizar la solicitud y tramitación de la misma. \nFormación en castellano: martes 15 de junio a las 17:30 \nFormación en euskera: jueves 17 de junio a las 17:30 \nPodrán apuntarse un máximo de dos personas por asociación.
URL:https://www.ehige.eus/es/event/formacion-bige-gobierno-vasco/
CATEGORIES:Formación
ATTACH;FMTTYPE=image/jpeg:https://www.ehige.eus/wp-content/uploads/2021/06/subvencionesGV2021.jpg
ORGANIZER;CN="BIGE":MAILTO:bige@bige.eus
END:VEVENT
BEGIN:VEVENT
DTSTART;TZID=Europe/Madrid:20210617T173000
DTEND;TZID=Europe/Madrid:20210617T183000
DTSTAMP:20260425T045142
CREATED:20210607T102916Z
LAST-MODIFIED:20210607T104512Z
UID:20411-1623951000-1623954600@www.ehige.eus
SUMMARY:Formación BIGE: subvenciones Gobierno Vasco
DESCRIPTION:Como cada año\, desde BIGE se va a ofrecer formación acerca de la subvención de Gobierno Vasco. Se explicarán las novedades para este año y los pasos que habrá que seguir a la hora de realizar la solicitud y tramitación de la misma. \nFormación en castellano: martes 15 de junio a las 17:30 \nFormación en euskera: jueves 17 de junio a las 17:30 \nPodrán apuntarse un máximo de dos personas por asociación.
URL:https://www.ehige.eus/es/event/formacion-bige-gobierno-vasco-copy/
CATEGORIES:Formación
ATTACH;FMTTYPE=image/jpeg:https://www.ehige.eus/wp-content/uploads/2021/06/subvencionesGV2021.jpg
ORGANIZER;CN="BIGE":MAILTO:bige@bige.eus
END:VEVENT
END:VCALENDAR