BEGIN:VCALENDAR
VERSION:2.0
PRODID:-//Ehige - ECPv6.15.20//NONSGML v1.0//EN
CALSCALE:GREGORIAN
METHOD:PUBLISH
X-WR-CALNAME:Ehige
X-ORIGINAL-URL:https://www.ehige.eus/es/
X-WR-CALDESC:Eventos para Ehige
REFRESH-INTERVAL;VALUE=DURATION:PT1H
X-Robots-Tag:noindex
X-PUBLISHED-TTL:PT1H
BEGIN:VTIMEZONE
TZID:Europe/Madrid
BEGIN:DAYLIGHT
TZOFFSETFROM:+0100
TZOFFSETTO:+0200
TZNAME:CEST
DTSTART:20200329T010000
END:DAYLIGHT
BEGIN:STANDARD
TZOFFSETFROM:+0200
TZOFFSETTO:+0100
TZNAME:CET
DTSTART:20201025T010000
END:STANDARD
BEGIN:DAYLIGHT
TZOFFSETFROM:+0100
TZOFFSETTO:+0200
TZNAME:CEST
DTSTART:20210328T010000
END:DAYLIGHT
BEGIN:STANDARD
TZOFFSETFROM:+0200
TZOFFSETTO:+0100
TZNAME:CET
DTSTART:20211031T010000
END:STANDARD
BEGIN:DAYLIGHT
TZOFFSETFROM:+0100
TZOFFSETTO:+0200
TZNAME:CEST
DTSTART:20220327T010000
END:DAYLIGHT
BEGIN:STANDARD
TZOFFSETFROM:+0200
TZOFFSETTO:+0100
TZNAME:CET
DTSTART:20221030T010000
END:STANDARD
END:VTIMEZONE
BEGIN:VEVENT
DTSTART;TZID=Europe/Madrid:20210510T180000
DTEND;TZID=Europe/Madrid:20210510T200000
DTSTAMP:20260425T032325
CREATED:20210505T100918Z
LAST-MODIFIED:20210505T100918Z
UID:19849-1620669600-1620676800@www.ehige.eus
SUMMARY:Formación Baikara: “Nola lagundu gure seme-alabei emozioak identifikatzen\, ulertzen eta kudeatzen?"
DESCRIPTION:El día 10 de mayo a las 18:00\, Nekane Jacinto\, pedagoga y responsable de educación de Baikara\, ofrecerá la charla “Nola lagundu gure seme-alabei emozioak identifikatzen\, ulertzen eta kudeatzen?» en el salón de actos de la casa de cultura de Arrasate.
URL:https://www.ehige.eus/es/event/formacion-baikara-nola-lagundu-gure-seme-alabei-emozioak-identifikatzen-ulertzen-eta-kudeatzen/
END:VEVENT
BEGIN:VEVENT
DTSTART;TZID=Europe/Madrid:20210511T173000
DTEND;TZID=Europe/Madrid:20210511T190000
DTSTAMP:20260425T032325
CREATED:20210507T112418Z
LAST-MODIFIED:20210507T112533Z
UID:19867-1620754200-1620759600@www.ehige.eus
SUMMARY:Baikara: "Teknologia berriak eta sare sozialen erabilpen egokia"
DESCRIPTION:La responsable de formación de Baikara\, Nekane Jacinto\, dará esta sesión práctica on line\, en castellano\, dirigida a las madres y padres de Toki Alai LHI de Irun\, el día 11 de mayo a las 17:30
URL:https://www.ehige.eus/es/event/baikara-teknologia-berriak-eta-sare-sozialen-erabilpen-egokia/
END:VEVENT
BEGIN:VEVENT
DTSTART;TZID=Europe/Madrid:20210512T163000
DTEND;TZID=Europe/Madrid:20210512T180000
DTSTAMP:20260425T032325
CREATED:20210507T113609Z
LAST-MODIFIED:20210507T115953Z
UID:19875-1620837000-1620842400@www.ehige.eus
SUMMARY:Baikara: "Komunikazio estrategiak eta gatazken ebazpena"
DESCRIPTION:La responsable de formación de Baikara\, Nekane Jacinto\, ofrecerá una sesión dirigida a las madres y padres de la escuela de Igeldo en el propio centro escolar\, a las 16:30.
URL:https://www.ehige.eus/es/event/baikara-komunikazio-estrategiak-eta-gatazken-ebazpena/
END:VEVENT
BEGIN:VEVENT
DTSTART;TZID=Europe/Madrid:20210513T180000
DTEND;TZID=Europe/Madrid:20210513T193000
DTSTAMP:20260425T032325
CREATED:20210507T114127Z
LAST-MODIFIED:20210507T114127Z
UID:19877-1620928800-1620934200@www.ehige.eus
SUMMARY:Baikara: "Autokontzeptu eta autoestimaren sustatzea"
DESCRIPTION:La responsable de formación de Baikara\, Nekane Jacinto\, ofrecerá una sesión dirigida a las madres y padres de Gain Zuri LHI\, on line\, a las 18:00.
URL:https://www.ehige.eus/es/event/baikara-autokontzeptu-eta-autoestimaren-sustatzea/
END:VEVENT
BEGIN:VEVENT
DTSTART;TZID=Europe/Madrid:20210513T180000
DTEND;TZID=Europe/Madrid:20210513T193000
DTSTAMP:20260425T032325
CREATED:20210507T120148Z
LAST-MODIFIED:20210507T120148Z
UID:19883-1620928800-1620934200@www.ehige.eus
SUMMARY:Baikara: "Autokontzeptu eta autoestimaren sustatzea"
DESCRIPTION:La responsable de formación de Baikara\, Nekane Jacinto\, ofrecerá una sesión dirigida a las madres y padres de Gain Zuri LHI\, On line\, a las 18:00.
URL:https://www.ehige.eus/es/event/baikara-autokontzeptu-eta-autoestimaren-sustatzea-2/
END:VEVENT
BEGIN:VEVENT
DTSTART;TZID=Europe/Madrid:20210520T150000
DTEND;TZID=Europe/Madrid:20210520T163000
DTSTAMP:20260425T032325
CREATED:20210518T162412Z
LAST-MODIFIED:20210518T162412Z
UID:20060-1621522800-1621528200@www.ehige.eus
SUMMARY:Baikara: "Jarrera disruptiboa"
DESCRIPTION:La responsable de formación de Baikara\, Nekane Jacinto\, ofrecerá una sesión el día 20\, a las 15:00 en Landaberri LHI de Lasarte sobre el tema «Jarrera disruptiboa». La cita será tanto presencial como on line.
URL:https://www.ehige.eus/es/event/baikara-jarrera-disruptiboa/
END:VEVENT
BEGIN:VEVENT
DTSTART;TZID=Europe/Madrid:20210520T173000
DTEND;TZID=Europe/Madrid:20210520T183000
DTSTAMP:20260425T032325
CREATED:20210518T082832Z
LAST-MODIFIED:20210518T112149Z
UID:19969-1621531800-1621535400@www.ehige.eus
SUMMARY:Reunión de zona: Busturia y Lea-Artibai
DESCRIPTION:Reunión de zona de Busturia y Lea-Artibai
URL:https://www.ehige.eus/es/event/reunion-de-zona-busturia-y-lea-artibai/
CATEGORIES:Reunión
ORGANIZER;CN="BIGE":MAILTO:bige@bige.eus
END:VEVENT
BEGIN:VEVENT
DTSTART;TZID=Europe/Madrid:20210521T143000
DTEND;TZID=Europe/Madrid:20210521T160000
DTSTAMP:20260425T032325
CREATED:20210518T163113Z
LAST-MODIFIED:20210518T163113Z
UID:20062-1621607400-1621612800@www.ehige.eus
SUMMARY:Baikara: Cierre de curso
DESCRIPTION:El día 21 de mayo\, a las 14:30\, en Sasoeta-Zumaburu LHI de Lasarte Nekane Jacinto\, responsable de formación de Baikara\, pondrá punto y final a las sesiones celebradas con la Asociación de madres y padres del centro con un cierre de curso.
URL:https://www.ehige.eus/es/event/baikara-cierre-de-curso/
END:VEVENT
BEGIN:VEVENT
DTSTART;TZID=Europe/Madrid:20210525T170000
DTEND;TZID=Europe/Madrid:20210525T183000
DTSTAMP:20260425T032325
CREATED:20210524T153812Z
LAST-MODIFIED:20210524T153812Z
UID:20151-1621962000-1621967400@www.ehige.eus
SUMMARY:Baikara; "Adimen emozionala"
DESCRIPTION:La responsable de formación de Baikara\, Nekane Jacinto\, dará una sesión sobre «Adimen emozionala» el martes 25 de mayo\, a las 17:00\, en la herri eskola de Berrobi LHI
URL:https://www.ehige.eus/es/event/baikara-adimen-emozionala/
END:VEVENT
BEGIN:VEVENT
DTSTART;TZID=Europe/Madrid:20210526T170000
DTEND;TZID=Europe/Madrid:20210526T183000
DTSTAMP:20260425T032325
CREATED:20210524T151908Z
LAST-MODIFIED:20210524T151908Z
UID:20138-1622048400-1622053800@www.ehige.eus
SUMMARY:Baikara: "Etapas del desarrollo evolutivo y de la personalidad"
DESCRIPTION:En Murumendi LHI\, el miércoles 26 de mayo\, a las 17:00 la responsable de formación de Baikara\, Nekane Jacinto\, dará una sesión sobre «Etapas del desarrollo evolutivo y de la personalidad»
URL:https://www.ehige.eus/es/event/baikara-etapas-del-desarrollo-evolutivo-y-de-la-personalidad/
END:VEVENT
BEGIN:VEVENT
DTSTART;TZID=Europe/Madrid:20210527T180000
DTEND;TZID=Europe/Madrid:20210527T193000
DTSTAMP:20260425T032325
CREATED:20210524T153011Z
LAST-MODIFIED:20210527T072718Z
UID:20146-1622138400-1622143800@www.ehige.eus
SUMMARY:Formación Baikara: "Disziplina positiboa eta limite/arauen adostu/ezarpena"
DESCRIPTION:El jueves 27 de mayo a las 18:00 en el centro escolar Gainzuri LHI de Urretxu la responsable de formación de Baikara\, Nekane Jacinto\, dará una sesión online sobre «Disziplina positiboa eta limite/arauen adostu/ezarpena»
URL:https://www.ehige.eus/es/event/baikara-disziplina-positiboa-eta-limite-arauen-adostu-ezarpena/
END:VEVENT
END:VCALENDAR