BEGIN:VCALENDAR
VERSION:2.0
PRODID:-//Ehige - ECPv6.15.20//NONSGML v1.0//EN
CALSCALE:GREGORIAN
METHOD:PUBLISH
X-WR-CALNAME:Ehige
X-ORIGINAL-URL:https://www.ehige.eus/es/
X-WR-CALDESC:Eventos para Ehige
REFRESH-INTERVAL;VALUE=DURATION:PT1H
X-Robots-Tag:noindex
X-PUBLISHED-TTL:PT1H
BEGIN:VTIMEZONE
TZID:Europe/Madrid
BEGIN:DAYLIGHT
TZOFFSETFROM:+0100
TZOFFSETTO:+0200
TZNAME:CEST
DTSTART:20200329T010000
END:DAYLIGHT
BEGIN:STANDARD
TZOFFSETFROM:+0200
TZOFFSETTO:+0100
TZNAME:CET
DTSTART:20201025T010000
END:STANDARD
BEGIN:DAYLIGHT
TZOFFSETFROM:+0100
TZOFFSETTO:+0200
TZNAME:CEST
DTSTART:20210328T010000
END:DAYLIGHT
BEGIN:STANDARD
TZOFFSETFROM:+0200
TZOFFSETTO:+0100
TZNAME:CET
DTSTART:20211031T010000
END:STANDARD
BEGIN:DAYLIGHT
TZOFFSETFROM:+0100
TZOFFSETTO:+0200
TZNAME:CEST
DTSTART:20220327T010000
END:DAYLIGHT
BEGIN:STANDARD
TZOFFSETFROM:+0200
TZOFFSETTO:+0100
TZNAME:CET
DTSTART:20221030T010000
END:STANDARD
END:VTIMEZONE
BEGIN:VEVENT
DTSTART;TZID=Europe/Madrid:20210119T183000
DTEND;TZID=Europe/Madrid:20210119T200000
DTSTAMP:20260424T211735
CREATED:20210119T090027Z
LAST-MODIFIED:20210119T090027Z
UID:18242-1611081000-1611086400@www.ehige.eus
SUMMARY:Formación BIGE: participación en OMR
DESCRIPTION:El 19 de enero a las 18:30 BIGE ofrecerá formación sobre la participación en los OMR en la escuela Cervantes de Bilbao.
URL:https://www.ehige.eus/es/event/formacion-bige-participacion-en-omr/
LOCATION:Bilbo
END:VEVENT
BEGIN:VEVENT
DTSTART;TZID=Europe/Madrid:20210121T160000
DTEND;TZID=Europe/Madrid:20210121T173000
DTSTAMP:20260424T211735
CREATED:20210119T090212Z
LAST-MODIFIED:20210119T090212Z
UID:18244-1611244800-1611250200@www.ehige.eus
SUMMARY:Formación BIGE: Junta directiva
DESCRIPTION:El 21 de enero BIGE ofrecerá formación en juntas directivas a la AMPA de Arrigorriaga eskola.
URL:https://www.ehige.eus/es/event/formacion-bige-junta-directiva/
END:VEVENT
BEGIN:VEVENT
DTSTART;TZID=Europe/Madrid:20210125T170000
DTEND;TZID=Europe/Madrid:20210127T190000
DTSTAMP:20260424T211735
CREATED:20210119T090829Z
LAST-MODIFIED:20210119T090829Z
UID:18250-1611594000-1611774000@www.ehige.eus
SUMMARY:BIGE formación: tecnologías
DESCRIPTION:Los días 25 y 27 de enero BIGE ofrecerá formación en tecnologías al AMPA de Luis Briñas Santutxu.
URL:https://www.ehige.eus/es/event/bige-formacion-tecnologias/
END:VEVENT
END:VCALENDAR