BEGIN:VCALENDAR
VERSION:2.0
PRODID:-//Ehige - ECPv6.15.20//NONSGML v1.0//EN
CALSCALE:GREGORIAN
METHOD:PUBLISH
X-WR-CALNAME:Ehige
X-ORIGINAL-URL:https://www.ehige.eus/es/
X-WR-CALDESC:Eventos para Ehige
REFRESH-INTERVAL;VALUE=DURATION:PT1H
X-Robots-Tag:noindex
X-PUBLISHED-TTL:PT1H
BEGIN:VTIMEZONE
TZID:Europe/Madrid
BEGIN:DAYLIGHT
TZOFFSETFROM:+0100
TZOFFSETTO:+0200
TZNAME:CEST
DTSTART:20180325T010000
END:DAYLIGHT
BEGIN:STANDARD
TZOFFSETFROM:+0200
TZOFFSETTO:+0100
TZNAME:CET
DTSTART:20181028T010000
END:STANDARD
BEGIN:DAYLIGHT
TZOFFSETFROM:+0100
TZOFFSETTO:+0200
TZNAME:CEST
DTSTART:20190331T010000
END:DAYLIGHT
BEGIN:STANDARD
TZOFFSETFROM:+0200
TZOFFSETTO:+0100
TZNAME:CET
DTSTART:20191027T010000
END:STANDARD
BEGIN:DAYLIGHT
TZOFFSETFROM:+0100
TZOFFSETTO:+0200
TZNAME:CEST
DTSTART:20200329T010000
END:DAYLIGHT
BEGIN:STANDARD
TZOFFSETFROM:+0200
TZOFFSETTO:+0100
TZNAME:CET
DTSTART:20201025T010000
END:STANDARD
END:VTIMEZONE
BEGIN:VEVENT
DTSTART;TZID=Europe/Madrid:20191203T080000
DTEND;TZID=Europe/Madrid:20191203T170000
DTSTAMP:20260424T051405
CREATED:20191203T090121Z
LAST-MODIFIED:20191203T091232Z
UID:13649-1575360000-1575392400@www.ehige.eus
SUMMARY:Euskal Eskola Publikoaz Harro!
DESCRIPTION:La plataforma por la escuela pública vasca de Vitoria-Gasteiz ha presentado la campaña Euskal Eskola Publikoaz Harro! que dará cobertura a diferentes iniciativas y movilizaciones a lo largo del curso entre las que destacan un manifiesto firmado entre otros por EHIGE que buscará la adhesión de los diferentes centros escolares y AMPA. \nTenéis toda la información en la siguiente dirección: \nhttp://www.plataformaeskolapublik
URL:https://www.ehige.eus/es/event/euskal-eskola-publikoaz-harro/
ATTACH;FMTTYPE=image/jpeg:https://www.ehige.eus/wp-content/uploads/2019/12/20191202_105609-scaled.jpg
END:VEVENT
BEGIN:VEVENT
DTSTART;TZID=Europe/Madrid:20191204T170000
DTEND;TZID=Europe/Madrid:20191204T200000
DTSTAMP:20260424T051405
CREATED:20191126T111518Z
LAST-MODIFIED:20191126T111518Z
UID:13592-1575478800-1575489600@www.ehige.eus
SUMMARY:Formación: vivir sin plástico
DESCRIPTION:El día 4 de diciembre a las 17:00 el CEIP Mimetiz de Zalla acogerá la sesión formativa Vivir sin plástico.
URL:https://www.ehige.eus/es/event/formacion-vivir-sin-plastico/
LOCATION:Zalla
ATTACH;FMTTYPE=image/jpeg:https://www.ehige.eus/wp-content/uploads/2019/11/Mimetiz-banner-abenduak-4.jpg
END:VEVENT
BEGIN:VEVENT
DTSTART;TZID=Europe/Madrid:20191212T090000
DTEND;TZID=Europe/Madrid:20191212T190000
DTSTAMP:20260424T051405
CREATED:20191126T112856Z
LAST-MODIFIED:20191126T112856Z
UID:13604-1576141200-1576177200@www.ehige.eus
SUMMARY:VIII. Jornadas Pedagógicas de HEIZE
DESCRIPTION:HEIZE\, la federación de directoras y directores de los centros educativos públicos celebrará las VIII. Jornadas Pedagógicas “Investigación Educativa de la UPV aplicada a la mejora de las escuelas” el 12 de diciembre en el edificio Barriola de la UPV\, en Donostia.
URL:https://www.ehige.eus/es/event/viii-jornadas-pedagogicas-de-heize/
LOCATION:Donostia
ATTACH;FMTTYPE=image/png:https://www.ehige.eus/wp-content/uploads/2018/10/heize.png
END:VEVENT
END:VCALENDAR