BEGIN:VCALENDAR
VERSION:2.0
PRODID:-//Ehige - ECPv6.15.20//NONSGML v1.0//EN
CALSCALE:GREGORIAN
METHOD:PUBLISH
X-ORIGINAL-URL:https://www.ehige.eus/es/
X-WR-CALDESC:Eventos para Ehige
REFRESH-INTERVAL;VALUE=DURATION:PT1H
X-Robots-Tag:noindex
X-PUBLISHED-TTL:PT1H
BEGIN:VTIMEZONE
TZID:Europe/Madrid
BEGIN:DAYLIGHT
TZOFFSETFROM:+0100
TZOFFSETTO:+0200
TZNAME:CEST
DTSTART:20220327T010000
END:DAYLIGHT
BEGIN:STANDARD
TZOFFSETFROM:+0200
TZOFFSETTO:+0100
TZNAME:CET
DTSTART:20221030T010000
END:STANDARD
BEGIN:DAYLIGHT
TZOFFSETFROM:+0100
TZOFFSETTO:+0200
TZNAME:CEST
DTSTART:20230326T010000
END:DAYLIGHT
BEGIN:STANDARD
TZOFFSETFROM:+0200
TZOFFSETTO:+0100
TZNAME:CET
DTSTART:20231029T010000
END:STANDARD
BEGIN:DAYLIGHT
TZOFFSETFROM:+0100
TZOFFSETTO:+0200
TZNAME:CEST
DTSTART:20240331T010000
END:DAYLIGHT
BEGIN:STANDARD
TZOFFSETFROM:+0200
TZOFFSETTO:+0100
TZNAME:CET
DTSTART:20241027T010000
END:STANDARD
END:VTIMEZONE
BEGIN:VEVENT
DTSTART;TZID=Europe/Madrid:20231123T173000
DTEND;TZID=Europe/Madrid:20231123T190000
DTSTAMP:20260422T185433
CREATED:20231115T090219Z
LAST-MODIFIED:20231115T090246Z
UID:31195-1700760600-1700766000@www.ehige.eus
SUMMARY:BIGE: Bilboko Guraso Eskola. AMPA Karmelo IKastola IGE
DESCRIPTION:
URL:https://www.ehige.eus/es/event/bige-bilboko-guraso-eskola-ampa-karmelo-ikastola-ige/
CATEGORIES:Formación
ORGANIZER;CN="BIGE":MAILTO:bige@bige.eus
END:VEVENT
END:VCALENDAR