BEGIN:VCALENDAR
VERSION:2.0
PRODID:-//Ehige - ECPv6.15.20//NONSGML v1.0//EN
CALSCALE:GREGORIAN
METHOD:PUBLISH
X-WR-CALNAME:Ehige
X-ORIGINAL-URL:https://www.ehige.eus/es/
X-WR-CALDESC:Eventos para Ehige
REFRESH-INTERVAL;VALUE=DURATION:PT1H
X-Robots-Tag:noindex
X-PUBLISHED-TTL:PT1H
BEGIN:VTIMEZONE
TZID:Europe/Madrid
BEGIN:DAYLIGHT
TZOFFSETFROM:+0100
TZOFFSETTO:+0200
TZNAME:CEST
DTSTART:20210328T010000
END:DAYLIGHT
BEGIN:STANDARD
TZOFFSETFROM:+0200
TZOFFSETTO:+0100
TZNAME:CET
DTSTART:20211031T010000
END:STANDARD
BEGIN:DAYLIGHT
TZOFFSETFROM:+0100
TZOFFSETTO:+0200
TZNAME:CEST
DTSTART:20220327T010000
END:DAYLIGHT
BEGIN:STANDARD
TZOFFSETFROM:+0200
TZOFFSETTO:+0100
TZNAME:CET
DTSTART:20221030T010000
END:STANDARD
BEGIN:DAYLIGHT
TZOFFSETFROM:+0100
TZOFFSETTO:+0200
TZNAME:CEST
DTSTART:20230326T010000
END:DAYLIGHT
BEGIN:STANDARD
TZOFFSETFROM:+0200
TZOFFSETTO:+0100
TZNAME:CET
DTSTART:20231029T010000
END:STANDARD
END:VTIMEZONE
BEGIN:VEVENT
DTSTART;TZID=Europe/Madrid:20220119T173000
DTEND;TZID=Europe/Madrid:20220119T190000
DTSTAMP:20260424T000813
CREATED:20220103T114756Z
LAST-MODIFIED:20220103T122313Z
UID:22476-1642613400-1642618800@www.ehige.eus
SUMMARY:Formación BIGE: fiscalidad para las AMPA (castellano)
DESCRIPTION:Hemos preparado dos sesiones de formación gratuitas sobre fiscalidad para las AMPA federadas en BIGE que esperamos os sean útiles. Las formaciones se realizarán online a las 5.30 de la tarde los días 19 de enero\, en castellano\, y 20 de enero\, en euskera. Si quieres conocer los contenidos de las formaciones entra en la noticia y apúntate. \nEstos son los contenidos que trabajaremos en las sesiones de formación que hemos preparado: \nGestión económica: \n– Libros y cuentas de un AMPA \n– Facturación \n  \nFiscalidad en las AMPA: \n– Obligaciones censales (NIF y modelo 036) e IAE \n– IRPF (retenciones profesionales\, modelo 110 y 190) \n– Modelo 347 \n– IVA \n– Impuesto de Sociedades \n  \nPara poder participar\, rellena el formulario de inscripción: \nhttps://docs.google.com/forms/d/e/1FAIpQLScFcucGFTOI-EaXk6o_1jOd47mfEls6WIwAJ-oNEHBsjY-oCw/viewform \n  \nMáximo dos personas por AMPA.
URL:https://www.ehige.eus/es/event/formacion-bige-fiscalidad-para-las-ampa/
LOCATION:Online
CATEGORIES:Formación
ORGANIZER;CN="BIGE":MAILTO:bige@bige.eus
END:VEVENT
END:VCALENDAR