BEGIN:VCALENDAR
VERSION:2.0
PRODID:-//Ehige - ECPv6.15.20//NONSGML v1.0//EN
CALSCALE:GREGORIAN
METHOD:PUBLISH
X-ORIGINAL-URL:https://www.ehige.eus/es/
X-WR-CALDESC:Eventos para Ehige
REFRESH-INTERVAL;VALUE=DURATION:PT1H
X-Robots-Tag:noindex
X-PUBLISHED-TTL:PT1H
BEGIN:VTIMEZONE
TZID:Europe/Madrid
BEGIN:DAYLIGHT
TZOFFSETFROM:+0100
TZOFFSETTO:+0200
TZNAME:CEST
DTSTART:20230326T010000
END:DAYLIGHT
BEGIN:STANDARD
TZOFFSETFROM:+0200
TZOFFSETTO:+0100
TZNAME:CET
DTSTART:20231029T010000
END:STANDARD
BEGIN:DAYLIGHT
TZOFFSETFROM:+0100
TZOFFSETTO:+0200
TZNAME:CEST
DTSTART:20240331T010000
END:DAYLIGHT
BEGIN:STANDARD
TZOFFSETFROM:+0200
TZOFFSETTO:+0100
TZNAME:CET
DTSTART:20241027T010000
END:STANDARD
BEGIN:DAYLIGHT
TZOFFSETFROM:+0100
TZOFFSETTO:+0200
TZNAME:CEST
DTSTART:20250330T010000
END:DAYLIGHT
BEGIN:STANDARD
TZOFFSETFROM:+0200
TZOFFSETTO:+0100
TZNAME:CET
DTSTART:20251026T010000
END:STANDARD
END:VTIMEZONE
BEGIN:VEVENT
DTSTART;VALUE=DATE:20241018
DTEND;VALUE=DATE:20241020
DTSTAMP:20260420T150842
CREATED:20240926T111344Z
LAST-MODIFIED:20241008T142557Z
UID:34209-1729209600-1729382399@www.ehige.eus
SUMMARY:GOZO Bergara: Encuentro sobre alimentación saludable y sostenible
DESCRIPTION:Encuentro sobre alimentación saludable y sostenible\nLlega… ¡𝐆𝐎𝐙𝐎 𝐁𝐞𝐫𝐠𝐚𝐫𝐚!\n\n18-19 de octubre\nAyuntamiento de Bergara\n\n¡Te esperamos! ¡Descarga el programa e inscríbete!\nToda la información aquí.\n\n\n#gozobergara
URL:https://www.ehige.eus/es/event/gozo-bergara-encuentro-sobre-alimentacion-saludable-y-sostenible/
END:VEVENT
END:VCALENDAR