BEGIN:VCALENDAR
VERSION:2.0
PRODID:-//Ehige - ECPv6.15.20//NONSGML v1.0//EN
CALSCALE:GREGORIAN
METHOD:PUBLISH
X-ORIGINAL-URL:https://www.ehige.eus/es/
X-WR-CALDESC:Eventos para Ehige
REFRESH-INTERVAL;VALUE=DURATION:PT1H
X-Robots-Tag:noindex
X-PUBLISHED-TTL:PT1H
BEGIN:VTIMEZONE
TZID:Europe/Madrid
BEGIN:DAYLIGHT
TZOFFSETFROM:+0100
TZOFFSETTO:+0200
TZNAME:CEST
DTSTART:20210328T010000
END:DAYLIGHT
BEGIN:STANDARD
TZOFFSETFROM:+0200
TZOFFSETTO:+0100
TZNAME:CET
DTSTART:20211031T010000
END:STANDARD
BEGIN:DAYLIGHT
TZOFFSETFROM:+0100
TZOFFSETTO:+0200
TZNAME:CEST
DTSTART:20220327T010000
END:DAYLIGHT
BEGIN:STANDARD
TZOFFSETFROM:+0200
TZOFFSETTO:+0100
TZNAME:CET
DTSTART:20221030T010000
END:STANDARD
BEGIN:DAYLIGHT
TZOFFSETFROM:+0100
TZOFFSETTO:+0200
TZNAME:CEST
DTSTART:20230326T010000
END:DAYLIGHT
BEGIN:STANDARD
TZOFFSETFROM:+0200
TZOFFSETTO:+0100
TZNAME:CET
DTSTART:20231029T010000
END:STANDARD
END:VTIMEZONE
BEGIN:VEVENT
DTSTART;VALUE=DATE:20221003
DTEND;VALUE=DATE:20221006
DTSTAMP:20260421T060807
CREATED:20220912T150843Z
LAST-MODIFIED:20220912T150843Z
UID:25256-1664755200-1665014399@www.ehige.eus
SUMMARY:GOZO II\, jornadas internacionales sobre alimentación escolar saludable y sostenible
DESCRIPTION:Del 3 al 5 de octubre de 2022 celebraremos la segunda edición de GOZO\, jornadas internacionales sobre alimentación escolar saludable y sostenible\, en el Bizkaia Aretoa de Bilbao\, organizadas por Justicia Alimentaria y EHIGE. \nPara disfrutar del amplio programa que hemos preparado será imprescindible apuntarse previamente\, indicando las sesiones a las que se quiere acudir. \nHemos organizado las jornadas entorno a diferentes temáticas. \nToda la información en www.gozo.eus/es \n \n 
URL:https://www.ehige.eus/es/event/gozo-ii-jornadas-internacionales-sobre-alimentacion-escolar-saludable-y-sostenible/
END:VEVENT
END:VCALENDAR