BEGIN:VCALENDAR
VERSION:2.0
PRODID:-//Ehige - ECPv6.15.20//NONSGML v1.0//EN
CALSCALE:GREGORIAN
METHOD:PUBLISH
X-ORIGINAL-URL:https://www.ehige.eus/es/
X-WR-CALDESC:Eventos para Ehige
REFRESH-INTERVAL;VALUE=DURATION:PT1H
X-Robots-Tag:noindex
X-PUBLISHED-TTL:PT1H
BEGIN:VTIMEZONE
TZID:Europe/Madrid
BEGIN:DAYLIGHT
TZOFFSETFROM:+0100
TZOFFSETTO:+0200
TZNAME:CEST
DTSTART:20200329T010000
END:DAYLIGHT
BEGIN:STANDARD
TZOFFSETFROM:+0200
TZOFFSETTO:+0100
TZNAME:CET
DTSTART:20201025T010000
END:STANDARD
BEGIN:DAYLIGHT
TZOFFSETFROM:+0100
TZOFFSETTO:+0200
TZNAME:CEST
DTSTART:20210328T010000
END:DAYLIGHT
BEGIN:STANDARD
TZOFFSETFROM:+0200
TZOFFSETTO:+0100
TZNAME:CET
DTSTART:20211031T010000
END:STANDARD
BEGIN:DAYLIGHT
TZOFFSETFROM:+0100
TZOFFSETTO:+0200
TZNAME:CEST
DTSTART:20220327T010000
END:DAYLIGHT
BEGIN:STANDARD
TZOFFSETFROM:+0200
TZOFFSETTO:+0100
TZNAME:CET
DTSTART:20221030T010000
END:STANDARD
END:VTIMEZONE
BEGIN:VEVENT
DTSTART;TZID=Europe/Madrid:20210208T170000
DTEND;TZID=Europe/Madrid:20210209T190000
DTSTAMP:20260425T001248
CREATED:20210202T122943Z
LAST-MODIFIED:20210202T123201Z
UID:18547-1612803600-1612897200@www.ehige.eus
SUMMARY:Formación BIGE: informática básica CEIP Luis Briñas-Santutxu
DESCRIPTION:Los padres y madres del CEIP Luis Briñas-Santutxu recibiran formación en informática básica los días 8 y 9 de febrero de 17:00 a 19:00
URL:https://www.ehige.eus/es/event/formacion-bige-informatica-basca-ceip-luis-brinas-santutxu/
END:VEVENT
BEGIN:VEVENT
DTSTART;TZID=Europe/Madrid:20210208T173000
DTEND;TZID=Europe/Madrid:20210208T193000
DTSTAMP:20260425T001248
CREATED:20210202T081957Z
LAST-MODIFIED:20210202T105230Z
UID:18493-1612805400-1612812600@www.ehige.eus
SUMMARY:Baikara: formación en OMR\, Andoain-Lasarte-Hernani
DESCRIPTION:Desde Baikara se están llevando a cabo unas sesiones formativas online\, por zonas\, dirigidas a madres\, padres y/o tutores de los centros escolares públicos que necesiten conocer de cerca el funcionamiento de los Consejos Escolares para poder participar en los mismos con pleno conocimiento. \nEstas sesiones se llevarán a cabo en las siguientes fechas: \n4 de febrero\, Urola \n8 de febrero\, Andoain-Lasarte-Hernani \n10 de febrero\, Donostialdea \n15 de febrero\, Goierri \n18 de febrero\, Debabarrena \n22 de febrero\, Dobagoiena \nLas sesiones se llevan a cabo en los dos idiomas. A las 17\,30 en euskera y a las 18.30 en castellano.
URL:https://www.ehige.eus/es/event/baikara-formacion-en-omr-goierri-copy-copy-copy-copy/
ATTACH;FMTTYPE=image/jpeg:https://www.ehige.eus/wp-content/uploads/2021/02/Formacion-Consejos-escolares.jpg
END:VEVENT
END:VCALENDAR