BEGIN:VCALENDAR
VERSION:2.0
PRODID:-//Ehige - ECPv6.15.20//NONSGML v1.0//EN
CALSCALE:GREGORIAN
METHOD:PUBLISH
X-ORIGINAL-URL:https://www.ehige.eus/es/
X-WR-CALDESC:Eventos para Ehige
REFRESH-INTERVAL;VALUE=DURATION:PT1H
X-Robots-Tag:noindex
X-PUBLISHED-TTL:PT1H
BEGIN:VTIMEZONE
TZID:Europe/Madrid
BEGIN:DAYLIGHT
TZOFFSETFROM:+0100
TZOFFSETTO:+0200
TZNAME:CEST
DTSTART:20200329T010000
END:DAYLIGHT
BEGIN:STANDARD
TZOFFSETFROM:+0200
TZOFFSETTO:+0100
TZNAME:CET
DTSTART:20201025T010000
END:STANDARD
BEGIN:DAYLIGHT
TZOFFSETFROM:+0100
TZOFFSETTO:+0200
TZNAME:CEST
DTSTART:20210328T010000
END:DAYLIGHT
BEGIN:STANDARD
TZOFFSETFROM:+0200
TZOFFSETTO:+0100
TZNAME:CET
DTSTART:20211031T010000
END:STANDARD
BEGIN:DAYLIGHT
TZOFFSETFROM:+0100
TZOFFSETTO:+0200
TZNAME:CEST
DTSTART:20220327T010000
END:DAYLIGHT
BEGIN:STANDARD
TZOFFSETFROM:+0200
TZOFFSETTO:+0100
TZNAME:CET
DTSTART:20221030T010000
END:STANDARD
END:VTIMEZONE
BEGIN:VEVENT
DTSTART;TZID=Europe/Madrid:20210206T103000
DTEND;TZID=Europe/Madrid:20210206T123000
DTSTAMP:20260425T001248
CREATED:20210202T083251Z
LAST-MODIFIED:20210202T083251Z
UID:18498-1612607400-1612614600@www.ehige.eus
SUMMARY:BIGE: Asamblea General online
DESCRIPTION:La Asamblea General de BIGE que se celebrará el próximo sábado día 6 de febrero de 2021 de manera online a las 10:30 h. \nOrden del día:\n– Aprobación\, si procede\, del acta de la Asamblea Ordinaria del 18 de enero de 2020.\n– Memoria económica y de actividades del curso 2019-20.\n– Plan de actividades y presupuesto del curso 2020-21.\n– Ruegos y preguntas \nPara poder realizar la asamblea con toda la seguridad\, deberéis de enviarnos por email (bige@bige.eus)\, el nombre y correo electrónico de la(s) persona(s) que vaya a participar en nombre de vuestra asociación. La asamblea se realizará por zoom por lo que es muy importante que todas las personas que se vayan a conectar tengan descargada dicha aplicación.
URL:https://www.ehige.eus/es/event/bige-asamblea-general-online/
ATTACH;FMTTYPE=image/jpeg:https://www.ehige.eus/wp-content/uploads/2020/01/Asamblea-General-2020-1.jpg
END:VEVENT
END:VCALENDAR