BEGIN:VCALENDAR
VERSION:2.0
PRODID:-//Ehige - ECPv6.15.20//NONSGML v1.0//EN
CALSCALE:GREGORIAN
METHOD:PUBLISH
X-ORIGINAL-URL:https://www.ehige.eus/es/
X-WR-CALDESC:Eventos para Ehige
REFRESH-INTERVAL;VALUE=DURATION:PT1H
X-Robots-Tag:noindex
X-PUBLISHED-TTL:PT1H
BEGIN:VTIMEZONE
TZID:Europe/Madrid
BEGIN:DAYLIGHT
TZOFFSETFROM:+0100
TZOFFSETTO:+0200
TZNAME:CEST
DTSTART:20190331T010000
END:DAYLIGHT
BEGIN:STANDARD
TZOFFSETFROM:+0200
TZOFFSETTO:+0100
TZNAME:CET
DTSTART:20191027T010000
END:STANDARD
BEGIN:DAYLIGHT
TZOFFSETFROM:+0100
TZOFFSETTO:+0200
TZNAME:CEST
DTSTART:20200329T010000
END:DAYLIGHT
BEGIN:STANDARD
TZOFFSETFROM:+0200
TZOFFSETTO:+0100
TZNAME:CET
DTSTART:20201025T010000
END:STANDARD
BEGIN:DAYLIGHT
TZOFFSETFROM:+0100
TZOFFSETTO:+0200
TZNAME:CEST
DTSTART:20210328T010000
END:DAYLIGHT
BEGIN:STANDARD
TZOFFSETFROM:+0200
TZOFFSETTO:+0100
TZNAME:CET
DTSTART:20211031T010000
END:STANDARD
END:VTIMEZONE
BEGIN:VEVENT
DTSTART;VALUE=DATE:20201125
DTEND;VALUE=DATE:20201127
DTSTAMP:20260424T194102
CREATED:20201023T080010Z
LAST-MODIFIED:20201023T105222Z
UID:13285-1606262400-1606435199@www.ehige.eus
SUMMARY:6ª edición de Eskola Digitala
DESCRIPTION:Los días 25 y 26 de noviembre celebraremos la 6ª edición de Eskola Digitala que cancelamos el pasado mes de marzo. Más allá del “terremoto” provocado por la pandemia al sistema educativo y a los procesos de aprendizaje\, las comunidades escolares debemos empezar a dibujar\, junto a todos los agentes implicados en la mejora de la educación\, la escuela del futuro​\, una escuela que ayude al alumnado a desarrollar las competencias que necesitarán para afrontar los retos del siglo XXI.\n\nTodas las actividades (charlas de personas expertas\, experiencias educativas\, talleres) estarán basadas en los siguientes ejes conceptuales: \n\nInclusión digital.\n¿Qué hemos aprendido en el confinamiento?\nEscuelas seguras.\nEl euskara en el entorno digital.\nLa investigación como palanca de cambio.\n\n¡Apuntad los días en vuestras agendas y os iremos informando!
URL:https://www.ehige.eus/es/event/6o-encuentro-eskola-digitala/
ATTACH;FMTTYPE=image/jpeg:https://www.ehige.eus/wp-content/uploads/2020/10/Irudiak-2020-154.jpg
END:VEVENT
END:VCALENDAR