BEGIN:VCALENDAR
VERSION:2.0
PRODID:-//Ehige - ECPv6.15.20//NONSGML v1.0//EN
CALSCALE:GREGORIAN
METHOD:PUBLISH
X-WR-CALNAME:Ehige
X-ORIGINAL-URL:https://www.ehige.eus/es/
X-WR-CALDESC:Eventos para Ehige
REFRESH-INTERVAL;VALUE=DURATION:PT1H
X-Robots-Tag:noindex
X-PUBLISHED-TTL:PT1H
BEGIN:VTIMEZONE
TZID:Europe/Madrid
BEGIN:DAYLIGHT
TZOFFSETFROM:+0100
TZOFFSETTO:+0200
TZNAME:CEST
DTSTART:20190331T010000
END:DAYLIGHT
BEGIN:STANDARD
TZOFFSETFROM:+0200
TZOFFSETTO:+0100
TZNAME:CET
DTSTART:20191027T010000
END:STANDARD
BEGIN:DAYLIGHT
TZOFFSETFROM:+0100
TZOFFSETTO:+0200
TZNAME:CEST
DTSTART:20200329T010000
END:DAYLIGHT
BEGIN:STANDARD
TZOFFSETFROM:+0200
TZOFFSETTO:+0100
TZNAME:CET
DTSTART:20201025T010000
END:STANDARD
BEGIN:DAYLIGHT
TZOFFSETFROM:+0100
TZOFFSETTO:+0200
TZNAME:CEST
DTSTART:20210328T010000
END:DAYLIGHT
BEGIN:STANDARD
TZOFFSETFROM:+0200
TZOFFSETTO:+0100
TZNAME:CET
DTSTART:20211031T010000
END:STANDARD
END:VTIMEZONE
BEGIN:VEVENT
DTSTART;TZID=Europe/Madrid:20201010T110000
DTEND;TZID=Europe/Madrid:20201010T123000
DTSTAMP:20260424T181627
CREATED:20201007T092717Z
LAST-MODIFIED:20201008T102211Z
UID:17018-1602327600-1602333000@www.ehige.eus
SUMMARY:Manifestación por la enseñanza en euskera en Iparralde
DESCRIPTION:La Confederación Vasca y los principales agentes educativos que trabajan a favor de la enseñanza en euskera han denunciado los ataques que recibe la enseñanza en euskera en Iparralde. Además\, han llamado a la movilización el 10 de octubre junto a otros 30 agentes que trabajan por las lenguas minoritarias. En el caso de Ipar Euskal\, la movilización tendrá lugar en Baiona\, donde se celebrará una cadena humana a las 11:00 horas. \nNoticia completa aquí.
URL:https://www.ehige.eus/es/event/manifestacion-por-la-ensenanza-en-euskera-en-iparralde/
LOCATION:Baiona
END:VEVENT
END:VCALENDAR