BEGIN:VCALENDAR
VERSION:2.0
PRODID:-//Ehige - ECPv6.15.20//NONSGML v1.0//EN
CALSCALE:GREGORIAN
METHOD:PUBLISH
X-WR-CALNAME:Ehige
X-ORIGINAL-URL:https://www.ehige.eus/es/
X-WR-CALDESC:Eventos para Ehige
REFRESH-INTERVAL;VALUE=DURATION:PT1H
X-Robots-Tag:noindex
X-PUBLISHED-TTL:PT1H
BEGIN:VTIMEZONE
TZID:Europe/Madrid
BEGIN:DAYLIGHT
TZOFFSETFROM:+0100
TZOFFSETTO:+0200
TZNAME:CEST
DTSTART:20190331T010000
END:DAYLIGHT
BEGIN:STANDARD
TZOFFSETFROM:+0200
TZOFFSETTO:+0100
TZNAME:CET
DTSTART:20191027T010000
END:STANDARD
BEGIN:DAYLIGHT
TZOFFSETFROM:+0100
TZOFFSETTO:+0200
TZNAME:CEST
DTSTART:20200329T010000
END:DAYLIGHT
BEGIN:STANDARD
TZOFFSETFROM:+0200
TZOFFSETTO:+0100
TZNAME:CET
DTSTART:20201025T010000
END:STANDARD
BEGIN:DAYLIGHT
TZOFFSETFROM:+0100
TZOFFSETTO:+0200
TZNAME:CEST
DTSTART:20210328T010000
END:DAYLIGHT
BEGIN:STANDARD
TZOFFSETFROM:+0200
TZOFFSETTO:+0100
TZNAME:CET
DTSTART:20211031T010000
END:STANDARD
END:VTIMEZONE
BEGIN:VEVENT
DTSTART;TZID=Europe/Madrid:20200926T100000
DTEND;TZID=Europe/Madrid:20200926T143000
DTSTAMP:20260424T164945
CREATED:20200911T074648Z
LAST-MODIFIED:20200915T065026Z
UID:16558-1601114400-1601130600@www.ehige.eus
SUMMARY:Jolastokia\, egin! Experiencias y reflexiones para la transformación participativa
DESCRIPTION:La Ikastola Odon de Apraiz de Vitoria-Gasteiz ha organizado la jornada «Jolastokia\, egin! Experiencias y reflexiones para la transformación participativa». Adecuándonos a la situación actual\, la jornada se celebrará el día 26 de septiembre de manera online. Tras la inscripción\, se hará llegar el enlace de acceso a la jornada a través de un e-mail. Por tanto\, es importante que te asegures de que la dirección electrónica facilitada es correcta. \nConoce el programa. \nCumplimentar el cuestionario. Se recomienda que solo lo rellene una persona de la la comunidad educativa. \nPara inscribirse rellenad este cuestionario. \n 
URL:https://www.ehige.eus/es/event/jolastokia-egin-experiencias-y-reflexiones-para-la-transformacion-participativa/
END:VEVENT
END:VCALENDAR