BEGIN:VCALENDAR
VERSION:2.0
PRODID:-//Ehige - ECPv6.15.20//NONSGML v1.0//EN
CALSCALE:GREGORIAN
METHOD:PUBLISH
X-ORIGINAL-URL:https://www.ehige.eus/es/
X-WR-CALDESC:Eventos para Ehige
REFRESH-INTERVAL;VALUE=DURATION:PT1H
X-Robots-Tag:noindex
X-PUBLISHED-TTL:PT1H
BEGIN:VTIMEZONE
TZID:Europe/Madrid
BEGIN:DAYLIGHT
TZOFFSETFROM:+0100
TZOFFSETTO:+0200
TZNAME:CEST
DTSTART:20190331T010000
END:DAYLIGHT
BEGIN:STANDARD
TZOFFSETFROM:+0200
TZOFFSETTO:+0100
TZNAME:CET
DTSTART:20191027T010000
END:STANDARD
BEGIN:DAYLIGHT
TZOFFSETFROM:+0100
TZOFFSETTO:+0200
TZNAME:CEST
DTSTART:20200329T010000
END:DAYLIGHT
BEGIN:STANDARD
TZOFFSETFROM:+0200
TZOFFSETTO:+0100
TZNAME:CET
DTSTART:20201025T010000
END:STANDARD
BEGIN:DAYLIGHT
TZOFFSETFROM:+0100
TZOFFSETTO:+0200
TZNAME:CEST
DTSTART:20210328T010000
END:DAYLIGHT
BEGIN:STANDARD
TZOFFSETFROM:+0200
TZOFFSETTO:+0100
TZNAME:CET
DTSTART:20211031T010000
END:STANDARD
END:VTIMEZONE
BEGIN:VEVENT
DTSTART;TZID=Europe/Madrid:20200924T190000
DTEND;TZID=Europe/Madrid:20200924T220000
DTSTAMP:20260424T165056
CREATED:20200915T151640Z
LAST-MODIFIED:20200915T151640Z
UID:16638-1600974000-1600984800@www.ehige.eus
SUMMARY:Webinar: Emergencia climática
DESCRIPTION:El jueves 24 de septiembre se celebrará la jornada «Pasado y presente de la educación medioambiental. Luces y sombras«\, organizado por CCOO Irakaskuntza.  \n¿Somos conscientes de la situación en la que estamos dejando el Planeta? ¿Cómo podemos contribuir desde la Educación para modificar esta situación? ¿Están los gobiernos en clave de emergencia climática? ¿De quién es la responsabilidad de actuar con medidas contundentes para frenar el deterioro medioambiental? ¿Estamos a tiempo? ¿Podemos aportar algo desde el ámbito sindical? \nPara participar es necesario inscribirse. 
URL:https://www.ehige.eus/es/event/webinar-emergencia-climatica/
END:VEVENT
END:VCALENDAR