BEGIN:VCALENDAR
VERSION:2.0
PRODID:-//Ehige - ECPv6.15.20//NONSGML v1.0//EN
CALSCALE:GREGORIAN
METHOD:PUBLISH
X-ORIGINAL-URL:https://www.ehige.eus/es/
X-WR-CALDESC:Eventos para Ehige
REFRESH-INTERVAL;VALUE=DURATION:PT1H
X-Robots-Tag:noindex
X-PUBLISHED-TTL:PT1H
BEGIN:VTIMEZONE
TZID:Europe/Madrid
BEGIN:DAYLIGHT
TZOFFSETFROM:+0100
TZOFFSETTO:+0200
TZNAME:CEST
DTSTART:20180325T010000
END:DAYLIGHT
BEGIN:STANDARD
TZOFFSETFROM:+0200
TZOFFSETTO:+0100
TZNAME:CET
DTSTART:20181028T010000
END:STANDARD
BEGIN:DAYLIGHT
TZOFFSETFROM:+0100
TZOFFSETTO:+0200
TZNAME:CEST
DTSTART:20190331T010000
END:DAYLIGHT
BEGIN:STANDARD
TZOFFSETFROM:+0200
TZOFFSETTO:+0100
TZNAME:CET
DTSTART:20191027T010000
END:STANDARD
BEGIN:DAYLIGHT
TZOFFSETFROM:+0100
TZOFFSETTO:+0200
TZNAME:CEST
DTSTART:20200329T010000
END:DAYLIGHT
BEGIN:STANDARD
TZOFFSETFROM:+0200
TZOFFSETTO:+0100
TZNAME:CET
DTSTART:20201025T010000
END:STANDARD
END:VTIMEZONE
BEGIN:VEVENT
DTSTART;TZID=Europe/Madrid:20191109T093000
DTEND;TZID=Europe/Madrid:20191109T130000
DTSTAMP:20260424T051537
CREATED:20191028T104745Z
LAST-MODIFIED:20191028T105323Z
UID:13002-1573291800-1573304400@www.ehige.eus
SUMMARY:Asamblea General de Denon Eskola
DESCRIPTION:El próximo 9 de noviembre\, sábado\, se celebrará la Asamblea General Ordinaria de Denon Eskola. En la misma se someterán a la aprobación de las AMPA asociadas la memoria de actividades y las cuentas del curso pasado 2018/2019 así como la propuesta de actividades y el presupuesto para el 2019/2020. \nAdemás contaremos con la pesencia de Amelia Barquin que en la segunda parte del encuentro nos guiará para debatir sobre “Coeducar en casa y en la escuela. Los retos de la vida diaria”.
URL:https://www.ehige.eus/es/event/asamblea-general-de-denon-eskola/
LOCATION:Vitoria-Gasteiz
ATTACH;FMTTYPE=image/png:https://www.ehige.eus/wp-content/uploads/2019/10/1.png
END:VEVENT
BEGIN:VEVENT
DTSTART;TZID=Europe/Madrid:20191109T093000
DTEND;TZID=Europe/Madrid:20191109T193000
DTSTAMP:20260424T051537
CREATED:20191028T110515Z
LAST-MODIFIED:20191028T131613Z
UID:13019-1573291800-1573327800@www.ehige.eus
SUMMARY:Jornada Euskera eta demografia
DESCRIPTION:El día 9 de noviembre se celebrará la jornada Euskera eta demografia en la ikastola Ibaizabal de Durango. Conoce aquí el cartel y el programa.
URL:https://www.ehige.eus/es/event/jornada-euskera-eta-demografia/
LOCATION:Durango
ATTACH;FMTTYPE=image/jpeg:https://www.ehige.eus/wp-content/uploads/2019/10/euskara-eta-demografia.jpg
END:VEVENT
END:VCALENDAR