BEGIN:VCALENDAR
VERSION:2.0
PRODID:-//Ehige - ECPv6.15.20//NONSGML v1.0//EN
CALSCALE:GREGORIAN
METHOD:PUBLISH
X-WR-CALNAME:Ehige
X-ORIGINAL-URL:https://www.ehige.eus/es/
X-WR-CALDESC:Eventos para Ehige
REFRESH-INTERVAL;VALUE=DURATION:PT1H
X-Robots-Tag:noindex
X-PUBLISHED-TTL:PT1H
BEGIN:VTIMEZONE
TZID:Europe/Madrid
BEGIN:DAYLIGHT
TZOFFSETFROM:+0100
TZOFFSETTO:+0200
TZNAME:CEST
DTSTART:20180325T010000
END:DAYLIGHT
BEGIN:STANDARD
TZOFFSETFROM:+0200
TZOFFSETTO:+0100
TZNAME:CET
DTSTART:20181028T010000
END:STANDARD
BEGIN:DAYLIGHT
TZOFFSETFROM:+0100
TZOFFSETTO:+0200
TZNAME:CEST
DTSTART:20190331T010000
END:DAYLIGHT
BEGIN:STANDARD
TZOFFSETFROM:+0200
TZOFFSETTO:+0100
TZNAME:CET
DTSTART:20191027T010000
END:STANDARD
BEGIN:DAYLIGHT
TZOFFSETFROM:+0100
TZOFFSETTO:+0200
TZNAME:CEST
DTSTART:20200329T010000
END:DAYLIGHT
BEGIN:STANDARD
TZOFFSETFROM:+0200
TZOFFSETTO:+0100
TZNAME:CET
DTSTART:20201025T010000
END:STANDARD
END:VTIMEZONE
BEGIN:VEVENT
DTSTART;TZID=Europe/Madrid:20191010T151500
DTEND;TZID=Europe/Madrid:20191010T170000
DTSTAMP:20260424T035716
CREATED:20191007T081549Z
LAST-MODIFIED:20191008T084938Z
UID:12557-1570720500-1570726800@www.ehige.eus
SUMMARY:Formación: ¿cómo ayudar a nuestros hijos e hijas en las tareas escolares si no sabemos euskera
DESCRIPTION:El objetivo de este taller es ofrecer a  padres y a las madres que no saben euskera herramientas prácticas para ayudar a los hijos e hijas en las tareas escolares. Por ese motivo se celebrará una charla informativa el día 10 de octubre a las 15:15 en el Kontxa Eskola.
URL:https://www.ehige.eus/es/event/como-ayudar-a-nuestros-hijos-e-hijas-en-las-tareas-escolares-si-no-sabemos-euskera/
LOCATION:Kontxa Eskola\, Calle General Concha\, 18\, Bilbao
ATTACH;FMTTYPE=image/png:https://www.ehige.eus/wp-content/uploads/2019/10/¿CÓMO-AYUDAR-A-NUESTROS-HIJOS-E-HIJAS-EN-LAS-TAREAS-ESCOLARES-SI-NO-SABEMOS-EUSKERA_.png
END:VEVENT
END:VCALENDAR